Workbook
Name _Hlk218073730: 'Ng Thị Hòa(5-14)'!$K$25
Name _Hlk218762431: 'Ng Thị Hòa(5-14)'!$K$25
Name _Hlk218953081: 'Trần Cao Giới(5-43)'!$K$25
Name _Hlk219100896: 'Ng Thị Sinh(8-17)'!$K$25
Name _Hlk219100896: 'Trần Huy Chuyển(8-37)'!$K$25
Name _Hlk219104972: 'Nguyễn Thị Nguyên (5-45)'!$J$25

Sheet Kangatang

Sheet foxz

Sheet foxz_2

Sheet foxz_3

Sheet foxz_4

Sheet foxz_5

Sheet foxz_6

Sheet foxz_7

Sheet foxz_8

Sheet foxz_9

Sheet foxz_10

Sheet foxz_11

Sheet foxz_12

Sheet foxz_13

Sheet foxz_14

Sheet foxz_15

Sheet foxz_16

Sheet foxz_17

Sheet foxz_18

Sheet foxz_19

Sheet foxz_20

Sheet foxz_21

Sheet foxz_22

Sheet foxz_23

Sheet foxz_24

Sheet foxz_25

Sheet foxz_26

Sheet foxz_27

Sheet foxz_28

Sheet foxz_29

Sheet foxz_30

Sheet foxz_31

Sheet foxz_32

Sheet foxz_33

Sheet foxz_34

Sheet foxz_35

Sheet foxz_36

Sheet foxz_37

Sheet foxz_38

Sheet foxz_39

Sheet foxz_40

Sheet Ng Vũ Mạnh(5-23+86)
A1: BAN QLDA ĐẦU TƯ XÂY DỰNG | E1: CỘNG HÒA XÃ HỘI CHỦ NGHĨA VIỆT NAM
A2: CÔNG TRÌNH GIAO THÔNG TP HÀ NỘI | E2: Độc lập - Tự do - Hạnh phúc
A4: DỰ THẢO | E4: Hà Nội, ngày tháng 03 năm 2026
A5: PHƯƠNG ÁN CHI TIẾT BỒI THƯỜNG, HỖ TRỢ VÀ TÁI ĐỊNH CƯ
A6: Dự án thành phần 1.2: Bồi thường, hỗ trợ và tái định cư thực hiện giải phóng mặt bằng trên địa bàn huyện Chương Mỹ thuộc Dự án đầu tư cải tạo, nâng cấp Quốc Lộ 6 đoạn Ba La - Xuân Mai (Trên địa giới hành chính xã Phú Nghĩa)
A7: (Kèm theo Thông báo số: /TB-UBND ngày /3/2026 của Ủy ban nhân dân xã Phú Nghĩa)
A8: I. | B8: NGƯỜI SỬ DỤNG ĐẤT VÀ SỞ HỮU TÀI SẢN GẮN LIỀN VỚI ĐẤT THU HỒI:
A9: 1. | B9: Họ và tên người sử dụng đất thu hồi: | F9: Nguyễn Vũ Mạnh - Nguyễn Thị Luân
B10: Nơi ở hiện nay: | C10: Thôn Thanh Trì - Xã Phú Nghĩa - TP Hà Nội
B11: Nơi thường trú: | C11: Thôn Thanh Trì - Xã Phú Nghĩa - TP Hà Nội
B12: Số định danh cá nhân: | C12: 001090006511
A13: 2. | B13: Họ và tên người sở hữu tài sản gắn liền với đất thu hồi: | F13: =F9 -> Nguyễn Vũ Mạnh - Nguyễn Thị Luân
B14: Nơi ở hiện nay: | C14: =+C10 -> Thôn Thanh Trì - Xã Phú Nghĩa - TP Hà Nội
B15: Nơi thường trú: | C15: =C11 -> Thôn Thanh Trì - Xã Phú Nghĩa - TP Hà Nội
B16: Số định danh cá nhân: | C16: =+C12 -> 001090006511
A17: II | B17: HIỆN TRẠNG SỦ DỤNG ĐẤT VÀ TÀI SẢN GẮN LIỀN VỚI ĐẤT THU HỒI:
A18: 1. | B18: Hiện trạng sử dụng đất:
B19: Thửa đất số: | C19: 23+86 | D19: Tờ bản đồ số: | F19: 05
B20: Diện tích thửa đất: | C20: 491.8 | D20: m2
B21: Trong đó:
B22: Trong chỉ giới GPMB: | C22: 70.5 | D22: m2
B23: Ngoài chỉ giới GPMB: | C23: =C20-C22 -> 421.3 | D23: m2
B24: Vị trí, địa điểm thu hồi đất: | C24: Vị trí 1-Quốc Lộ 6 - Thôn Thanh Trì- xã Phú Nghĩa - TP Hà Nội
A25: 4. | B25: Nguồn gốc, thời gian sử dụng đất: | C25: - Tại thửa số 23 tờ bản đồ số 05: Ông Nguyễn Vũ Mạnh nhận tặng cho quyền sử dụng đất được UBND huyện Chương Mỹ cấp giấy chứng nhận quyền sử dụng đất tại thửa đất số 523, tờ bản đồ số 38, số phát hành BP865741, số vào sổ cấp GCN QSDĐ 00966, với diện tích 261,5m2 cấp ngày 19/05/2014. Địa chỉ thửa đất: Thôn Thanh Trì, xã Phú Nghĩa, thành phố Hà Nội. Mục đích sử dụng: 120m2 đất ở, 141,5m2 đất trồng cây lâu năm đến tháng 10/2043. - Tại thửa số 86 tờ bản đồ số 05: Hộ bà Nguyễn Thị Luân được UBND huyện Chương Mỹ cấp tại thửa đất số 68 tờ bản đồ số 38, số phát hành BP865742, số vào sổ cấp GCN QSDĐ 00965, với diện tích 133,2m2 cấp ngày 19/05/2014. Địa chỉ thửa đất: Thôn Thanh Trì, xã Phú Nghĩa, thành phố Hà Nội. Mục đích sử dụng: 60,0m2 đất ở, 73,2m2 đất trồng cây lâu năm đến tháng 10/2043. Tổng diện tích hiện trạng 491,8m2 tăng 97,1m2 so với giấy chứng nhận quyền sử dụng đất của ông Nguyễn Vũ Mạnh và giấy chứng nhận quyền sử dụng đất của hộ bà Nguyễn Thị Luân đã được cấp. - Đối chiếu với các cạnh thửa đất giữa Bản đồ GPMB; Giấy chứng nhận quyền sử dụng đất được cấp của hộ, xác định tăng 97,1m2 về phía Nam đường Quốc lộ 6. - Căn cứ Bản đồ phục vụ công tác GPMB; Nghị định số 203-HĐBT ngày 21/12/1982 của Hội đồng Bộ trưởng về việc ban hành điều lệ bảo vệ đường bộ, Giấy chứng nhận quyền sử dụng đất của ông Nguyễn Vũ Mạnh và giấy chứng nhận quyền sử dụng đất của hộ bà Nguyễn Thị Luân. Phòng Kinh tế xác định diện tích thu hồi 70,5m2 đất do ông Nguyễn Vũ Mạnh và hộ bà Nguyễn Thị Luân sử dụng là đất giao thông đường Quốc lộ 6 (DGT).
A26: 5. | B26: Số hộ gia đình (số cặp vợ chồng): | H26: 01 | I26: hộ
A27: 6. | B27: Số nhân khẩu | H27: 06 | I27: khẩu
A28: III. | B28: PHƯƠNG ÁN BỒI THƯỜNG, HỖ TRỢ VÀ TÁI ĐỊNH CƯ:
A29: 1. | B29: Bồi thường về đất và tái định cư:
A30: TT | B30: Tiền Bồi thường (Giá trị quyền sử dụng đất của diện tích đất thu hồi)
B31: Loại đất | D31: Đơn vị tính | E31: Khối lượng | F31: Đơn giá (đồng/m2) | G31: Tỷ lệ BT, HT (%) | H31: Thành tiền 1 (đồng) | I31: Ghi chú
A32: 1 | B32: 2 | D32: 3 | E32: 4 | F32: 5 | G32: 6 | H32: 7 | I32: 8
A33: 1 | B33: Đất giao thông đường Quốc lộ 6 (DGT) | D33: m2 | E33: =C22 -> 70.5 | H33: =E33*F33*G33 -> 0
B34: Cộng: | H34: =SUM(H33:H33) -> 0
A36: 2. | B36: Bồi thường bằng đất ở hoặc nhà ở tái định cư (nếu có)
A37: TT | B37: Loại đất | D37: Đơn vị tính | E37: Khối lượng | F37: Đơn giá (đồng/m2) | G37: Tỷ lệ BT, HT (%) | H37: Thành tiền 2 (đồng) | I37: Ghi chú
A38: 1 | B38: 2 | D38: 3 | E38: 4 | F38: 5 | G38: 6 | H38: 7 | I38: 8
A39: 1 | I39: Không bố trí tái định cư.
B40: Cộng:
B42: Số tiền chênh lệch giữa tiền bồi thường đất thu hồi và tiền đất ở, nhà ở tái định cư được bố trí: | I42: Không
B43: * Người bị thu hồi đất được nhận (nếu thành tiền 1 lớn hơn thành tiền 2) | I43: Không
B44: * Người bị thu hồi đất phải nộp (nếu thành tiền 1 nhỏ hơn thành tiền 2) | I44: Không
A46: 3. | B46: Bồi thường, hỗ trợ về tài sản gắn liền với đất bị thu hồi:
A47: TT | B47: Tên tài sản | C47: Đơn vị tính | D47: Quy cách tài sản | E47: Khối lượng | F47: Đơn giá | G47: Tỷ lệ BT, HT (%) | H47: Thành tiền (đ) | I47: Ghi chú
A48: 1 | B48: 2 | C48: 3 | D48: 4 | E48: 5 | F48: 6 | G48: 7 | H48: 8 | I48: 9
A49: A. | B49: Nhà ở, công trình xây dựng | H49: =SUM(H50:H60) -> 0
A50: 1 | B50: Sân bê tông | C50: m2 | D50: 3,5 x 9,96 | E50: =3.5*9.96 -> 34.86 | I50: Không bồi thường theo Điều 105 Luật Đất đai 2024
A51: 2 | B51: Mái vẩy lợp tôn khung vì kèo sắt | C51: m2 | D51: 4,5 x 9,96 | E51: =4.5*9.96 -> 44.82
A52: 3 | B52: Sân lát gạch đỏ 30*30 | C52: m2 | D52: 8 x 9,96 | E52: =8*9.96 -> 79.68
A53: 4 | B53: Nhà mái Fbroximang, tường 110, cao >3m trần nhựa, nền lát gạch đỏ, có khu phụ | C53: m2 | D53: (7,2x5,1) +(3,01x6,08) | E53: =(7.2*5.1)+(3.01*6.08) -> 55.0208
B54: - Diện tích nhà trong chỉ giới | C54: m2 | D54: ((2,35+1,85)/2 x 6,08) +(7,2x5,1) | E54: 49.48
B55: - Diện tích nhà ngoài chỉ giới | C55: m2 | E55: =E53-E54 -> 5.5408
A56: * | B56: Trần nhựa | C56: m2 | D56: = S nhà | E56: =E53 -> 55.0208
B57: - Diện tích trần nhựa trong chỉ giới | C57: m2 | D57: = S nhà trong chỉ giới | E57: =E54 -> 49.48
B58: - Diện tích trần nhựa ngoài chỉ giới | C58: m2 | D58: = S nhà ngoài chỉ giới | E58: =E55 -> 5.5408
A59: 5 | B59: Trụ cổng xây gạch cao 2,5m | C59: m2 | D59: 2,06 x 2,5 | E59: =2.06*2.5 -> 5.15
A60: 6 | B60: Sân gạch đỏ trong ranh thửa đất | C60: m2 | D60: = S đất trong chỉ giới - S nhà trong chỉ giới | E60: =C22-E54 -> 21.02
A61: B. | B61: Cây trồng, vật nuôi là thủy sản | H61: =SUM(H62:H62) -> 0
A62: 1 | B62: Cây Bàng | C62: cây | D62: 20cm<ĐKT<25cm, | E62: 1 | I62: Không bồi thường theo Điều 105 Luật Đất đai 2024
B63: Cộng (A+B) : | H63: =H49+H61 -> 0
A64: 4 | B64: Các khoản bồi thường, hỗ trợ khác:
A65: TT | B65: Khoản bồi thường, hỗ trợ | D65: Khối lượng | E65: Đơn vị tính | F65: Đơn giá | G65: Hệ số điều chỉnh | H65: Thành tiền (đ) | I65: Ghi chú
B67: Cộng: | H67: =SUM(H66) -> 0
A68: 5 | B68: Tổng cộng tiền bồi thường, hỗ trợ được nhận (1+2+3+4): | H68: =H67+H63+H40+H34 -> 0 | I68: đồng
B69: Bằng chữ: | C69: Không đồng ./.
F70: KT. CHỦ TỊCH
F71: PHÓ CHỦ TỊCH
F78: Trần Văn Sơn
A79: Ban Quản lý dự án đầu tư xây dựng công trình giao thông TP Hà Nội phối hợp với UBND Xã Phú Nghĩa tiến hành công khai phương án dự thảo chi tiết tới hộ gia đình trong vòng 10 ngày. Trong thời gian công khai nếu hộ gia đình có ý kiến thắc mắc về bản Dự thảo phương án chi tiết bồi thường, hỗ trợ & TĐC này thì gửi đơn về Phòng Kinh Tế - UBND Xã Phú Nghĩa.
A80: Ý kiến của hộ gia đình, cá nhân (Đánh dấu "x" vào ô S )
A81: Tôi đồng ý với phương án dự thảo chi tiết trên và đề nghị UBND xã Phú Nghĩa phê duyệt phương án bồi thường, hỗ trợ & tái định cư và ban hành Quyết định thu hồi đất * | E81: Tôi không đồng ý với phương án dự thảo chi tiết trên *
A84: (Hộ gia đình ký và ghi rõ họ tên)

Sheet Trần Cao Giới(5-43)
A1: BAN QLDA ĐẦU TƯ XÂY DỰNG | E1: CỘNG HÒA XÃ HỘI CHỦ NGHĨA VIỆT NAM
A2: CÔNG TRÌNH GIAO THÔNG TP HÀ NỘI | E2: Độc lập - Tự do - Hạnh phúc
A4: DỰ THẢO | E4: Hà Nội, ngày tháng 3 năm 2026
A5: PHƯƠNG ÁN CHI TIẾT BỒI THƯỜNG, HỖ TRỢ VÀ TÁI ĐỊNH CƯ
A6: Dự án thành phần 1.2: Bồi thường, hỗ trợ và tái định cư thực hiện giải phóng mặt bằng trên địa bàn huyện Chương Mỹ thuộc Dự án đầu tư cải tạo, nâng cấp Quốc Lộ 6 đoạn Ba La - Xuân Mai (Trên địa giới hành chính xã Phú Nghĩa)
A7: (Kèm theo Thông báo số: /TB-UBND ngày /3/2026 của Ủy ban nhân dân xã Phú Nghĩa)
A8: I. | B8: NGƯỜI SỬ DỤNG ĐẤT VÀ SỞ HỮU TÀI SẢN GẮN LIỀN VỚI ĐẤT THU HỒI:
A9: 1. | B9: Họ và tên người sử dụng đất thu hồi: | F9: Trần Cao Giới
B10: Nơi ở hiện nay: | C10: Thôn Phố Gốt- Xã Phú Nghĩa - TP Hà Nội
B11: Nơi thường trú: | C11: Thôn Phố Gốt - xã Phú Nghĩa - TP Hà Nội
B12: Số định danh cá nhân: | C12: 001062025102
A13: 2. | B13: Họ và tên người sở hữu tài sản gắn liền với đất thu hồi: | F13: =F9 -> Trần Cao Giới
B14: Nơi ở hiện nay: | C14: =+C10 -> Thôn Phố Gốt- Xã Phú Nghĩa - TP Hà Nội
B15: Nơi thường trú: | C15: =C11 -> Thôn Phố Gốt - xã Phú Nghĩa - TP Hà Nội
B16: Số định danh cá nhân: | C16: =+C12 -> 001062025102
A17: II | B17: HIỆN TRẠNG SỦ DỤNG ĐẤT VÀ TÀI SẢN GẮN LIỀN VỚI ĐẤT THU HỒI:
A18: 1. | B18: Hiện trạng sử dụng đất:
B19: Thửa đất số: | C19: 43 | D19: Tờ bản đồ số: | F19: 05
B20: Diện tích thửa đất: | C20: 55.5 | D20: m2
B21: Trong đó:
B22: Trong chỉ giới GPMB: | C22: 46.1 | D22: m2
B23: Ngoài chỉ giới GPMB: | C23: =C20-C22 -> 9.4 | D23: m2
B24: Vị trí, địa điểm thu hồi đất: | C24: Vị trí 1-Quốc Lộ 6 - Thôn Phố Gốt- xã Phú Nghĩa - TP Hà Nội
A25: 4. | B25: Nguồn gốc, thời gian sử dụng đất: | C25: - Ông Trần Cao Giới được UBND xã Đông Sơn (cũ) giao đất làm dịch vụ năm 1991, với tổng diện tích 32,0m2; Biên bản giao làm dịch vụ ngày 30/11/1991 mang tên ông Nguyễn Văn Giới ngoài ra không có giấy tờ gì khác, ông Giới sử dụng đến nay. - Tổng diện tích hiện trạng 55,5m2 tăng 23,5m2 so với diện tích được so với diện tích đất được giao.Đối chiếu với các cạnh thửa đất giữa Bản đồ GPMB; Biên bản giao đất dịch vụ của ông Trần Cao Giới, xác định tăng 23,5m2, trong đó: Tăng 7,5m2 về phía Bắc, tăng 16,0m2 về phía Nam đường Quốc lộ 6. - UBND xã Đông Sơn (cũ) giao đất dịch vụ vào đất hành lang giao thông quy định tại Nghị định số 203-HĐBT ngày 21/12/1982 của Hội đồng Bộ trưởng về việc ban hành điều lệ bảo vệ đường bộ có hiệu lực thi hành quy định hành lang là 28m (tính từ tim đường ra mỗi bên), do vậy diện tích thu hồi 46,1m2 là đất hành lang giao thông. (Trong đó: 30,1m2 đất dịch vụ nằm trong hành lang giao thông, 16,0m2 đất hành lang giao thông đường Quốc lộ 6). Không đủ điều kiện cấp giấy chứng nhận quyền sử dụng đất theo quy định của Luật Đất đai năm 2024. Phòng Kinh tế xác định diện tích thu hồi 46,1m2 đất Ông Trần Cao Giới sử dụng là đất giao thông đường Quốc lộ 6 (DGT).
A26: 5. | B26: Số hộ gia đình (số cặp vợ chồng): | H26: 01 | I26: hộ
A27: 6. | B27: Số nhân khẩu | H27: 04 | I27: khẩu
A28: III. | B28: PHƯƠNG ÁN BỒI THƯỜNG, HỖ TRỢ VÀ TÁI ĐỊNH CƯ:
A29: 1. | B29: Bồi thường về đất và tái định cư:
A30: TT | B30: Tiền Bồi thường (Giá trị quyền sử dụng đất của diện tích đất thu hồi)
B31: Loại đất | D31: Đơn vị tính | E31: Khối lượng | F31: Đơn giá (đồng/m2) | G31: Tỷ lệ BT, HT (%) | H31: Thành tiền 1 (đồng) | I31: Ghi chú
A32: 1 | B32: 2 | D32: 3 | E32: 4 | F32: 5 | G32: 6 | H32: 7 | I32: 8
A33: 1 | B33: Đất giao thông đường Quốc lộ 6 (DGT) | D33: m2 | E33: =C22 -> 46.1 | H33: =E33*F33*G33 -> 0
B34: Cộng: | H34: =SUM(H33:H33) -> 0
A36: 2. | B36: Bồi thường bằng đất ở hoặc nhà ở tái định cư (nếu có)
A37: TT | B37: Loại đất | D37: Đơn vị tính | E37: Khối lượng | F37: Đơn giá (đồng/m2) | G37: Tỷ lệ BT, HT (%) | H37: Thành tiền 2 (đồng) | I37: Ghi chú
A38: 1 | B38: 2 | D38: 3 | E38: 4 | F38: 5 | G38: 6 | H38: 7 | I38: 8
A39: 1 | I39: Không bố trí tái định cư.
B40: Cộng:
B42: Số tiền chênh lệch giữa tiền bồi thường đất thu hồi và tiền đất ở, nhà ở tái định cư được bố trí: | I42: Không
B43: * Người bị thu hồi đất được nhận (nếu thành tiền 1 lớn hơn thành tiền 2) | I43: Không
B44: * Người bị thu hồi đất phải nộp (nếu thành tiền 1 nhỏ hơn thành tiền 2) | I44: Không
A46: 3. | B46: Bồi thường, hỗ trợ về tài sản gắn liền với đất bị thu hồi:
A47: TT | B47: Tên tài sản | C47: Đơn vị tính | D47: Quy cách tài sản | E47: Khối lượng | F47: Đơn giá | G47: Tỷ lệ BT, HT (%) | H47: Thành tiền (đ) | I47: Ghi chú
A48: 1 | B48: 2 | C48: 3 | D48: 4 | E48: 5 | F48: 6 | G48: 7 | H48: 8 | I48: 9
A49: A. | B49: Nhà ở, công trình xây dựng | H49: =SUM(H50:H50) -> 0
A50: 1 | B50: Sân bê tông | C50: m2 | D50: 8,5 x 4,19 | E50: 35.61 | I50: Không bồi thường theo Điều 105 Luật Đất đai 2024
A51: 2 | B51: Mái vẩy tôn | C51: m2 | D51: 0,6 x 4,19 | E51: =0.6*4.19 -> 2.514
A52: 3 | B52: Nhà mái tôn, tường 110 cao >3m, nền gạch hoa, không có khu phụ | C52: m2 | D52: 4 x 4,19 | E52: =4.19*4 -> 16.76
A53: 4 | B53: Nhà 3 tầng mái bằng BTCT, khung cột chịu lực | C53: m2
A54: a. | B54: Tầng 1: Nhà mái bằng BTCT, có gác xép bê tông | C54: m2 | D54: 9,48 x 4,19 | E54: =9.48*4.19 -> 39.7212
B55: - Diện tích nhà trong chỉ giới | C55: m2 | D55: = S đất trong chỉ giới - S nhà mái tôn | E55: =C22-E52 -> 29.34
B56: - Diện tích nhà ngoài chỉ giới | C56: m2 | E56: =E54-E55 -> 10.3812
A57: * | B57: Gác xép bê tông | C57: m2 | D57: 2,6 x 4,19 | E57: =2.6*4.19 -> 10.894
A58: b. | B58: Tầng 2: Nhà mái bằng BTCT | C58: m2 | D58: =S tầng 1+ (1,6x4,19) | E58: 46.42
B59: - Diện tích nhà trong chỉ giới | C59: m2 | D59: =S tầng 1 trong chỉ giới+ (1,6x4,19) | E59: =E55+(1.6*4.19) -> 36.044
B60: - Diện tích nhà ngoài chỉ giới | C60: m2 | E60: =E58-E59 -> 10.376
A61: c. | B61: Tầng 3: Nhà mái tôn khung vì kèo sắt, tường 110 cao>3m | C61: m2 | D61: = S tầng 2 | E61: =E58 -> 46.42
B62: - Diện tích nhà trong chỉ giới | C62: m2 | D62: =S nhà tầng 2 trong chỉ giới | E62: =E59 -> 36.044
B63: - Diện tích nhà ngoài chỉ giới | C63: m2 | D63: =S nhà tầng 2 ngoài chỉ giới | E63: =E60 -> 10.376
A64: 5 | B64: Giếng khơi xây gạch | C64: m | D64: Sâu 15m | E64: 15
A65: B. | B65: Cây trồng, vật nuôi là thủy sản | H65: =SUM(H66:H66) -> 0
A66: 1
A67: 2
B68: Cộng (A+B) : | H68: =H49+H65 -> 0
A69: 4 | B69: Các khoản bồi thường, hỗ trợ khác:
A70: TT | B70: Khoản bồi thường, hỗ trợ | D70: Khối lượng | E70: Đơn vị tính | F70: Đơn giá | G70: Hệ số điều chỉnh | H70: Thành tiền (đ) | I70: Ghi chú
B72: Cộng: | H72: =SUM(H71) -> 0
A73: 5 | B73: Tổng cộng tiền bồi thường, hỗ trợ được nhận (1+2+3+4): | H73: =H72+H68+H40+H34 -> 0 | I73: đồng
B74: Bằng chữ: | C74: Không đồng ./.
A75: Ban Quản lý dự án đầu tư xây dựng công trình giao thông TP Hà Nội phối hợp với UBND Xã Phú Nghĩa tiến hành công khai phương án dự thảo chi tiết tới hộ gia đình trong vòng 10 ngày. Trong thời gian công khai nếu hộ gia đình có ý kiến thắc mắc về bản Dự thảo phương án chi tiết bồi thường, hỗ trợ & TĐC này thì gửi đơn về Phòng Kinh Tế - UBND Xã Phú Nghĩa.
A76: Ý kiến của hộ gia đình, cá nhân (Đánh dấu "x" vào ô S )
A77: Tôi đồng ý với phương án dự thảo chi tiết trên và đề nghị UBND xã Phú Nghĩa phê duyệt phương án bồi thường, hỗ trợ & tái định cư và ban hành Quyết định thu hồi đất * | E77: Tôi không đồng ý với phương án dự thảo chi tiết trên *
A80: (Hộ gia đình ký và ghi rõ họ tên)

Sheet Ng Thị Hòa(5-14)
A1: BAN QLDA ĐẦU TƯ XÂY DỰNG | E1: CỘNG HÒA XÃ HỘI CHỦ NGHĨA VIỆT NAM
A2: CÔNG TRÌNH GIAO THÔNG TP HÀ NỘI | E2: Độc lập - Tự do - Hạnh phúc
A4: DỰ THẢO | E4: Hà Nội, ngày tháng 3 năm 2026
A5: PHƯƠNG ÁN CHI TIẾT BỒI THƯỜNG, HỖ TRỢ VÀ TÁI ĐỊNH CƯ
A6: Dự án thành phần 1.2: Bồi thường, hỗ trợ và tái định cư thực hiện giải phóng mặt bằng trên địa bàn huyện Chương Mỹ thuộc Dự án đầu tư cải tạo, nâng cấp Quốc Lộ 6 đoạn Ba La - Xuân Mai (Trên địa giới hành chính xã Phú Nghĩa)
A7: (Kèm theo Thông báo số: /TB-UBND ngày /03/2026 của Ủy ban nhân dân xã Phú Nghĩa)
A8: I. | B8: NGƯỜI SỬ DỤNG ĐẤT VÀ SỞ HỮU TÀI SẢN GẮN LIỀN VỚI ĐẤT THU HỒI:
A9: 1. | B9: Họ và tên người sử dụng đất thu hồi: | F9: Đại diện hộ bà Nguyễn Thị Hòa
B10: Nơi ở hiện nay: | C10: Thôn Phố Gốt- xã Phú Nghĩa - TP Hà Nội
B11: Nơi thường trú: | C11: =+C10 -> Thôn Phố Gốt- xã Phú Nghĩa - TP Hà Nội
B12: Số định danh cá nhân: | C12: 001166020878
A13: 2. | B13: Họ và tên người sở hữu tài sản gắn liền với đất thu hồi: | F13: =F9 -> Đại diện hộ bà Nguyễn Thị Hòa
B14: Nơi ở hiện nay: | C14: =+C10 -> Thôn Phố Gốt- xã Phú Nghĩa - TP Hà Nội
B15: Nơi thường trú: | C15: =+C14 -> Thôn Phố Gốt- xã Phú Nghĩa - TP Hà Nội
B16: Số định danh cá nhân: | C16: =+C12 -> 001166020878
A17: II | B17: HIỆN TRẠNG SỦ DỤNG ĐẤT VÀ TÀI SẢN GẮN LIỀN VỚI ĐẤT THU HỒI:
A18: 1. | B18: Hiện trạng sử dụng đất:
B19: Thửa đất số: | C19: 14 | D19: Tờ bản đồ số: | F19: 05
B20: Diện tích thửa đất: | C20: 265.7 | D20: m2
B21: Trong đó:
B22: Trong chỉ giới GPMB: | C22: 37.3 | D22: m2
B23: Ngoài chỉ giới GPMB: | C23: =C20-C22 -> 228.4 | D23: m2
B24: Vị trí, địa điểm thu hồi đất: | C24: Vị trí 1-Quốc Lộ 6 - Thôn Phố Gốt - xã Phú Nghĩa - TP Hà Nội
A25: 2. | B25: Nguồn gốc, thời gian sử dụng đất: | C25: - Hộ bà Nguyễn Thị Hòa được UBND huyện Chương Mỹ cấp giấy chứng nhận quyền sử dụng đất thửa đất số 61, tờ bản đồ số 38, số phát hành BD 765079, số vào sổ cấp GCN: 00228 với diện tích 217,0m2, cấp ngày 09/02/2010. Địa chỉ thửa đất: Thôn Phố Gốt, xã Phú Nghĩa, thành phố Hà Nội. Mục đích sử dụng; đất ở tại dân cư, thời hạn sử dụng lâu dài. - Tổng diện tích 265,7m2 tăng 48,7m2 so với diện tích được cấp giấy chứng nhận quyền sử dụng đất.Đối chiếu với các cạnh thửa đất giữa Bản đồ GPMB; Giấy chứng nhận quyền sử dụng đất được cấp của hộ, xác định tăng 48,7m2 về phía Nam đường Quốc lộ 6. - Căn cứ Bản đồ phục vụ công tác GPMB; Nghị định số 203-HĐBT ngày 21/12/1982 của Hội đồng Bộ trưởng về việc ban hành điều lệ bảo vệ đường bộ, Giấy chứng nhận quyền sử dụng đất của hộ bà Nguyễn Thị Hòa. Phòng Kinh tế xác định diện tích thu hồi 37,3 m2 do hộ bà Nguyễn Thị Hòa sử dụng là đất giao thông đường Quốc lộ 6 (DGT).
A26: 3. | B26: Số hộ gia đình (số cặp vợ chồng): | H26: 01 | I26: hộ
A27: 4. | B27: Số nhân khẩu | H27: 02 | I27: khẩu
A28: III. | B28: PHƯƠNG ÁN BỒI THƯỜNG, HỖ TRỢ VÀ TÁI ĐỊNH CƯ:
A29: 1. | B29: Bồi thường về đất và tái định cư:
A30: TT | B30: Tiền Bồi thường (Giá trị quyền sử dụng đất của diện tích đất thu hồi)
B31: Loại đất | D31: Đơn vị tính | E31: Khối lượng | F31: Đơn giá (đồng/m2) | G31: Tỷ lệ BT, HT (%) | H31: Thành tiền 1 (đồng) | I31: Ghi chú
A32: 1 | B32: 2 | D32: 3 | E32: 4 | F32: 5 | G32: 6 | H32: 7 | I32: 8
A33: 1 | B33: Đất giao thông đường Quốc lộ 6 (DGT) | D33: m2 | E33: =C22 -> 37.3 | H33: =E33*F33*G33 -> 0
B34: Cộng: | H34: =SUM(H33:H33) -> 0
A36: 2. | B36: Bồi thường bằng đất ở hoặc nhà ở tái định cư (nếu có)
A37: TT | B37: Loại đất | D37: Đơn vị tính | E37: Khối lượng | F37: Đơn giá (đồng/m2) | G37: Tỷ lệ BT, HT (%) | H37: Thành tiền 2 (đồng) | I37: Ghi chú
A38: 1 | B38: 2 | D38: 3 | E38: 4 | F38: 5 | G38: 6 | H38: 7 | I38: 8
A39: 1 | I39: Không bố trí tái định cư.
B40: Cộng:
B42: Số tiền chênh lệch giữa tiền bồi thường đất thu hồi và tiền đất ở, nhà ở tái định cư được bố trí: | I42: Không
B43: * Người bị thu hồi đất được nhận (nếu thành tiền 1 lớn hơn thành tiền 2) | I43: Không
B44: * Người bị thu hồi đất phải nộp (nếu thành tiền 1 nhỏ hơn thành tiền 2) | I44: Không
A46: 3. | B46: Bồi thường, hỗ trợ về tài sản gắn liền với đất bị thu hồi:
A47: TT | B47: Tên tài sản | C47: Đơn vị tính | D47: Quy cách tài sản | E47: Khối lượng | F47: Đơn giá (đồng/m2) | G47: Tỷ lệ BT, HT (%) | H47: Thành tiền (đ) | I47: Ghi chú
A48: 1 | B48: 2 | C48: 3 | D48: 4 | E48: 5 | F48: 6 | G48: 7 | H48: 8 | I48: 9
A49: A. | B49: Nhà ở, công trình xây dựng | H49: =SUM(H50:H58) -> 0
A50: 1 | B50: Sân bê tông | C50: m2 | D50: 4,92 x 11,5 | E50: =4.92*11.5 -> 56.58 | I50: Không bồi thường theo Điều 105 Luật Đất đai 2024
A51: 2 | B51: Mái vẩy lợp tôn | C51: m2 | D51: 4,92 x 4,5 | E51: =4.92*4.5 -> 22.14
A52: 3 | B52: Nhà 1 tầng mái lợp Fribroximang, tường 110 cao>3m nền lát gạch đỏ 30*30, có trần nhựa, có khu phụ | C52: m2 | D52: ((7,64+6,23)x(5,3+4,92))/2 | E52: =70.87 -> 70.87
B53: - Diện tích nhà trong chỉ giới | C53: m2 | D53: ((7,64+7,2)x4,92)/2 | E53: 36.5
B54: - Diện tích nhà ngoài chỉ giới | C54: m2 | E54: =E52-E53 -> 34.37
A55: * | B55: Trần nhựa | C55: m2 | D55: = S nhà | E55: =E52 -> 70.87
B56: - Diện tích trần nhựa trong chỉ giới | C56: m2 | D56: =S nhà trong chỉ giới | E56: =E53 -> 36.5
B57: - Diện tích trần nhựa ngoài chỉ giới | C57: m2 | D57: =S nhà ngoài chỉ giới | E57: =E54 -> 34.37
A58: 4 | B58: Tường rào hoa sắt | C58: m | D58: 1,8 x 4,5 | E58: =1.8*4.5 -> 8.1
A59: B. | B59: Cây trồng, vật nuôi là thủy sản | H59: =H60 -> 0
A60: 1 | B60: Cây Hoa sữa | C60: Cây | D60: ĐK thân>45cm | E60: 1 | I60: Không bồi thường theo Điều 105 Luật Đất đai 2024
B61: Cộng (A+B) : | H61: =H49+H59 -> 0
A62: 4 | B62: Các khoản bồi thường, hỗ trợ khác:
A63: TT | B63: Khoản bồi thường, hỗ trợ | D63: Khối lượng | E63: Đơn vị tính | F63: Đơn giá | G63: Hệ số điều chỉnh | H63: Thành tiền (đ) | I63: Ghi chú
B65: Cộng: | H65: =SUM(H64) -> 0
A66: 5 | B66: Tổng cộng tiền bồi thường, hỗ trợ được nhận (1+2+3+4): | H66: =H65+H61+H40+H34 -> 0 | I66: đồng
B67: Bằng chữ: | C67: Không đồng ./.
F68: KT. CHỦ TỊCH
F69: PHÓ CHỦ TỊCH
F76: Trần Văn Sơn
A77: Ban Quản lý dự án đầu tư xây dựng công trình giao thông TP Hà Nội phối hợp với UBND Xã Phú Nghĩa tiến hành công khai phương án dự thảo chi tiết tới hộ gia đình trong vòng 10 ngày. Trong thời gian công khai nếu hộ gia đình có ý kiến thắc mắc về bản Dự thảo phương án chi tiết bồi thường, hỗ trợ & TĐC này thì gửi đơn về Phòng Kinh Tế - UBND Xã Phú Nghĩa.
A78: Ý kiến của hộ gia đình, cá nhân (Đánh dấu "x" vào ô S )
A79: Tôi đồng ý với phương án dự thảo chi tiết trên và đề nghị UBND xã Phú Nghĩa phê duyệt phương án bồi thường, hỗ trợ & tái định cư và ban hành Quyết định thu hồi đất * | E79: Tôi không đồng ý với phương án dự thảo chi tiết trên *
A82: (Hộ gia đình ký và ghi rõ họ tên)

Sheet Ng Thị Hòa(5-68)
A1: BAN QLDA ĐẦU TƯ XÂY DỰNG | E1: CỘNG HÒA XÃ HỘI CHỦ NGHĨA VIỆT NAM
A2: CÔNG TRÌNH GIAO THÔNG TP HÀ NỘI | E2: Độc lập - Tự do - Hạnh phúc
A4: DỰ THẢO | E4: Hà Nội, ngày tháng 03 năm 2026
A5: PHƯƠNG ÁN CHI TIẾT BỒI THƯỜNG, HỖ TRỢ VÀ TÁI ĐỊNH CƯ
A6: Dự án thành phần 1.2: Bồi thường, hỗ trợ và tái định cư thực hiện giải phóng mặt bằng trên địa bàn huyện Chương Mỹ thuộc Dự án đầu tư cải tạo, nâng cấp Quốc Lộ 6 đoạn Ba La - Xuân Mai (Trên địa giới hành chính xã Phú Nghĩa)
A7: (Kèm theo Thông báo số: /TB-UBND ngày /3/2026 của Ủy ban nhân dân xã Phú Nghĩa)
A8: I. | B8: NGƯỜI SỬ DỤNG ĐẤT VÀ SỞ HỮU TÀI SẢN GẮN LIỀN VỚI ĐẤT THU HỒI:
A9: 1. | B9: Họ và tên người sử dụng đất thu hồi: | F9: Đại diện hộ bà Nguyễn Thị Hòa
B10: Nơi ở hiện nay: | C10: Thôn Phố Gốt- xã Phú Nghĩa - TP Hà Nội
B11: Nơi thường trú: | C11: Thôn Phố Gốt - xã Phú Nghĩa - TP Hà Nội
B12: Số định danh cá nhân: | C12: 001166020878
A13: 2. | B13: Họ và tên người sở hữu tài sản gắn liền với đất thu hồi: | F13: =F9 -> Đại diện hộ bà Nguyễn Thị Hòa
B14: Nơi ở hiện nay: | C14: =+C10 -> Thôn Phố Gốt- xã Phú Nghĩa - TP Hà Nội
B15: Nơi thường trú: | C15: =C11 -> Thôn Phố Gốt - xã Phú Nghĩa - TP Hà Nội
B16: Số định danh cá nhân: | C16: =+C12 -> 001166020878
A17: II | B17: HIỆN TRẠNG SỦ DỤNG ĐẤT VÀ TÀI SẢN GẮN LIỀN VỚI ĐẤT THU HỒI:
A18: 1. | B18: Hiện trạng sử dụng đất:
B19: Thửa đất số: | C19: 68 | D19: Tờ bản đồ số: | F19: 05
B20: Diện tích thửa đất: | C20: 33.5 | D20: m2
B21: Trong đó:
B22: Trong chỉ giới GPMB: | C22: 33.5 | D22: m2
B23: Ngoài chỉ giới GPMB: | C23: =C20-C22 -> 0 | D23: m2
B24: Vị trí, địa điểm thu hồi đất: | C24: Vị trí 1-Quốc Lộ 6 - Thôn Phố Gốt - xã Phú Nghĩa - TP Hà Nội
A25: 4. | B25: Nguồn gốc, thời gian sử dụng đất: | C25: - Hộ bà Nguyễn Thị Hòa được UBND xã Đông Sơn (cũ) giao đất làm dịch vụ năm 1991, diện tích 16,0m2, UBND xã Đông Sơn (cũ) ký xác nhận, Biên bản giao làm dịch vụ ngày 30/11/1991, ngoài ra không có giấy tờ gì khác hộ bà Nguyễn Thị Hòa sử dụng đến nay. - Tổng diện tích hiện trạng 33,5m2 tăng 17,5m2 so với diện tích đất dịch vụ được giao.Đối chiếu với các cạnh thửa đất giữa Bản đồ GPMB; Biên bản giao đất dịch vụ của hộ, xác định tăng 17,5m2 về phía Bắc đường Quốc lộ 6. - Căn cứ Nghị định số 203-HĐBT ngày 21/12/1982 của Hội đồng Bộ trưởng về việc ban hành điều lệ bảo vệ đường bộ có hiệu lực thi hành quy định hành lang là 28m (tính từ tim đường ra mỗi bên), do vậy diện tích thu hồi 33,5m2 là đất hành lang giao thông đường Quốc lộ 6. (Trong đó: 16,0m2 cấp là đất dịch vụ, 17,5m2 đất hành lang giao thông đường Quốc lộ 6). Không đủ điều kiện cấp giấy chứng nhận quyền sử dụng đất theo quy định của Luật Đất đai năm 2024. Phòng Kinh tế xác định diện tích thu hồi 33,5m2 đất do hộ bà Nguyễn Thị Hòa sử dụng là đất giao thông đường Quốc lộ 6 (DGT).
A26: 5. | B26: Số hộ gia đình (số cặp vợ chồng): | H26: 01 | I26: hộ
A27: 6. | B27: Số nhân khẩu | H27: 02 | I27: khẩu
A28: III. | B28: PHƯƠNG ÁN BỒI THƯỜNG, HỖ TRỢ VÀ TÁI ĐỊNH CƯ:
A29: 1. | B29: Bồi thường về đất và tái định cư:
A30: TT | B30: Tiền Bồi thường (Giá trị quyền sử dụng đất của diện tích đất thu hồi)
B31: Loại đất | D31: Đơn vị tính | E31: Khối lượng | F31: Đơn giá (đồng/m2) | G31: Tỷ lệ BT, HT (%) | H31: Thành tiền 1 (đồng) | I31: Ghi chú
A32: 1 | B32: 2 | D32: 3 | E32: 4 | F32: 5 | G32: 6 | H32: 7 | I32: 8
A33: 1 | B33: Đất giao thông đường Quốc lộ 6 (DGT) | D33: m2 | E33: =C22 -> 33.5 | H33: =E33*F33*G33 -> 0
B34: Cộng: | H34: =SUM(H33:H33) -> 0
A36: 2. | B36: Bồi thường bằng đất ở hoặc nhà ở tái định cư (nếu có)
A37: TT | B37: Loại đất | D37: Đơn vị tính | E37: Khối lượng | F37: Đơn giá (đồng/m2) | G37: Tỷ lệ BT, HT (%) | H37: Thành tiền 2 (đồng) | I37: Ghi chú
A38: 1 | B38: 2 | D38: 3 | E38: 4 | F38: 5 | G38: 6 | H38: 7 | I38: 8
A39: 1 | I39: Không bố trí tái định cư.
B40: Cộng:
B42: Số tiền chênh lệch giữa tiền bồi thường đất thu hồi và tiền đất ở, nhà ở tái định cư được bố trí: | I42: Không
B43: * Người bị thu hồi đất được nhận (nếu thành tiền 1 lớn hơn thành tiền 2) | I43: Không
B44: * Người bị thu hồi đất phải nộp (nếu thành tiền 1 nhỏ hơn thành tiền 2) | I44: Không
A46: 3. | B46: Bồi thường, hỗ trợ về tài sản gắn liền với đất bị thu hồi:
A47: TT | B47: Tên tài sản | C47: Đơn vị tính | D47: Quy cách tài sản | E47: Khối lượng | F47: Đơn giá | G47: Tỷ lệ BT, HT (%) | H47: Thành tiền (đ) | I47: Ghi chú
A48: 1 | B48: 2 | C48: 3 | D48: 4 | E48: 5 | F48: 6 | G48: 7 | H48: 8 | I48: 9
A49: A. | B49: Nhà ở, công trình xây dựng | H49: =SUM(H50:H54) -> 0
A50: 1 | B50: Sân bê tông | C50: m2 | D50: (4,79+4)/2 x 3,05 | E50: 13.42 | I50: Không bồi thường theo Điều 105 Luật Đất đai
A51: 2 | B51: Mái vẩy tôn | C51: m2 | D51: =S sân bê tông | E51: =E50 -> 13.42
A52: 3 | B52: Nhà 1 tầng, tường xây gạch 110, cao > 3m, nền lát gạch hoa, mái lợp tôn, có gác xép gỗ, có khu phụ. | C52: m2 | D52: = S đất - S sân bê tông | E52: =C20-E50 -> 20.08
A53: * | B53: Gác xép gỗ | C53: m2 | D53: = S nhà | E53: =E52 -> 20.08
A54: 4 | B54: Sân bê tông | C54: m | D54: 4,79 x 2,25 | E54: =4.79*2.25 -> 10.7775
A55: B. | B55: Cây trồng, vật nuôi là thủy sản | H55: =SUM(H56:H56) -> 0
B57: Cộng (A+B) : | H57: =H49+H55 -> 0
A58: 4 | B58: Các khoản bồi thường, hỗ trợ khác:
A59: TT | B59: Khoản bồi thường, hỗ trợ | D59: Khối lượng | E59: Đơn vị tính | F59: Đơn giá | G59: Hệ số điều chỉnh | H59: Thành tiền (đ) | I59: Ghi chú
B61: Cộng: | H61: =SUM(H60) -> 0
A62: 5 | B62: Tổng cộng tiền bồi thường, hỗ trợ được nhận (1+2+3+4): | H62: =H61+H57+H40+H34 -> 0 | I62: đồng
B63: Bằng chữ: | C63: Không đồng ./.
F64: KT. CHỦ TỊCH
F65: PHÓ CHỦ TỊCH
F72: Trần Văn Sơn
A73: Ban Quản lý dự án đầu tư xây dựng công trình giao thông TP Hà Nội phối hợp với UBND Xã Phú Nghĩa tiến hành công khai phương án dự thảo chi tiết tới hộ gia đình trong vòng 10 ngày. Trong thời gian công khai nếu hộ gia đình có ý kiến thắc mắc về bản Dự thảo phương án chi tiết bồi thường, hỗ trợ & TĐC này thì gửi đơn về Phòng Kinh Tế - UBND Xã Phú Nghĩa.
A74: Ý kiến của hộ gia đình, cá nhân (Đánh dấu "x" vào ô S )
A75: Tôi đồng ý với phương án dự thảo chi tiết trên và đề nghị UBND xã Phú Nghĩa phê duyệt phương án bồi thường, hỗ trợ & tái định cư và ban hành Quyết định thu hồi đất * | E75: Tôi không đồng ý với phương án dự thảo chi tiết trên *
A78: (Hộ gia đình ký và ghi rõ họ tên)

Sheet Trần Đăng Định (4-53)
A1: BAN QLDA ĐẦU TƯ XÂY DỰNG | E1: CỘNG HÒA XÃ HỘI CHỦ NGHĨA VIỆT NAM
A2: CÔNG TRÌNH GIAO THÔNG TP HÀ NỘI | E2: Độc lập - Tự do - Hạnh phúc
A4: DỰ THẢO | E4: Hà Nội, ngày tháng 02 năm 2026
A5: PHƯƠNG ÁN CHI TIẾT BỒI THƯỜNG, HỖ TRỢ VÀ TÁI ĐỊNH CƯ
A6: Dự án thành phần 1.2: Bồi thường, hỗ trợ và tái định cư thực hiện giải phóng mặt bằng trên địa bàn huyện Chương Mỹ thuộc Dự án đầu tư cải tạo, nâng cấp Quốc Lộ 6 đoạn Ba La - Xuân Mai (Trên địa giới hành chính xã Phú Nghĩa)
A7: (Kèm theo Thông báo số: /TB-UBND ngày /02/2026 của Ủy ban nhân dân xã Phú Nghĩa)
A8: I. | B8: NGƯỜI SỬ DỤNG ĐẤT VÀ SỞ HỮU TÀI SẢN GẮN LIỀN VỚI ĐẤT THU HỒI:
A9: 1. | B9: Họ và tên người sử dụng đất thu hồi: | F9: Trần Đăng Định - Đỗ Thị Hạnh
B10: Nơi ở hiện nay: | C10: Thôn Thanh Trì - xã Phú Nghĩa - TP Hà Nội
B11: Nơi thường trú: | C11: =+C10 -> Thôn Thanh Trì - xã Phú Nghĩa - TP Hà Nội
B12: Số định danh cá nhân: | C12: 001081009370
A13: 2. | B13: Họ và tên người sở hữu tài sản gắn liền với đất thu hồi: | F13: =F9 -> Trần Đăng Định - Đỗ Thị Hạnh
B14: Nơi ở hiện nay: | C14: =+C10 -> Thôn Thanh Trì - xã Phú Nghĩa - TP Hà Nội
B15: Nơi thường trú: | C15: =+C14 -> Thôn Thanh Trì - xã Phú Nghĩa - TP Hà Nội
B16: Số định danh cá nhân: | C16: =+C12 -> 001081009370
A17: II | B17: HIỆN TRẠNG SỦ DỤNG ĐẤT VÀ TÀI SẢN GẮN LIỀN VỚI ĐẤT THU HỒI:
A18: 1. | B18: Hiện trạng sử dụng đất:
B19: Thửa đất số: | C19: 53 | D19: Tờ bản đồ số: | F19: 04
B20: Diện tích thửa đất: | C20: 92.6 | D20: m2
B21: Trong đó:
B22: Trong chỉ giới GPMB: | C22: 92.6 | D22: m2
B23: Ngoài chỉ giới GPMB: | C23: =C20-C22 -> 0 | D23: m2
B24: Vị trí, địa điểm thu hồi đất: | C24: Thôn Phố Gót - xã Phú Nghĩa - TP Hà Nội
A25: 4. | B25: Nguồn gốc, thời gian sử dụng đất: | C25: - Bà Đỗ Thị Nga được UBND xã Đông Sơn (cũ) giao đất làm nhà ở năm 2007, với tổng diện tích 39,0m2, UBND xã Đông Sơn (cũ) ký xác nhận ngày 01/07/2007 tại thửa 105 tờ bản đồ số 38. Đến ngày 15/9/2009 bà Đỗ Thị Nga chuyển nhượng toàn bộ diện tích đất cho ông Trần Đăng Định và bà Đỗ Thị Hạnh (giấy viết tay) ngoài ra không có giấy tờ gì khác, ông Trần Đăng Định và bà Đỗ Thị Hạnh sử dụng đến nay. - Tổng diện tích 92,6m2 tăng 53,6m2 so với diện tích được so với biên bản xác nhận kích thớc thửa đất. Đối chiếu với các cạnh thửa đất giữa Bản đồ GPMB và biên bản xác nhận kích thước thửa đất được cấp của hộ, xác định tăng 53,6m2, Trong đó tăng 13,6m2 về phía Bắc giáp đường Quốc lộ 6, tăng 40,0m2 về phía Nam giáp hộ ông Nguyễn Mạnh Dũng. - UBND xã Đông Sơn (cũ) cấp đất ở vào đất hành lang giao thông quy định tại Nghị định số 203-HĐBT ngày 21/12/1982 của Hội đồng Bộ trưởng về việc ban hành điều lệ bảo vệ đường bộ có hiệu lực thi hành quy định hành lang là 28m (tính từ tim đường ra mỗi bên), do vậy diện tích thu hồi 92,6m2 (Trong đó: 39,0m2 được giao là đất ở nằm trong hành lang giao thông, 53,6m2 là đất hành lang giao thông đường Quốc lộ 6). Không đủ điều kiện cấp giấy chứng nhận quyền sử dụng đất theo quy định của Luật Đất đai năm 2024. Phòng Kinh tế xác định diện tích thu hồi 92,6m2 đất ông Trần Đăng Định và bà Đỗ Thị Hạnh sử dụng là đất giao thông đường Quốc lộ 6 (DGT).
A26: 5. | B26: Số hộ gia đình (số cặp vợ chồng): | H26: 01 | I26: hộ
A27: 6. | B27: Số nhân khẩu | H27: 04 | I27: khẩu
A28: III. | B28: PHƯƠNG ÁN BỒI THƯỜNG, HỖ TRỢ VÀ TÁI ĐỊNH CƯ:
A29: 1. | B29: Bồi thường về đất và tái định cư:
A30: TT | B30: Tiền Bồi thường (Giá trị quyền sử dụng đất của diện tích đất thu hồi)
B31: Loại đất | D31: Đơn vị tính | E31: Khối lượng | F31: Đơn giá (đồng/m2) | G31: Tỷ lệ BT, HT (%) | H31: Thành tiền 1(đồng) | I31: Ghi chú
A32: 1 | B32: 2 | D32: 3 | E32: 4 | F32: 5 | G32: 6 | H32: 7 | I32: 8
A33: 1 | B33: Đất giao thông đường Quốc lộ 6 (DGT) | D33: m2 | E33: =C22 -> 92.6 | H33: =E33*F33*G33 -> 0
B34: Cộng: | H34: =SUM(H33:H33) -> 0
A36: 2. | B36: Bồi thường bằng đất ở hoặc nhà ở tái định cư (nếu có)
A37: TT | B37: Loại đất | D37: Đơn vị tính | E37: Khối lượng | F37: Đơn giá (đồng/m2) | G37: Tỷ lệ BT, HT (%) | H37: Thành tiền 2 (đồng) | I37: Ghi chú
A38: 1 | B38: 2 | D38: 3 | E38: 4 | F38: 5 | G38: 6 | H38: 7 | I38: 8
A39: 1 | I39: Không bố trí tái định cư.
B40: Cộng:
B42: Số tiền chênh lệch giữa tiền bồi thường đất thu hồi và tiền đất ở, nhà ở tái định cư được bố trí: | I42: Không
B43: * Người bị thu hồi đất được nhận (nếu thành tiền 1 lớn hơn thành tiền 2) | I43: Không
B44: * Người bị thu hồi đất phải nộp (nếu thành tiền 1 nhỏ hơn thành tiền 2) | I44: Không
A46: 3. | B46: Bồi thường, hỗ trợ về tài sản gắn liền với đất bị thu hồi:
A47: TT | B47: Tên tài sản | C47: Đơn vị tính | D47: Quy cách tài sản | E47: Khối lượng | F47: Đơn giá | G47: Tỷ lệ BT, HT (%) | H47: Thành tiền (đ) | I47: Ghi chú
A48: 1 | B48: 2 | C48: 3 | D48: 4 | E48: 5 | F48: 6 | G48: 7 | H48: 8 | I48: 9
A49: A. | B49: Nhà ở, công trình xây dựng | H49: =SUM(H50:H50) -> 0
A50: 1 | B50: Sân bê tông | C50: m2 | D50: 6,3m x 10,42m | E50: =6.3*10.42 -> 65.646 | I50: Không bồi thường theo Điều 105 Luật Đất đai 2024
A51: 2 | B51: Mái vẩy lợp tôn | C51: m2 | D51: 0,5m x 10,42m | E51: =0.5*10.42 -> 5.21
A52: 3 | B52: Nhà 1 tầng, tường xây gạch 110; cao >3m mái lợp tôn; trần nhựa; nền lát gạch đỏ; có phụ khu | C52: m2 | D52: (1,6m x 5m) + (10,02m x 3,63m) | E52: 44.38
A53: 4 | B53: Trần nhựa | C53: m2 | D53: = S nhà | E53: =E52 -> 44.38
A54: 5 | B54: Gác xếp gỗ | C54: m2 | D54: 5m x 5,23m | E54: =5*5.23 -> 26.15
A55: 6 | B55: Nhà tạm mái lợp tôn; Tường xây gạch 110 cao <3m nền gạch hoa; không có phụ khu | C55: m2 | D55: = S đất trong chỉ giới - S nhà 1 tầng | E55: =C22-E52 -> 48.22
A56: 7 | B56: Giếng khơi xây gạch | C56: m | D56: Sâu | E56: 8.5
A57: B. | B57: Cây trồng, vật nuôi là thủy sản | H57: =SUM(H59:H59) -> 0
A58: 1 | B58: Cây lộc vừng | C58: Cây | D58: ĐK Thân >30cm | E58: 1 | I58: Không bồi thường theo Điều 105 Luật Đất đai 2024
A59: 2 | B59: Cây nhãn | C59: Cây | D59: ĐK Thân >60cm | E59: 1
B60: Cộng (A+B) : | H60: =H49+H57 -> 0
A61: 4 | B61: Các khoản bồi thường, hỗ trợ khác:
A62: TT | B62: Khoản bồi thường, hỗ trợ | D62: Khối lượng | E62: Đơn vị tính | F62: Đơn giá | G62: Hệ số điều chỉnh | H62: Thành tiền (đ) | I62: Ghi chú
B64: Cộng: | H64: =SUM(H63) -> 0
A65: 5 | B65: Tổng cộng tiền bồi thường, hỗ trợ được nhận (1+2+3+4): | H65: =H64+H60+H40+H34 -> 0 | I65: đồng
B66: Bằng chữ: | C66: Không đồng ./.
F67: KT. CHỦ TỊCH
F68: PHÓ CHỦ TỊCH
F75: Trần Văn Sơn
A76: Ban Quản lý dự án đầu tư xây dựng công trình giao thông TP Hà Nội phối hợp với UBND Xã Phú Nghĩa tiến hành công khai phương án dự thảo chi tiết tới hộ gia đình trong vòng 10 ngày. Trong thời gian công khai nếu hộ gia đình có ý kiến thắc mắc về bản Dự thảo phương án chi tiết bồi thường, hỗ trợ & TĐC này thì gửi đơn về Phòng Kinh Tế - UBND Xã Phú Nghĩa.
A77: Ý kiến của hộ gia đình, cá nhân (Đánh dấu "x" vào ô S )
A78: Tôi đồng ý với phương án dự thảo chi tiết trên và đề nghị UBND xã Phú Nghĩa phê duyệt phương án bồi thường, hỗ trợ & tái định cư và ban hành Quyết định thu hồi đất * | E78: Tôi không đồng ý với phương án dự thảo chi tiết trên *
A81: (Hộ gia đình ký và ghi rõ họ tên)

Sheet Đỗ Thị Ngọc (5-7)
A1: BAN QLDA ĐẦU TƯ XÂY DỰNG | E1: CỘNG HÒA XÃ HỘI CHỦ NGHĨA VIỆT NAM
A2: CÔNG TRÌNH GIAO THÔNG TP HÀ NỘI | E2: Độc lập - Tự do - Hạnh phúc
A4: DỰ THẢO | E4: Hà Nội, ngày tháng 3 năm 2026
A5: PHƯƠNG ÁN CHI TIẾT BỒI THƯỜNG, HỖ TRỢ VÀ TÁI ĐỊNH CƯ
A6: Dự án thành phần 1.2: Bồi thường, hỗ trợ và tái định cư thực hiện giải phóng mặt bằng trên địa bàn huyện Chương Mỹ thuộc Dự án đầu tư cải tạo, nâng cấp Quốc Lộ 6 đoạn Ba La - Xuân Mai (Trên địa giới hành chính xã Phú Nghĩa)
A7: (Kèm theo Thông báo số: /TB-UBND ngày /3/2026 của Ủy ban nhân dân xã Phú Nghĩa)
A8: I. | B8: NGƯỜI SỬ DỤNG ĐẤT VÀ SỞ HỮU TÀI SẢN GẮN LIỀN VỚI ĐẤT THU HỒI:
A9: 1. | B9: Họ và tên người sử dụng đất thu hồi: | F9: Đỗ Thị Ngọc
B10: Nơi ở hiện nay: | C10: TDP Xuân Hà - xã Xuân Mai - TP Hà Nội
B11: Nơi thường trú: | C11: TDP Xuân Hà - xã Xuân Mai - TP Hà Nội
B12: Số định danh cá nhân: | C12: 001166010279
A13: 2. | B13: Họ và tên người sở hữu tài sản gắn liền với đất thu hồi: | F13: =F9 -> Đỗ Thị Ngọc
B14: Nơi ở hiện nay: | C14: =+C10 -> TDP Xuân Hà - xã Xuân Mai - TP Hà Nội
B15: Nơi thường trú: | C15: =C11 -> TDP Xuân Hà - xã Xuân Mai - TP Hà Nội
B16: Số định danh cá nhân: | C16: =+C12 -> 001166010279
A17: II | B17: HIỆN TRẠNG SỦ DỤNG ĐẤT VÀ TÀI SẢN GẮN LIỀN VỚI ĐẤT THU HỒI:
A18: 1. | B18: Hiện trạng sử dụng đất:
B19: Thửa đất số: | C19: 07 | D19: Tờ bản đồ số: | F19: 05
B20: Diện tích thửa đất: | C20: 161.2 | D20: m2
B21: Trong đó:
B22: Trong chỉ giới GPMB: | C22: 110.8 | D22: m2
B23: Ngoài chỉ giới GPMB: | C23: =C20-C22 -> 50.4 | D23: m2
B24: Vị trí, địa điểm thu hồi đất: | C24: Thôn Phố Gốt - xã Phú Nghĩa - TP Hà Nội
A25: 2. | B25: Nguồn gốc, thời gian sử dụng đất: | C25: - Bà Đỗ Thị Ngọc được UBND huyện Chương Mỹ cấp giấy chứng nhận quyền sử dụng đất tại thửa đất số 57A, tờ bản đồ số 38, số phát hành BB 337896, số vào sổ cấp GCN QSDĐ 00149, với diện tích 42,0m2 cấp ngày 08/09/2010. Địa chỉ thửa đất: Thôn Phố Gốt, xã Phú Nghĩa, thành phố Hà Nội. Mục đích sử dụng: 42,0m2 đất ở tại nông thôn. Tổng diện tích sử dụng 161,2m2 tăng 119,2m2 so với giấy chứng nhận quyền sử dụng đất của bà Đỗ Thị Ngọc đã được cấp. - Đối chiếu với các cạnh thửa đất giữa Bản đồ GPMB; Giấy chứng nhận quyền sử dụng đất được cấp của bà Đỗ Thị Ngọc, xác định tăng 119,2m2 về phía Nam đường Quốc lộ 6. - Căn cứ Bản đồ phục vụ công tác GPMB, Nghị định số 203-HĐBT ngày 21/12/1982 của Hội đồng Bộ trưởng về việc ban hành điều lệ bảo vệ đường bộ, Giấy chứng nhận quyền sử dụng đất của bà Đỗ Thị Ngọc. Phòng Kinh tế xác định diện tích thu hồi 110,8m2 do bà Đỗ Thị Ngọc sử dụng là đất giao thông đường Quốc lộ 6 (DGT).
A26: 3. | B26: Số hộ gia đình (số cặp vợ chồng): | H26: 0 | I26: hộ
A27: 4. | B27: Số nhân khẩu | H27: 0 | I27: khẩu
A28: III. | B28: PHƯƠNG ÁN BỒI THƯỜNG, HỖ TRỢ VÀ TÁI ĐỊNH CƯ:
A29: 1. | B29: Bồi thường về đất và tái định cư:
A30: TT | B30: Tiền Bồi thường (Giá trị quyền sử dụng đất của diện tích đất thu hồi)
B31: Loại đất | D31: Đơn vị tính | E31: Khối lượng | F31: Đơn giá (đồng/m2) | G31: Tỷ lệ BT, HT (%) | H31: Thành tiền 1 (đồng) | I31: Ghi chú
A32: 1 | B32: 2 | D32: 3 | E32: 4 | F32: 5 | G32: 6 | H32: 7 | I32: 8
A33: 1 | B33: Đất giao thông đường Quốc lộ 6 (DGT) | D33: m2 | E33: =C22 -> 110.8 | H33: =E33*F33*G33 -> 0
B34: Cộng: | H34: =SUM(H33:H33) -> 0
A36: 2. | B36: Bồi thường bằng đất ở hoặc nhà ở tái định cư (nếu có)
A37: TT | B37: Loại đất | D37: Đơn vị tính | E37: Khối lượng | F37: Đơn giá (đồng/m2) | G37: Tỷ lệ BT, HT (%) | H37: Thành tiền 2 (đồng) | I37: Ghi chú
A38: 1 | B38: 2 | D38: 3 | E38: 4 | F38: 5 | G38: 6 | H38: 7 | I38: 8
A39: 1 | I39: Không bố trí tái định cư.
B40: Cộng:
B42: Số tiền chênh lệch giữa tiền bồi thường đất thu hồi và tiền đất ở, nhà ở tái định cư được bố trí: | I42: Không
B43: * Người bị thu hồi đất được nhận (nếu thành tiền 1 lớn hơn thành tiền 2) | I43: Không
B44: * Người bị thu hồi đất phải nộp (nếu thành tiền 1 nhỏ hơn thành tiền 2) | I44: Không
A46: 3. | B46: Bồi thường, hỗ trợ về tài sản gắn liền với đất bị thu hồi:
A47: TT | B47: Tên tài sản | C47: Đơn vị tính | D47: Quy cách tài sản | E47: Khối lượng | F47: Đơn giá | G47: Tỷ lệ BT, HT (%) | H47: Thành tiền (đ) | I47: Ghi chú
A48: 1 | B48: 2 | C48: 3 | D48: 4 | E48: 5 | F48: 6 | G48: 7 | H48: 8 | I48: 9
A49: A. | B49: Nhà ở, công trình xây dựng | H49: =SUM(H50:H60) -> 0
A50: 1 | B50: Sân bê tông | C50: m2 | D50: 6,3 x 9,38 | E50: =6.3*9.38 -> 59.094 | I50: Không bồi thường theo Điều 105 Luật Đất đai 2024
A51: 2 | B51: Mái vẩy tôn | C51: m2 | D51: 0,9 x 9,38 | E51: 8.45
A52: 3 | B52: Nhà 1 tầng tường 220, cao >3m, mái lợp tôn, có trần nhựa, nền lát gạch hoa, không có phụ khu | C52: m2 | D52: (9,38 + 8,24)/2 x 3,6 | E52: =(9.38+8.24)/2*3.6 -> 31.716
B53: - Diện tích trần nhựa | C53: m2 | D53: = S nhà 1 tầng | E53: =E52 -> 31.716
A54: 4 | B54: Nhà 2 tầng mái bằng BTCT | C54: m2
A55: a. | B55: Tầng 1: Nhà 1 tầng mái bằng BTCT, tường gạch 220 cao >3m, nền lát gạch hoa mái lợp tôn, có trần nhựa, không có phụ khu | C55: m2 | D55: (6,64 + 8,24)/2 x 3,9 | E55: =(6.64+8.24)/2*3.9 -> 29.016
A56: b. | B56: Tầng 2: Nhà 1 tầng, tường 220 cao>3m, nền gạch hoa, mái lợp tôn, có trần nhựa, không có khu phụ | C56: m2 | D56: = S tầng 1 | E56: =E55 -> 29.016
B57: - Diện tích trần nhựa | C57: m2 | D57: = S tầng 2 | E57: =E56 -> 29.016
A58: 5 | B58: Nhà 1 tầng tường 110 cao <3m mái lợp tôn, nền lát gạch hoa có phụ khu | C58: m2 | D58: (1,1 + 2,1)/2 x 3,8 | E58: =(1.1+2.1)/2*3.8 -> 6.08
A59: 6 | B59: Sân bê tông | C59: m2 | D59: S đất trong chỉ giới-(31,73+29,02+6,08) | E59: 43.98
A60: 7 | B60: Giếng khơi xây gạch sâu | C60: m | D60: Sâu | E60: 12.5
A61: B. | B61: Cây trồng, vật nuôi là thủy sản | H61: =SUM(H64:H64) -> 0
B65: Cộng (A+B) : | H65: =H49+H61 -> 0
A66: 4 | B66: Các khoản bồi thường, hỗ trợ khác:
A67: TT | B67: Khoản bồi thường, hỗ trợ | D67: Khối lượng | E67: Đơn vị tính | F67: Đơn giá | G67: Hệ số điều chỉnh | H67: Thành tiền (đ) | I67: Ghi chú
B69: Cộng: | H69: =SUM(H68) -> 0
A70: 5 | B70: Tổng cộng tiền bồi thường, hỗ trợ được nhận (1+2+3+4): | H70: =H69+H65+H40+H34 -> 0 | I70: đồng
B71: Bằng chữ: | C71: Không đồng ./.
F72: KT. CHỦ TỊCH
F73: PHÓ CHỦ TỊCH
F80: Trần Văn Sơn
A81: Ban Quản lý dự án đầu tư xây dựng công trình giao thông TP Hà Nội phối hợp với UBND Xã Phú Nghĩa tiến hành công khai phương án dự thảo chi tiết tới hộ gia đình trong vòng 10 ngày. Trong thời gian công khai nếu hộ gia đình có ý kiến thắc mắc về bản Dự thảo phương án chi tiết bồi thường, hỗ trợ & TĐC này thì gửi đơn về Phòng Kinh Tế - UBND Xã Phú Nghĩa.
A82: Ý kiến của hộ gia đình, cá nhân (Đánh dấu "x" vào ô S )
A83: Tôi đồng ý với phương án dự thảo chi tiết trên và đề nghị UBND xã Phú Nghĩa phê duyệt phương án bồi thường, hỗ trợ & tái định cư và ban hành Quyết định thu hồi đất * | E83: Tôi không đồng ý với phương án dự thảo chi tiết trên *
A86: (Hộ gia đình ký và ghi rõ họ tên)

Sheet Nguyễn Thị Vân (5-8)
A1: BAN QLDA ĐẦU TƯ XÂY DỰNG | E1: CỘNG HÒA XÃ HỘI CHỦ NGHĨA VIỆT NAM
A2: CÔNG TRÌNH GIAO THÔNG TP HÀ NỘI | E2: Độc lập - Tự do - Hạnh phúc
A4: DỰ THẢO | E4: Hà Nội, ngày tháng 3 năm 2026
A5: PHƯƠNG ÁN CHI TIẾT BỒI THƯỜNG, HỖ TRỢ VÀ TÁI ĐỊNH CƯ
A6: Dự án thành phần 1.2: Bồi thường, hỗ trợ và tái định cư thực hiện giải phóng mặt bằng trên địa bàn huyện Chương Mỹ thuộc Dự án đầu tư cải tạo, nâng cấp Quốc Lộ 6 đoạn Ba La - Xuân Mai (Trên địa giới hành chính xã Phú Nghĩa)
A7: (Kèm theo Thông báo số: /TB-UBND ngày /3/2026 của Ủy ban nhân dân xã Phú Nghĩa)
A8: I. | B8: NGƯỜI SỬ DỤNG ĐẤT VÀ SỞ HỮU TÀI SẢN GẮN LIỀN VỚI ĐẤT THU HỒI:
A9: 1. | B9: Họ và tên người sử dụng đất thu hồi: | F9: Nguyễn Thị Vân
B10: Nơi ở hiện nay: | C10: Thôn Phố Gốt - xã Phú Nghĩa - TP Hà Nội
B11: Nơi thường trú: | C11: Thôn Phố Gốt- xã Phú Nghĩa - TP Hà Nội
B12: Số định danh cá nhân: | C12: 001152014624
A13: 2. | B13: Họ và tên người sở hữu tài sản gắn liền với đất thu hồi: | F13: =F9 -> Nguyễn Thị Vân
B14: Nơi ở hiện nay: | C14: =+C10 -> Thôn Phố Gốt - xã Phú Nghĩa - TP Hà Nội
B15: Nơi thường trú: | C15: =C11 -> Thôn Phố Gốt- xã Phú Nghĩa - TP Hà Nội
B16: Số định danh cá nhân: | C16: =+C12 -> 001152014624
A17: II | B17: HIỆN TRẠNG SỦ DỤNG ĐẤT VÀ TÀI SẢN GẮN LIỀN VỚI ĐẤT THU HỒI:
A18: 1. | B18: Hiện trạng sử dụng đất:
B19: Thửa đất số: | C19: 05 | D19: Tờ bản đồ số: | F19: 04
B20: Diện tích thửa đất: | C20: 25.2 | D20: m2
B21: Trong đó:
B22: Trong chỉ giới GPMB: | C22: 25.2 | D22: m2
B23: Ngoài chỉ giới GPMB: | C23: =C20-C22 -> 0 | D23: m2
B24: Vị trí, địa điểm thu hồi đất: | C24: Thôn Phố Gốt - Xã Phú Nghĩa - TP Hà Nội
A25: 2. | B25: Nguồn gốc, thời gian sử dụng đất: | C25: - UBND xã Đông Sơn (cũ) giao đất làm nhà ở cho hộ bà Nguyễn Thị Vân theo Biên bản giao đất ở của UBND xã Đông Sơn ngày 15/12/1999, diện tích được giao là 15,0m2 tại tờ bản đồ 38 ,cách tim đường Quốc lộ 6 là 28,0m. Tổng diện tích hiện trạng sử dụng là 25,2m2, tăng 10,2m2 so với diện tích đất được UBND xã giao. - Đối chiếu với các cạnh thửa đất giữa Bản đồ GPMB; Biên bản giao đất năm 1999, xác định tăng 10,2m2 về phía Nam giáp đường Quốc lộ 6. - UBND xã Đông Sơn (cũ) giao đất ở năm 1999 vào đất hành lang giao thông quy định tại Nghị định số 203-HĐBT ngày 21/12/1982 của Hội đồng Bộ trưởng về việc ban hành điều lệ bảo vệ đường bộ có hiệu lực thi hành quy định hành lang là 28m (tính từ tim đường ra mỗi bên), do vậy diện tích thu hồi 25,2m2 là đất hành lang giao thông Quốc lộ 6. Không đủ điều kiện cấp giấy chứng nhận quyền sử dụng đất theo quy định của Luật Đất đai năm 2024. Phòng Kinh tế xác định diện tích thu hồi 25,2m2 đất do hộ bà Nguyễn Thị Vân sử dụng là đất giao thông đường Quốc lộ 6 (DGT).
A26: 3. | B26: Số hộ gia đình (số cặp vợ chồng): | I26: hộ
A27: 4. | B27: Số nhân khẩu | H27: 06 | I27: khẩu
A28: III. | B28: PHƯƠNG ÁN BỒI THƯỜNG, HỖ TRỢ VÀ TÁI ĐỊNH CƯ:
A29: 1. | B29: Bồi thường về đất và tái định cư:
A30: TT | B30: Tiền Bồi thường (Giá trị quyền sử dụng đất của diện tích đất thu hồi)
B31: Loại đất | D31: Đơn vị tính | E31: Khối lượng | F31: Đơn giá (đồng/m2) | G31: Tỷ lệ BT, HT (%) | H31: Thành tiền 1 (đồng) | I31: Ghi chú
A32: 1 | B32: 2 | D32: 3 | E32: 4 | F32: 5 | G32: 6 | H32: 7 | I32: 8
A33: 1 | B33: Đất giao thông đường Quốc lộ 6 (DGT) | D33: m2 | E33: =C22 -> 25.2 | H33: =E33*F33*G33 -> 0
B34: Cộng: | H34: =SUM(H33:H33) -> 0
A36: 2. | B36: Bồi thường bằng đất ở hoặc nhà ở tái định cư (nếu có)
A37: TT | B37: Loại đất | D37: Đơn vị tính | E37: Khối lượng | F37: Đơn giá (đồng/m2) | G37: Tỷ lệ BT, HT (%) | H37: Thành tiền 2 (đồng) | I37: Ghi chú
A38: 1 | B38: 2 | D38: 3 | E38: 4 | F38: 5 | G38: 6 | H38: 7 | I38: 8
A39: 1 | I39: Không bố trí tái định cư.
B40: Cộng:
B42: Số tiền chênh lệch giữa tiền bồi thường đất thu hồi và tiền đất ở, nhà ở tái định cư được bố trí: | I42: Không
B43: * Người bị thu hồi đất được nhận (nếu thành tiền 1 lớn hơn thành tiền 2) | I43: Không
B44: * Người bị thu hồi đất phải nộp (nếu thành tiền 1 nhỏ hơn thành tiền 2) | I44: Không
A46: 3. | B46: Bồi thường, hỗ trợ về tài sản gắn liền với đất bị thu hồi:
A47: TT | B47: Tên tài sản | C47: Đơn vị tính | D47: Quy cách tài sản | E47: Khối lượng | F47: Đơn giá | G47: Tỷ lệ BT, HT (%) | H47: Thành tiền (đ) | I47: Ghi chú
A48: 1 | B48: 2 | C48: 3 | D48: 4 | E48: 5 | F48: 6 | G48: 7 | H48: 8 | I48: 9
A49: A. | B49: Nhà ở, công trình xây dựng | H49: =SUM(H50:H53) -> 0
A50: 1 | B50: Sân bê tông | C50: m2 | D50: 8 x 3,4 | E50: =8*3.4 -> 27.2 | I50: Không bồi thường theo Điều 105 Luật Đất đai 2024
A51: 2 | B51: Nhà 1 tầng, tường 110 bổ trụ, cao >3m, mái lợp tôn, nền lát gạch hoa, có phụ khu | C51: m2 | D51: = S đất | E51: =C20 -> 25.2
A52: 3 | B52: Gác xếp gỗ | C52: m2 | D52: (3,05 + 3,4)/2 x 4,4 | E52: =(3.05+3.4)/2*4.4 -> 14.19
A53: 4 | B53: Giếng khơi xây gạch | C53: m | D53: Sâu | E53: 18
A54: B. | B54: Cây trồng, vật nuôi là thủy sản
B56: Cộng (A+B) : | H56: =H49+H54 -> 0
A57: 4 | B57: Các khoản bồi thường, hỗ trợ khác:
A58: TT | B58: Khoản bồi thường, hỗ trợ | D58: Khối lượng | E58: Đơn vị tính | F58: Đơn giá | G58: Hệ số điều chỉnh | H58: Thành tiền (đ) | I58: Ghi chú
B60: Cộng: | H60: =SUM(H59) -> 0
A61: 5 | B61: Tổng cộng tiền bồi thường, hỗ trợ được nhận (1+2+3+4): | H61: =H60+H56+H40+H34 -> 0 | I61: đồng
B62: Bằng chữ: | C62: Không đồng ./.
F63: KT. CHỦ TỊCH
F64: PHÓ CHỦ TỊCH
F71: Trần Văn Sơn
A72: Ban Quản lý dự án đầu tư xây dựng công trình giao thông TP Hà Nội phối hợp với UBND Xã Phú Nghĩa tiến hành công khai phương án dự thảo chi tiết tới hộ gia đình trong vòng 10 ngày. Trong thời gian công khai nếu hộ gia đình có ý kiến thắc mắc về bản Dự thảo phương án chi tiết bồi thường, hỗ trợ & TĐC này thì gửi đơn về Phòng Kinh Tế - UBND Xã Phú Nghĩa.
A73: Ý kiến của hộ gia đình, cá nhân (Đánh dấu "x" vào ô S )
A74: Tôi đồng ý với phương án dự thảo chi tiết trên và đề nghị UBND xã Phú Nghĩa phê duyệt phương án bồi thường, hỗ trợ & tái định cư và ban hành Quyết định thu hồi đất * | E74: Tôi không đồng ý với phương án dự thảo chi tiết trên *
A77: (Hộ gia đình ký và ghi rõ họ tên)

Sheet Nguyễn Văn Chiến (5-9)
A1: BAN QLDA ĐẦU TƯ XÂY DỰNG | E1: CỘNG HÒA XÃ HỘI CHỦ NGHĨA VIỆT NAM
A2: CÔNG TRÌNH GIAO THÔNG TP HÀ NỘI | E2: Độc lập - Tự do - Hạnh phúc
A4: DỰ THẢO | E4: Hà Nội, ngày tháng 3 năm 2026
A5: PHƯƠNG ÁN CHI TIẾT BỒI THƯỜNG, HỖ TRỢ VÀ TÁI ĐỊNH CƯ
A6: Dự án thành phần 1.2: Bồi thường, hỗ trợ và tái định cư thực hiện giải phóng mặt bằng trên địa bàn huyện Chương Mỹ thuộc Dự án đầu tư cải tạo, nâng cấp Quốc Lộ 6 đoạn Ba La - Xuân Mai (Trên địa giới hành chính xã Phú Nghĩa)
A7: (Kèm theo Thông báo số: /TB-UBND ngày /3/2026 của Ủy ban nhân dân xã Phú Nghĩa)
A8: I. | B8: NGƯỜI SỬ DỤNG ĐẤT VÀ SỞ HỮU TÀI SẢN GẮN LIỀN VỚI ĐẤT THU HỒI:
A9: 1. | B9: Họ và tên người sử dụng đất thu hồi: | F9: Nguyễn Văn Chiến
B10: Nơi ở hiện nay: | C10: Thôn Phố Gốt- xã Phú Nghĩa - TP Hà Nội
B11: Nơi thường trú: | C11: Thôn Phố Gốt- xã Phú Nghĩa - TP Hà Nội
B12: Số định danh cá nhân: | C12: 001050018475
A13: 2. | B13: Họ và tên người sở hữu tài sản gắn liền với đất thu hồi: | F13: =F9 -> Nguyễn Văn Chiến
B14: Nơi ở hiện nay: | C14: =+C10 -> Thôn Phố Gốt- xã Phú Nghĩa - TP Hà Nội
B15: Nơi thường trú: | C15: =C11 -> Thôn Phố Gốt- xã Phú Nghĩa - TP Hà Nội
B16: Số định danh cá nhân: | C16: =+C12 -> 001050018475
A17: II | B17: HIỆN TRẠNG SỦ DỤNG ĐẤT VÀ TÀI SẢN GẮN LIỀN VỚI ĐẤT THU HỒI:
A18: 1. | B18: Hiện trạng sử dụng đất:
B19: Thửa đất số: | C19: 09 | D19: Tờ bản đồ số: | F19: 05
B20: Diện tích thửa đất: | C20: 26.6 | D20: m2
B21: Trong đó:
B22: Trong chỉ giới GPMB: | C22: 26.6 | D22: m2
B23: Ngoài chỉ giới GPMB: | C23: =C20-C22 -> 0 | D23: m2
B24: Vị trí, địa điểm thu hồi đất: | C24: Thôn Phố Gốt - Xã Phú Nghĩa - TP Hà Nội
A25: 2. | B25: Nguồn gốc, thời gian sử dụng đất: | C25: - Đất UBND xã Đông Sơn (cũ) cho hộ ông Nguyễn Văn Chiến thuê đất làm dịch vụ năm 1999, kích thước cho thuê diện tích 13,7m2. Hộ ông Nguyễn Văn Chiến đã nộp số tiền 14.000.000 đồng (Mười bốn triệu đồng) khi được cho thuê làm đất dịch vụ năm 1999. Tổng diện tích hiện trạng sử dụng là 26,6m2, tăng 12,9m2 so với diện tích đất dịch vụ được UBND xã cho thuê đất. Đối chiếu với các cạnh thửa đất giữa Bản đồ GPMB; Biên bản xác định kích thước thửa đất tăng 12,9m2 về phía Nam giáp đường Quốc lộ 6. - UBND xã Đông Sơn (cũ) cho thuê đất dịch vụ vào đất hành lang giao thông quy định tại Nghị định số 203-HĐBT ngày 21/12/1982 của Hội đồng Bộ trưởng về việc ban hành điều lệ bảo vệ đường bộ có hiệu lực thi hành quy định hành lang là 28m (tính từ tim đường ra mỗi bên), do vậy diện tích thu hồi 26,6m2 thuộc đất hành lang giao thông. (Trong đó: 13,7m2 đất được thuê làm dịch vụ là đất hành lang giao thông, 12,9m2 đất hành lang giao thông đường Quốc lộ 6). Không đủ điều kiện cấp giấy chứng nhận quyền sử dụng đất theo quy định của Luật Đất đai năm 2024. Phòng Kinh tế xác định diện tích thu hồi 26,6m2 đất do hộ ông Nguyễn Văn Chiến sử dụng là giao thông đường Quốc lộ 6 (DGT).
A26: 3. | B26: Số hộ gia đình (số cặp vợ chồng): | H26: 01 | I26: hộ
A27: 4. | B27: Số nhân khẩu | H27: 05 | I27: khẩu
A28: III. | B28: PHƯƠNG ÁN BỒI THƯỜNG, HỖ TRỢ VÀ TÁI ĐỊNH CƯ:
A29: 1. | B29: Bồi thường về đất và tái định cư:
A30: TT | B30: Tiền Bồi thường (Giá trị quyền sử dụng đất của diện tích đất thu hồi)
B31: Loại đất | D31: Đơn vị tính | E31: Khối lượng | F31: Đơn giá (đồng/m2) | G31: Tỷ lệ BT, HT (%) | H31: Thành tiền 1 (đồng) | I31: Ghi chú
A32: 1 | B32: 2 | D32: 3 | E32: 4 | F32: 5 | G32: 6 | H32: 7 | I32: 8
A33: 1 | B33: Đất giao thông đường Quốc lộ 6 (DGT) | D33: m2 | E33: =C22 -> 26.6 | H33: =E33*F33*G33 -> 0
B34: Cộng: | H34: =SUM(H33:H33) -> 0
A36: 2. | B36: Bồi thường bằng đất ở hoặc nhà ở tái định cư (nếu có)
A37: TT | B37: Loại đất | D37: Đơn vị tính | E37: Khối lượng | F37: Đơn giá (đồng/m2) | G37: Tỷ lệ BT, HT (%) | H37: Thành tiền 2 (đồng) | I37: Ghi chú
A38: 1 | B38: 2 | D38: 3 | E38: 4 | F38: 5 | G38: 6 | H38: 7 | I38: 8
A39: 1 | I39: Không bố trí tái định cư.
B40: Cộng:
B42: Số tiền chênh lệch giữa tiền bồi thường đất thu hồi và tiền đất ở, nhà ở tái định cư được bố trí: | I42: Không
B43: * Người bị thu hồi đất được nhận (nếu thành tiền 1 lớn hơn thành tiền 2) | I43: Không
B44: * Người bị thu hồi đất phải nộp (nếu thành tiền 1 nhỏ hơn thành tiền 2) | I44: Không
A46: 3. | B46: Bồi thường, hỗ trợ về tài sản gắn liền với đất bị thu hồi:
A47: TT | B47: Tên tài sản | C47: Đơn vị tính | D47: Quy cách tài sản | E47: Khối lượng | F47: Đơn giá | G47: Tỷ lệ BT, HT (%) | H47: Thành tiền (đ) | I47: Ghi chú
A48: 1 | B48: 2 | C48: 3 | D48: 4 | E48: 5 | F48: 6 | G48: 7 | H48: 8 | I48: 9
A49: A. | B49: Nhà ở, công trình xây dựng | H49: =SUM(H50:H55) -> 0
A50: 1 | B50: Sân gạch đỏ | C50: m2 | D50: 6,8 x 3,41 | E50: =6.8*3.41 -> 23.188 | I50: Không bồi thường theo Điều 105 Luật Đất đai 2024
A51: 2 | B51: Nhà 1 tầng mái bằng BTCT, tường 220 cao >3m, nền lát gạch hoa , trần nhựa có phụ khụ | C51: m2 | D51: (3,41 + 3,34)/2 x 7,5 | E51: =(3.41 + 3.34)/2 * 7.5 -> 25.3125
A52: * | B52: Diện tích trần nhựa | C52: m2 | D52: 3,26 x 4,7 | E52: =3.26*4.7 -> 15.322
A53: 3 | B53: Giếng khơi xây gạch | C53: m | D53: Sâu | E53: 10
A54: 4 | B54: Gác xép BTCT | C54: m2 | D54: 3,26 x 2,05 | E54: =3.26*2.05 -> 6.683
A55: 5 | B55: Mái vảy lợp Fribroximang | C55: m2 | D55: 3,41 x 0,5 | E55: =3.41*0.5 -> 1.705
A56: B. | B56: Cây trồng, vật nuôi là thủy sản | H56: =SUM(H57:H57) -> 0
B58: Cộng (A+B) : | H58: =H49+H56 -> 0
A59: 4 | B59: Các khoản bồi thường, hỗ trợ khác:
A60: TT | B60: Khoản bồi thường, hỗ trợ | D60: Khối lượng | E60: Đơn vị tính | F60: Đơn giá | G60: Hệ số điều chỉnh | H60: Thành tiền (đ) | I60: Ghi chú
B62: Cộng: | H62: =SUM(H61) -> 0
A63: 5 | B63: Tổng cộng tiền bồi thường, hỗ trợ được nhận (1+2+3+4): | H63: =H62+H58+H40+H34 -> 0 | I63: đồng
B64: Bằng chữ: | C64: Không đồng ./.
F65: KT. CHỦ TỊCH
F66: PHÓ CHỦ TỊCH
F73: Trần Văn Sơn
A74: Ban Quản lý dự án đầu tư xây dựng công trình giao thông TP Hà Nội phối hợp với UBND Xã Phú Nghĩa tiến hành công khai phương án dự thảo chi tiết tới hộ gia đình trong vòng 10 ngày. Trong thời gian công khai nếu hộ gia đình có ý kiến thắc mắc về bản Dự thảo phương án chi tiết bồi thường, hỗ trợ & TĐC này thì gửi đơn về Phòng Kinh Tế - UBND Xã Phú Nghĩa.
A75: Ý kiến của hộ gia đình, cá nhân (Đánh dấu "x" vào ô S )
A76: Tôi đồng ý với phương án dự thảo chi tiết trên và đề nghị UBND xã Phú Nghĩa phê duyệt phương án bồi thường, hỗ trợ & tái định cư và ban hành Quyết định thu hồi đất * | E76: Tôi không đồng ý với phương án dự thảo chi tiết trên *
A79: (Hộ gia đình ký và ghi rõ họ tên)

Sheet Bùi Văn Hồng
A1: BAN QLDA ĐẦU TƯ XÂY DỰNG | E1: CỘNG HÒA XÃ HỘI CHỦ NGHĨA VIỆT NAM
A2: CÔNG TRÌNH GIAO THÔNG TP HÀ NỘI | E2: Độc lập - Tự do - Hạnh phúc
A4: DỰ THẢO | E4: Hà Nội, ngày tháng 3 năm 2026
A5: PHƯƠNG ÁN CHI TIẾT BỒI THƯỜNG, HỖ TRỢ VÀ TÁI ĐỊNH CƯ
A6: Dự án thành phần 1.2: Bồi thường, hỗ trợ và tái định cư thực hiện giải phóng mặt bằng trên địa bàn huyện Chương Mỹ thuộc Dự án đầu tư cải tạo, nâng cấp Quốc Lộ 6 đoạn Ba La - Xuân Mai (Trên địa giới hành chính xã Phú Nghĩa)
A7: (Kèm theo Thông báo số: /TB-UBND ngày /3/2026 của Ủy ban nhân dân xã Phú Nghĩa)
A8: I. | B8: NGƯỜI SỬ DỤNG ĐẤT VÀ SỞ HỮU TÀI SẢN GẮN LIỀN VỚI ĐẤT THU HỒI:
A9: 1. | B9: Họ và tên người sử dụng đất thu hồi: | F9: Bùi Văn Hồng
B10: Nơi ở hiện nay: | C10: Tổ dân phố Đình Tổ - xã Quốc Oai - TP Hà Nội
B11: Nơi thường trú: | C11: Tổ dân phố Đình Tổ - xã Quốc Oai - TP Hà Nội
B12: Số định danh cá nhân: | C12: 001060010502
A13: 2. | B13: Họ và tên người sở hữu tài sản gắn liền với đất thu hồi: | F13: =F9 -> Bùi Văn Hồng
B14: Nơi ở hiện nay: | C14: =+C10 -> Tổ dân phố Đình Tổ - xã Quốc Oai - TP Hà Nội
B15: Nơi thường trú: | C15: =C11 -> Tổ dân phố Đình Tổ - xã Quốc Oai - TP Hà Nội
B16: Số định danh cá nhân: | C16: =+C12 -> 001060010502
A17: II | B17: HIỆN TRẠNG SỦ DỤNG ĐẤT VÀ TÀI SẢN GẮN LIỀN VỚI ĐẤT THU HỒI:
A18: 1. | B18: Hiện trạng sử dụng đất:
B19: Thửa đất số: | C19: 76 | D19: Tờ bản đồ số: | F19: 05
B20: Diện tích thửa đất: | C20: 82.4 | D20: m2
B21: Trong đó:
B22: Trong chỉ giới GPMB: | C22: 53.1 | D22: m2
B23: Ngoài chỉ giới GPMB: | C23: =C20-C22 -> 29.3 | D23: m2
B24: Vị trí, địa điểm thu hồi đất: | C24: Thôn Phố Gốt - xã Phú Nghĩa - TP Hà Nội
A25: 2 | B25: Nguồn gốc, thời gian sử dụng đất: | C25: - Theo đơn chuyển nhượng quyền sử dụng đất giữa bà Nguyễn Thị Út với ông Bùi Văn Hồng ngày 19/9/2009 được UBND xã Đông Sơn xác nhận ngày 19/9/1999 thể hiện bà Nguyễn Thị Út chuyển nhượng cho ông Bùi Văn Hồng 61,0 m2 trong lưu không là 41,2m2, ngoài lưu không là 19,8m2 có nguồn gốc: bà Nguyễn Thị Út được công ty thương mại huyện Chương Mỹ (cũ) thanh lý tài sản cho công nhân nghỉ theo chế độ Nghị định 176 năm 1991. Năm 1998 UBND xã Đông Sơn (cũ) giao đất dịch vụ cho bà Nguyễn Thị Út diện tích 61,0m2. Theo Bản đồ năm 1983 là đất hợp tác xã, đất kho muối, đất cơ quan H17, bản đồ dân cư năm 1996 là đất khu dân cư, ngoài ra không có giấy tờ gì khác, ông Hồng sử dụng đến nay. - Tổng diện tích 82,4m2 tăng 21,0m2 so với diện tích đất được giao là 61m2 (Trong đó: 42,1m2 trong lưu không, 19,8m2 ngoài lưu không). Đối chiếu các cạnh thửa đất giữa bản đồ GPMB và Giấy chứng nhận quyền sử dụng đất cấp của hộ, xác định tăng 21,0m2, trong đó tăng 16,6m2 về phía Bắc đường Quốc lộ 6, tăng 4,4m2 về phía Nam giáp hộ bà Nguyễn Thị Miến. - Căn cứ Nghị định số 203-HĐBT ngày 21/12/1982 của Hội đồng Bộ trưởng về việc ban hành điều lệ bảo vệ đường bộ có hiệu lực thi hành quy định hành lang là 28m (tính từ tim đường ra mỗi bên), do vậy diện tích thu hồi 53,1m2 là đất hành lang giao thông Quốc lộ 6. Không đủ điều kiện cấp giấy chứng nhận quyền sử dụng đất theo quy định của Luật Đất đai năm 2024. Phòng Kinh tế xác định diện tích thu hồi 53,1m2 đất do hộ ông Bùi Văn Hồng sử dụng là đất giao thông đường Quốc lộ 6 (DGT).
A26: 3 | B26: Số hộ gia đình (số cặp vợ chồng): | H26: 0 | I26: hộ
A27: 4 | B27: Số nhân khẩu | H27: 0 | I27: khẩu
A28: III. | B28: PHƯƠNG ÁN BỒI THƯỜNG, HỖ TRỢ VÀ TÁI ĐỊNH CƯ:
A29: 1. | B29: Bồi thường về đất và tái định cư:
A30: TT | B30: Tiền Bồi thường (Giá trị quyền sử dụng đất của diện tích đất thu hồi)
B31: Loại đất | D31: Đơn vị tính | E31: Khối lượng | F31: Đơn giá (đồng/m2) | G31: Tỷ lệ BT, HT (%) | H31: Thành tiền 1 (đồng) | I31: Ghi chú
A32: 1 | B32: 2 | D32: 3 | E32: 4 | F32: 5 | G32: 6 | H32: 7 | I32: 8
A33: 1 | B33: Đất giao thông đường Quốc lộ 6 (DGT) | D33: m2 | E33: =C22 -> 53.1 | H33: =E33*F33*G33 -> 0
B34: Cộng: | H34: =SUM(H33:H33) -> 0
A36: 2. | B36: Bồi thường bằng đất ở hoặc nhà ở tái định cư (nếu có)
A37: TT | B37: Loại đất | D37: Đơn vị tính | E37: Khối lượng | F37: Đơn giá (đồng/m2) | G37: Tỷ lệ BT, HT (%) | H37: Thành tiền 2 (đồng) | I37: Ghi chú
A38: 1 | B38: 2 | D38: 3 | E38: 4 | F38: 5 | G38: 6 | H38: 7 | I38: 8
A39: 1 | I39: Không bố trí tái định cư.
B40: Cộng:
B42: Số tiền chênh lệch giữa tiền bồi thường đất thu hồi và tiền đất ở, nhà ở tái định cư được bố trí: | I42: Không
B43: * Người bị thu hồi đất được nhận (nếu thành tiền 1 lớn hơn thành tiền 2) | I43: Không
B44: * Người bị thu hồi đất phải nộp (nếu thành tiền 1 nhỏ hơn thành tiền 2) | I44: Không
A46: 3. | B46: Bồi thường, hỗ trợ về tài sản gắn liền với đất bị thu hồi:
A47: TT | B47: Tên tài sản | C47: Đơn vị tính | D47: Quy cách tài sản | E47: Khối lượng | F47: Đơn giá (đồng/m2) | G47: Tỷ lệ BT, HT (%) | H47: Thành tiền (đ) | I47: Ghi chú
A48: 1 | B48: 2 | C48: 3 | D48: 4 | E48: 5 | F48: 6 | G48: 7 | H48: 8 | I48: 9
A49: A. | B49: Nhà ở, công trình xây dựng | H49: =SUM(H50:H55) -> 0
A50: 1 | B50: Sân bê tông (1) | C50: m2 | D50: 4,11 x 7,31 | E50: =4.11*7.31 -> 30.0441 | I50: Không bồi thường theo Điều 105 Luật Đất đai 2024
A51: 2 | B51: Sân bê tông (2) | C51: m2 | D51: (4,11+4,28)/2 x 3,44 | E51: 14.45
A52: 3 | B52: Nhà 1 tầng, cao >3m; mái lợp tôn; nền bê tông, tường xây gach 110 chịu lực, không có phụ khụ | C52: m2 | D52: =S đất -S bê tông(2) | E52: =C20-E51 -> 67.95
B53: - Diện tích nhà ngoài chỉ giới | C53: m2 | D53: = S đất ngoài chỉ giới | E53: =C23 -> 29.3
B54: - Diện tích nhà trong chỉ giới | C54: m2 | D54: = S nhà - S nhà ngoài chỉ giới | E54: =E52-E53 -> 38.65
A55: 4 | B55: Giếng khơi xây gạch | C55: m | D55: Sâu 12m | E55: 12
A56: B. | B56: Cây trồng, vật nuôi là thủy sản | H56: =SUM(H57:H57) -> 0
A57: 1
B58: Cộng (A+B) : | H58: =H49+H56 -> 0
A59: 4 | B59: Các khoản bồi thường, hỗ trợ khác:
A60: TT | B60: Khoản bồi thường, hỗ trợ | D60: Khối lượng | E60: Đơn vị tính | F60: Đơn giá | G60: Hệ số điều chỉnh | H60: Thành tiền (đ) | I60: Ghi chú
B62: Cộng: | H62: =SUM(H61) -> 0
A63: 5 | B63: Tổng cộng tiền bồi thường, hỗ trợ được nhận (1+2+3+4): | H63: =H62+H58+H40+H34 -> 0 | I63: đồng
B64: Bằng chữ: | C64: Không đồng ./.
F65: KT. CHỦ TỊCH
F66: PHÓ CHỦ TỊCH
F73: Trần Văn Sơn
A74: Ban Quản lý dự án đầu tư xây dựng công trình giao thông TP Hà Nội phối hợp với UBND Xã Phú Nghĩa tiến hành công khai phương án dự thảo chi tiết tới hộ gia đình trong vòng 10 ngày. Trong thời gian công khai nếu hộ gia đình có ý kiến thắc mắc về bản Dự thảo phương án chi tiết bồi thường, hỗ trợ & TĐC này thì gửi đơn về Phòng Kinh Tế - UBND Xã Phú Nghĩa.
A75: Ý kiến của hộ gia đình, cá nhân (Đánh dấu "x" vào ô S )
A76: Tôi đồng ý với phương án dự thảo chi tiết trên và đề nghị UBND xã Phú Nghĩa phê duyệt phương án bồi thường, hỗ trợ & tái định cư và ban hành Quyết định thu hồi đất * | E76: Tôi không đồng ý với phương án dự thảo chi tiết trên *
A79: (Hộ gia đình ký và ghi rõ họ tên)

Sheet Nguyễn Thị Nguyên (5-45)
A1: BAN QLDA ĐẦU TƯ XÂY DỰNG | E1: CỘNG HÒA XÃ HỘI CHỦ NGHĨA VIỆT NAM
A2: CÔNG TRÌNH GIAO THÔNG TP HÀ NỘI | E2: Độc lập - Tự do - Hạnh phúc
A4: DỰ THẢO | E4: Hà Nội, ngày tháng 3 năm 2026
A5: PHƯƠNG ÁN CHI TIẾT BỒI THƯỜNG, HỖ TRỢ VÀ TÁI ĐỊNH CƯ
A6: Dự án thành phần 1.2: Bồi thường, hỗ trợ và tái định cư thực hiện giải phóng mặt bằng trên địa bàn huyện Chương Mỹ thuộc Dự án đầu tư cải tạo, nâng cấp Quốc Lộ 6 đoạn Ba La - Xuân Mai (Trên địa giới hành chính xã Phú Nghĩa)
A7: (Kèm theo Thông báo số: /TB-UBND ngày /3/2026 của Ủy ban nhân dân xã Phú Nghĩa)
A8: I. | B8: NGƯỜI SỬ DỤNG ĐẤT VÀ SỞ HỮU TÀI SẢN GẮN LIỀN VỚI ĐẤT THU HỒI:
A9: 1. | B9: Họ và tên người sử dụng đất thu hồi: | F9: Nguyễn Thị Nguyên
B10: Nơi ở hiện nay: | C10: Thôn Đông Cựu Đồi - xã Phú Nghĩa - TP Hà Nội
B11: Nơi thường trú: | C11: Thôn Đông Cựu Đồi - xã Phú Nghĩa - TP Hà Nội
B12: Số định danh cá nhân: | C12: 001165004448
A13: 2. | B13: Họ và tên người sở hữu tài sản gắn liền với đất thu hồi: | F13: =F9 -> Nguyễn Thị Nguyên
B14: Nơi ở hiện nay: | C14: =+C10 -> Thôn Đông Cựu Đồi - xã Phú Nghĩa - TP Hà Nội
B15: Nơi thường trú: | C15: =C11 -> Thôn Đông Cựu Đồi - xã Phú Nghĩa - TP Hà Nội
B16: Số định danh cá nhân: | C16: =+C12 -> 001165004448
A17: II | B17: HIỆN TRẠNG SỦ DỤNG ĐẤT VÀ TÀI SẢN GẮN LIỀN VỚI ĐẤT THU HỒI:
A18: 1. | B18: Hiện trạng sử dụng đất:
B19: Thửa đất số: | C19: 45 | D19: Tờ bản đồ số: | F19: 05
B20: Diện tích thửa đất: | C20: 60.5 | D20: m2
B21: Trong đó:
B22: Trong chỉ giới GPMB: | C22: 43 | D22: m2
B23: Ngoài chỉ giới GPMB: | C23: =C20-C22 -> 17.5 | D23: m2
B24: Vị trí, địa điểm thu hồi đất: | C24: Thôn Phố Gốt - Xã Phú Nghĩa - TP Hà Nội
A25: 2. | B25: Nguồn gốc, thời gian sử dụng đất: | C25: - Bà Nguyễn Thị Nguyên được UBND xã Đông Sơn (cũ) giao đất làm dịch vụ năm 1991, với tổng diện tích 35,0m2, UBND xã Đông Sơn (cũ) ký xác nhận. (kèm theo gồm; Biên bản giao làm dịch vụ ngày 30/11/1991, Phiếu thu tiền đất dịch vụ năm 1991 là 1.750.000đ và năm 1999 là 2.970.000đ) ngoài ra không có giấy tờ gì khác, bà Nguyên sử dụng từ đó đến nay. - Tổng diện tích 60,5m2 tăng 25,5m2 so với diện tích được so với diện tích đất được giao. Đối chiếu với các cạnh thửa đất giữa Bản đồ GPMB và giấy chứng nhận quyền sử dụng đất được cấp của hộ, xác định tăng 25,5m2, Trong đó tăng 9,1m2 về phía Bắc giáp đường Quốc lộ 6, tăng 16,4m2 về phía Nam giáp đất chợ Gốt. - Căn cứ Nghị định số 203-HĐBT ngày 21/12/1982 của Hội đồng Bộ trưởng về việc ban hành điều lệ bảo vệ đường bộ có hiệu lực thi hành quy định hành lang là 28m (tính từ tim đường ra mỗi bên), do vậy diện tích thu hồi 43,0m2 là đất hành lang giao thông đường Quốc lộ 6 (Trong đó: 33,9m2 là đất dịch vụ, 9,1m2 là đất hành lang giao thông đường Quốc lộ 6). Không đủ điều kiện cấp giấy chứng nhận quyền sử dụng đất theo quy định của Luật Đất đai năm 2024. Phòng Kinh tế xác định diện tích thu hồi 43,0m2 đất Bà Nguyễn Thị Nguyên sử dụng là đất giao thông đường Quốc lộ 6 (DGT).
A26: 3. | B26: Số hộ gia đình (số cặp vợ chồng): | H26: 01 | I26: hộ
A27: 4. | B27: Số nhân khẩu | H27: 07 | I27: khẩu
A28: III. | B28: PHƯƠNG ÁN BỒI THƯỜNG, HỖ TRỢ VÀ TÁI ĐỊNH CƯ:
A29: 1. | B29: Bồi thường về đất và tái định cư:
A30: TT | B30: Tiền Bồi thường (Giá trị quyền sử dụng đất của diện tích đất thu hồi)
B31: Loại đất | D31: Đơn vị tính | E31: Khối lượng | F31: Đơn giá (đồng/m2) | G31: Tỷ lệ BT, HT (%) | H31: Thành tiền 1 (đồng) | I31: Ghi chú
A32: 1 | B32: 2 | D32: 3 | E32: 4 | F32: 5 | G32: 6 | H32: 7 | I32: 8
A33: 1 | B33: Đất giao thông đường Quốc lộ 6 (DGT) | D33: m2 | E33: =C22 -> 43 | H33: =E33*F33*G33 -> 0
B34: Cộng: | H34: =SUM(H33:H33) -> 0
A36: 2. | B36: Bồi thường bằng đất ở hoặc nhà ở tái định cư (nếu có)
A37: TT | B37: Loại đất | D37: Đơn vị tính | E37: Khối lượng | F37: Đơn giá (đồng/m2) | G37: Tỷ lệ BT, HT (%) | H37: Thành tiền 2 (đồng) | I37: Ghi chú
A38: 1 | B38: 2 | D38: 3 | E38: 4 | F38: 5 | G38: 6 | H38: 7 | I38: 8
A39: 1 | I39: Không bố trí tái định cư.
B40: Cộng:
B42: Số tiền chênh lệch giữa tiền bồi thường đất thu hồi và tiền đất ở, nhà ở tái định cư được bố trí: | I42: Không
B43: * Người bị thu hồi đất được nhận (nếu thành tiền 1 lớn hơn thành tiền 2) | I43: Không
B44: * Người bị thu hồi đất phải nộp (nếu thành tiền 1 nhỏ hơn thành tiền 2) | I44: Không
A46: 3. | B46: Bồi thường, hỗ trợ về tài sản gắn liền với đất bị thu hồi:
A47: TT | B47: Tên tài sản | C47: Đơn vị tính | D47: Quy cách tài sản | E47: Khối lượng | F47: Đơn giá | G47: Tỷ lệ BT, HT (%) | H47: Thành tiền (đ) | I47: Ghi chú
A48: 1 | B48: 2 | C48: 3 | D48: 4 | E48: 5 | F48: 6 | G48: 7 | H48: 8 | I48: 9
A49: A. | B49: Nhà ở, công trình xây dựng | H49: =SUM(H50:H55) -> 0
A50: 1 | B50: Sân bê tông | C50: m2 | D50: 9 x 4,29 | E50: =9*4.29 -> 38.61 | I50: Không bồi thường theo Điều 105 Luật Đất đai 2024
A51: 2 | B51: Mái vẩy lợp tôn | C51: m2 | D51: 1 x 4,29 | E51: =1*4.29 -> 4.29
A52: 3 | B52: Nhà mái tôn từ 110 cao >3m nền gạch đỏ, không phụ khu | C52: m2 | D52: 4,29 x 2,6 | E52: =4.29*2.6 -> 11.154
A53: 4 | B53: Nhà 1 tầng mái bằng BTCT từ 220 chịu lực | C53: m2
B54: - Diện tích nhà trong chỉ giới | C54: m2 | D54: = S đất trong chỉ giới - S nhà mái tôn | E54: =C22-E52 -> 31.846
A55: 5 | B55: Giếng khơi xây gạch | C55: m | D55: Sâu | E55: 13
A56: B. | B56: Cây trồng, vật nuôi là thủy sản | H56: =SUM(H57:H57) -> 0
B58: Cộng (A+B) : | H58: =H49+H56 -> 0
A59: 4 | B59: Các khoản bồi thường, hỗ trợ khác:
A60: TT | B60: Khoản bồi thường, hỗ trợ | D60: Khối lượng | E60: Đơn vị tính | F60: Đơn giá | G60: Hệ số điều chỉnh | H60: Thành tiền (đ) | I60: Ghi chú
B62: Cộng: | H62: =SUM(H61) -> 0
A63: 5 | B63: Tổng cộng tiền bồi thường, hỗ trợ được nhận (1+2+3+4): | H63: =H62+H58+H40+H34 -> 0 | I63: đồng
B64: Bằng chữ: | C64: Không đồng ./.
F65: KT. CHỦ TỊCH
F66: PHÓ CHỦ TỊCH
F73: Trần Văn Sơn
A74: Ban Quản lý dự án đầu tư xây dựng công trình giao thông TP Hà Nội phối hợp với UBND Xã Phú Nghĩa tiến hành công khai phương án dự thảo chi tiết tới hộ gia đình trong vòng 10 ngày. Trong thời gian công khai nếu hộ gia đình có ý kiến thắc mắc về bản Dự thảo phương án chi tiết bồi thường, hỗ trợ & TĐC này thì gửi đơn về Phòng Kinh Tế - UBND Xã Phú Nghĩa.
A75: Ý kiến của hộ gia đình, cá nhân (Đánh dấu "x" vào ô S )
A76: Tôi đồng ý với phương án dự thảo chi tiết trên và đề nghị UBND xã Phú Nghĩa phê duyệt phương án bồi thường, hỗ trợ & tái định cư và ban hành Quyết định thu hồi đất * | E76: Tôi không đồng ý với phương án dự thảo chi tiết trên *
A79: (Hộ gia đình ký và ghi rõ họ tên)

Sheet Trịnh Quang Lê (5-56)
A1: BAN QLDA ĐẦU TƯ XÂY DỰNG | E1: CỘNG HÒA XÃ HỘI CHỦ NGHĨA VIỆT NAM
A2: CÔNG TRÌNH GIAO THÔNG TP HÀ NỘI | E2: Độc lập - Tự do - Hạnh phúc
A4: DỰ THẢO | E4: Hà Nội, ngày tháng 3 năm 2026
A5: PHƯƠNG ÁN CHI TIẾT BỒI THƯỜNG, HỖ TRỢ VÀ TÁI ĐỊNH CƯ
A6: Dự án thành phần 1.2: Bồi thường, hỗ trợ và tái định cư thực hiện giải phóng mặt bằng trên địa bàn huyện Chương Mỹ thuộc Dự án đầu tư cải tạo, nâng cấp Quốc Lộ 6 đoạn Ba La - Xuân Mai (Trên địa giới hành chính xã Phú Nghĩa)
A7: (Kèm theo Thông báo số: /TB-UBND ngày /3/2026 của Ủy ban nhân dân xã Phú Nghĩa)
A8: I. | B8: NGƯỜI SỬ DỤNG ĐẤT VÀ SỞ HỮU TÀI SẢN GẮN LIỀN VỚI ĐẤT THU HỒI:
A9: 1. | B9: Họ và tên người sử dụng đất thu hồi: | F9: Trịnh Quang Lê - Đỗ Thị Nguyệt
B10: Nơi ở hiện nay: | C10: Thôn Phố Gốt - xã Phú Nghĩa - TP Hà Nội
B11: Nơi thường trú: | C11: Thôn Phố Gốt - xã Phú Nghĩa - TP Hà Nội
B12: Số định danh cá nhân: | C12: 0380700144311 - 001175042864
A13: 2. | B13: Họ và tên người sở hữu tài sản gắn liền với đất thu hồi: | F13: =F9 -> Trịnh Quang Lê - Đỗ Thị Nguyệt
B14: Nơi ở hiện nay: | C14: =+C10 -> Thôn Phố Gốt - xã Phú Nghĩa - TP Hà Nội
B15: Nơi thường trú: | C15: =C11 -> Thôn Phố Gốt - xã Phú Nghĩa - TP Hà Nội
B16: Số định danh cá nhân: | C16: =+C12 -> 0380700144311 - 001175042864
A17: II | B17: HIỆN TRẠNG SỦ DỤNG ĐẤT VÀ TÀI SẢN GẮN LIỀN VỚI ĐẤT THU HỒI:
A18: 1. | B18: Hiện trạng sử dụng đất:
B19: Thửa đất số: | C19: 56 | D19: Tờ bản đồ số: | F19: 05
B20: Diện tích thửa đất: | C20: 50.1 | D20: m2
B21: Trong đó:
B22: Trong chỉ giới GPMB: | C22: 42.6 | D22: m2
B23: Ngoài chỉ giới GPMB: | C23: =C20-C22 -> 7.5 | D23: m2
B24: Vị trí, địa điểm thu hồi đất: | C24: Thôn Phố Gốt - Xã Phú Nghĩa - TP Hà Nội
A25: 2. | B25: Nguồn gốc, thời gian sử dụng đất: | C25: - Đất UBND xã giao đất làm dịch vụ cho hộ ông Lưu Công Tuấn theo Biên bản giao đất dịch vụ của UBND xã Đông Sơn ngày 30/11/1991, diện tích được giao là 35,2 m2 (kích thước 4,4 m x 8,0 m), cách tim đường quốc lộ 6 là 17,5 m. Hộ ông Lưu Công Tuấn sử dụng đến năm 2000, chuyển nhượng toàn bộ diện tích đất và tài sản trên đất cho ông Trịnh Quang Lê cùng vợ là Đỗ Thị Nguyệt (có xác nhận của UBND xã Đông Sơn ngày 20/10/2000).Tổng diện tích hiện trạng sử dụng 50,1 m2 tăng 14,9m2 so với diện tích theo biên bản giao đất ngày 30/11/1991. - Đối chiếu với các cạnh thửa đất giữa Bản đồ GPMB và kích thước mô tả iện tích thửa đất giao, xác định tăng 14,9m2 về phía Bắc giáp đường Quốc lộ 6. - UBND xã Đông Sơn (cũ) cấp đất dịch vụ vào đất hành lang giao thông quy định tại Nghị định số 203-HĐBT ngày 21/12/1982 của Hội đồng Bộ trưởng về việc ban hành điều lệ bảo vệ đường bộ có hiệu lực thi hành do vậy số diện tích thu hồi 42,6m2 đất hành lang giao thông (Trong đó: 27,7m2 đất dịch vụ thuộc đất hành lang giao thông, 14,9m2 đất hành lang giao thông đường Quốc lộ 6). Không đủ điều kiện cấp giấy chứng nhận quyền sử dụng đất theo quy định của Luật Đất đai năm 2024. Phòng Kinh tế xác định diện tích thu hồi 42,6m2 do ông Trịnh Quang Lê và bà Đỗ Thị Nguyệt sử dụng là đất giao thông đường Quốc lộ 6 (DGT).
A27: 3. | B27: Số hộ gia đình (số cặp vợ chồng): | H27: 01 | I27: hộ
A28: 4. | B28: Số nhân khẩu | H28: 04 | I28: khẩu
A29: III. | B29: PHƯƠNG ÁN BỒI THƯỜNG, HỖ TRỢ VÀ TÁI ĐỊNH CƯ:
A30: 1. | B30: Bồi thường về đất và tái định cư:
A31: TT | B31: Tiền Bồi thường (Giá trị quyền sử dụng đất của diện tích đất thu hồi)
B32: Loại đất | D32: Đơn vị tính | E32: Khối lượng | F32: Đơn giá (đồng/m2) | G32: Tỷ lệ BT, HT (%) | H32: Thành tiền 1 (đồng) | I32: Ghi chú
A33: 1 | B33: 2 | D33: 3 | E33: 4 | F33: 5 | G33: 6 | H33: 7 | I33: 8
A34: 1 | B34: Đất giao thông đường Quốc lộ 6 (DGT) | D34: m2 | E34: =C22 -> 42.6 | H34: =E34*F34*G34 -> 0
B35: Cộng: | H35: =SUM(H34:H34) -> 0
A37: 2. | B37: Bồi thường bằng đất ở hoặc nhà ở tái định cư (nếu có)
A38: TT | B38: Loại đất | D38: Đơn vị tính | E38: Khối lượng | F38: Đơn giá (đồng/m2) | G38: Tỷ lệ BT, HT (%) | H38: Thành tiền 2 (đồng) | I38: Ghi chú
A39: 1 | B39: 2 | D39: 3 | E39: 4 | F39: 5 | G39: 6 | H39: 7 | I39: 8
A40: 1 | I40: Không bố trí tái định cư.
B41: Cộng:
B43: Số tiền chênh lệch giữa tiền bồi thường đất thu hồi và tiền đất ở, nhà ở tái định cư được bố trí: | I43: Không
B44: * Người bị thu hồi đất được nhận (nếu thành tiền 1 lớn hơn thành tiền 2) | I44: Không
B45: * Người bị thu hồi đất phải nộp (nếu thành tiền 1 nhỏ hơn thành tiền 2) | I45: Không
A47: 3. | B47: Bồi thường, hỗ trợ về tài sản gắn liền với đất bị thu hồi:
A48: TT | B48: Tên tài sản | C48: Đơn vị tính | D48: Quy cách tài sản | E48: Khối lượng | F48: Đơn giá | G48: Tỷ lệ BT, HT (%) | H48: Thành tiền (đ) | I48: Ghi chú
A49: 1 | B49: 2 | C49: 3 | D49: 4 | E49: 5 | F49: 6 | G49: 7 | H49: 8 | I49: 9
A50: A. | B50: Nhà ở, công trình xây dựng | H50: =SUM(H51:H61) -> 0
A51: 1 | B51: Sân bê tông | C51: m2 | E51: 47 | I51: Không bồi thường theo Điều 105 Luật Đất đai 2024
A52: 2 | B52: Mái vẩy tôn | C52: m2 | D52: 1,5 x 4,28 | E52: =1.5*4.28 -> 6.42
A53: 3 | B53: Nhà 1 tầng mái lợp tôn, cao >3m, tường 110, không có phụ khu, nền gạch đỏ | C53: m2 | D53: 4,28 x 1,45 | E53: =4.28*1.45 -> 6.206
A54: 4 | B54: Nhà 1 tầng BTCT, tường 220 chịu lực, cao >3m, nền gạch hoa, có gác xép, mái tôn trên gác xép. | C54: m2 | D54: 7,15 x 4,28 | E54: =7.15*4.28 -> 30.602
B55: - Gác xép gỗ | C55: m2 | D55: = S nhà | E55: =E54 -> 30.602
B56: - Mái tôn trên gác xép | C56: m2 | D56: = S gác xép gỗ | E56: =E55 -> 30.602
A57: 5 | B57: Nhà 1 tầng BTCT, cao <3m, tường 110, có phụ khu, nền gạch hoa | C57: m2 | D57: 2,99 x 2,1 | E57: 6.27
B58: - Diện tích nhà trong chỉ giới | C58: m2 | D58: 1,2 x 2,1 | E58: =1.2*2.1 -> 2.52
B59: - Diện tích nhà ngoài chỉ giới | C59: m2 | D59: S nhà - 2,52 | E59: =E57-E58 -> 3.75
A60: 6 | B60: Gác xếp gỗ | C60: m2 | D60: [(1,26+1,2) x 4,28]/2 | E60: =((1.26+1.2) * 4.28)/2 -> 5.2644
A61: 7 | B61: Giếng đào xây gạch | C61: m | D61: Sâu | E61: 11
A62: B. | B62: Cây trồng, vật nuôi là thủy sản | H62: =SUM(H63:H63) -> 0
A63: 1 | B63: Cây Ngô đồng | C63: Cây | D63: ĐKT> 60cm | E63: 1 | I63: Không bồi thường theo Điều 105 Luật Đất đai 2024
B64: Cộng (A+B) : | H64: =H50+H62 -> 0
A65: 4 | B65: Các khoản bồi thường, hỗ trợ khác:
A66: TT | B66: Khoản bồi thường, hỗ trợ | D66: Khối lượng | E66: Đơn vị tính | F66: Đơn giá | G66: Hệ số điều chỉnh | H66: Thành tiền (đ) | I66: Ghi chú
B68: Cộng: | H68: =SUM(H67) -> 0
A69: 5 | B69: Tổng cộng tiền bồi thường, hỗ trợ được nhận (1+2+3+4): | H69: =H68+H64+H41+H35 -> 0 | I69: đồng
B70: Bằng chữ: | C70: Không đồng ./.
F72: PHÓ CHỦ TỊCH
F79: Trần Văn Sơn
A80: Ban Quản lý dự án đầu tư xây dựng công trình giao thông TP Hà Nội phối hợp với UBND Xã Phú Nghĩa tiến hành công khai phương án dự thảo chi tiết tới hộ gia đình trong vòng 10 ngày. Trong thời gian công khai nếu hộ gia đình có ý kiến thắc mắc về bản Dự thảo phương án chi tiết bồi thường, hỗ trợ & TĐC này thì gửi đơn về Phòng Kinh Tế - UBND Xã Phú Nghĩa.
A81: Ý kiến của hộ gia đình, cá nhân (Đánh dấu "x" vào ô S )
A82: Tôi đồng ý với phương án dự thảo chi tiết trên và đề nghị UBND xã Phú Nghĩa phê duyệt phương án bồi thường, hỗ trợ & tái định cư và ban hành Quyết định thu hồi đất * | E82: Tôi không đồng ý với phương án dự thảo chi tiết trên *
A85: (Hộ gia đình ký và ghi rõ họ tên)

Sheet Nguyễn Đức Tú (6-62)
A1: BAN QLDA ĐẦU TƯ XÂY DỰNG | E1: CỘNG HÒA XÃ HỘI CHỦ NGHĨA VIỆT NAM
A2: CÔNG TRÌNH GIAO THÔNG TP HÀ NỘI | E2: Độc lập - Tự do - Hạnh phúc
A4: DỰ THẢO | E4: Hà Nội, ngày tháng 3 năm 2026
A5: PHƯƠNG ÁN CHI TIẾT BỒI THƯỜNG, HỖ TRỢ VÀ TÁI ĐỊNH CƯ
A6: Dự án thành phần 1.2: Bồi thường, hỗ trợ và tái định cư thực hiện giải phóng mặt bằng trên địa bàn huyện Chương Mỹ thuộc Dự án đầu tư cải tạo, nâng cấp Quốc Lộ 6 đoạn Ba La - Xuân Mai (Trên địa giới hành chính xã Phú Nghĩa)
A7: (Kèm theo Thông báo số: /TB-UBND ngày /3/2026 của Ủy ban nhân dân xã Phú Nghĩa)
A8: I. | B8: NGƯỜI SỬ DỤNG ĐẤT VÀ SỞ HỮU TÀI SẢN GẮN LIỀN VỚI ĐẤT THU HỒI:
A9: 1. | B9: Họ và tên người sử dụng đất thu hồi: | F9: Nguyễn Đức Tú
B10: Nơi ở hiện nay: | C10: Thôn Phố Gốt - xã Phú Nghĩa - TP Hà Nội
B11: Nơi thường trú: | C11: Thôn Phố Gốt - xã Phú Nghĩa - TP Hà Nội
B12: Số định danh cá nhân: | C12: 001095032801
A13: 2. | B13: Họ và tên người sở hữu tài sản gắn liền với đất thu hồi: | F13: =+F9 -> Nguyễn Đức Tú
B14: Nơi ở hiện nay: | C14: =C10 -> Thôn Phố Gốt - xã Phú Nghĩa - TP Hà Nội
B15: Nơi thường trú: | C15: =C11 -> Thôn Phố Gốt - xã Phú Nghĩa - TP Hà Nội
B16: Số định danh cá nhân: | C16: =+C12 -> 001095032801
A17: II | B17: HIỆN TRẠNG SỦ DỤNG ĐẤT VÀ TÀI SẢN GẮN LIỀN VỚI ĐẤT THU HỒI:
A18: 1. | B18: Hiện trạng sử dụng đất:
B19: Thửa đất số: | C19: 62 | D19: Tờ bản đồ số: | F19: 06
B20: Diện tích thửa đất: | C20: 111.5 | D20: m2
B21: Trong đó:
B22: Trong chỉ giới GPMB: | C22: 37.6 | D22: m2
B23: Ngoài chỉ giới GPMB: | C23: =C20-C22 -> 73.9 | D23: m2
B24: Vị trí, địa điểm thu hồi đất: | C24: Thôn Phố Gốt - xã Phú Nghĩa - TP Hà Nội
A25: 2. | B25: Nguồn gốc, thời gian sử dụng đất: | C25: - Ông Nguyễn Đức Tú được UBND huyện Chương Mỹ cấp giấy chứng nhận QSD đất thửa số 226, tờ bản đồ số 38, số BV 481193, số vào sổ 00791 với diện tích 51m2 cấp ngày 23/06/2014. Mục đích sử dụng là đất ở tại nông thôn. Tổng diện tích hiện trạng sử dụng là 111,5m2, tăng 60,5m2 so với diện tích đất được cấp giấy chứng nhận là do trong quá trình sử dụng hộ tự cơi nới sử dụng ra một phần diện tích đất hành lang giao thông đường Quốc lộ 6. - Đối chiếu với các cạnh thửa đất giữa Bản đồ GPMB; Giấy chứng nhận quyền sử dụng đất được cấp của ông Nguyễn Đức Tú, xác định tăng 60,5m2; Trong đó: Tăng 3,14m2 về phía Đông, tăng 57,36m2 về phía Bắc giáp đường Quốc lộ 6. - Căn cứ Bản đồ phục vụ công tác GPMB; Nghị định số 203-HĐBT ngày 21/12/1982 của Hội đồng Bộ trưởng về việc ban hành điều lệ bảo vệ đường bộ; Giấy chứng nhận quyền sử dụng đất của ông Nguyễn Đức Tú. Phòng Kinh tế xác định diện tích thu hồi 37,6m2 đất do ông Nguyễn Đức Tú sử dụng là đất giao thông đường Quốc lộ 6 (DGT).
A26: 3. | B26: Số hộ gia đình (số cặp vợ chồng): | H26: 01 | I26: hộ
A27: 4. | B27: Số nhân khẩu | H27: 04 | I27: khẩu
A28: III. | B28: PHƯƠNG ÁN BỒI THƯỜNG, HỖ TRỢ VÀ TÁI ĐỊNH CƯ:
A29: 1. | B29: Bồi thường về đất và tái định cư:
A30: TT | B30: Tiền Bồi thường (Giá trị quyền sử dụng đất của diện tích đất thu hồi)
B31: Loại đất | D31: Đơn vị tính | E31: Khối lượng | F31: Đơn giá (đồng/m2) | G31: Tỷ lệ BT, HT (%) | H31: Thành tiền 1 (đồng) | I31: Ghi chú
A32: 1 | B32: 2 | D32: 3 | E32: 4 | F32: 5 | G32: 6 | H32: 7 | I32: 8
A33: 1 | B33: Đất giao thông đường Quốc lộ 6 (DGT) | D33: m2 | E33: =C22 -> 37.6 | H33: =E33*F33*G33 -> 0
B34: Cộng: | H34: =SUM(H33:H33) -> 0
A36: 2. | B36: Bồi thường bằng đất ở hoặc nhà ở tái định cư (nếu có)
A37: TT | B37: Loại đất | D37: Đơn vị tính | E37: Khối lượng | F37: Đơn giá (đồng/m2) | G37: Tỷ lệ BT, HT (%) | H37: Thành tiền 2 (đồng) | I37: Ghi chú
A38: 1 | B38: 2 | D38: 3 | E38: 4 | F38: 5 | G38: 6 | H38: 7 | I38: 8
A39: 1 | I39: Không bố trí tái định cư.
B40: Cộng:
B42: Số tiền chênh lệch giữa tiền bồi thường đất thu hồi và tiền đất ở, nhà ở tái định cư được bố trí: | I42: Không
B43: * Người bị thu hồi đất được nhận (nếu thành tiền 1 lớn hơn thành tiền 2) | I43: Không
B44: * Người bị thu hồi đất phải nộp (nếu thành tiền 1 nhỏ hơn thành tiền 2) | I44: Không
A46: 3. | B46: Bồi thường, hỗ trợ về tài sản gắn liền với đất bị thu hồi:
A47: TT | B47: Tên tài sản | C47: Đơn vị tính | D47: Quy cách tài sản | E47: Khối lượng | F47: Đơn giá | G47: Tỷ lệ BT, HT (%) | H47: Thành tiền (đ) | I47: Ghi chú
A48: 1 | B48: 2 | C48: 3 | D48: 4 | E48: 5 | F48: 6 | G48: 7 | H48: 8 | I48: 9
A49: A. | B49: Nhà ở, công trình xây dựng | H49: =SUM(H50:H54) -> 0
A50: 1 | B50: Nhà 1 tầng BTCT, nền gạch đỏ, tường 220, không phụ khu | C50: m2 | D50: 8,46 x 4,42 | E50: =8.46*4.42 -> 37.3932 | I50: Không bồi thường theo Điều 105 Luật Đất đai 2024
A51: 2 | B51: Nhà bán mái, lợp tôn, khung sắt | C51: m2 | D51: 7,9 x 4,42 | E51: =7.9*4.42 -> 34.918
A52: 3 | B52: Trần tôn | C52: m2 | D52: 7,8 x 4,2 | E52: 32.7
A53: 4 | B53: Mái vảy lợp tôn | C53: m2 | D53: 4,42 x 4,4 | E53: =4.42*4.4 -> 19.448
A54: 5 | B54: Sân bê tông | C54: m2 | D54: 6 x 4,4 | E54: =6*4.4 -> 26.4
A55: B. | B55: Cây trồng, vật nuôi là thủy sản | H55: =SUM(H56:H56) -> 0
B57: Cộng (A+B) : | H57: =H49+H55 -> 0
A58: 4 | B58: Các khoản bồi thường, hỗ trợ khác:
A59: TT | B59: Khoản bồi thường, hỗ trợ | D59: Khối lượng | E59: Đơn vị tính | F59: Đơn giá | G59: Hệ số điều chỉnh | H59: Thành tiền (đ) | I59: Ghi chú
B61: Cộng: | H61: =SUM(H60) -> 0
A62: 5 | B62: Tổng cộng tiền bồi thường, hỗ trợ được nhận (1+2+3+4): | H62: =H61+H57+H40+H34 -> 0 | I62: đồng
B63: Bằng chữ: | C63: Không đồng ./.
F64: KT. CHỦ TỊCH
F65: PHÓ CHỦ TỊCH
F72: Trần Văn Sơn
A73: Ban Quản lý dự án đầu tư xây dựng công trình giao thông TP Hà Nội phối hợp với UBND Xã Phú Nghĩa tiến hành công khai phương án dự thảo chi tiết tới hộ gia đình trong vòng 10 ngày. Trong thời gian công khai nếu hộ gia đình có ý kiến thắc mắc về bản Dự thảo phương án chi tiết bồi thường, hỗ trợ & TĐC này thì gửi đơn về Phòng Kinh Tế - UBND Xã Phú Nghĩa.
A74: Ý kiến của hộ gia đình, cá nhân (Đánh dấu "x" vào ô S )
A75: Tôi đồng ý với phương án dự thảo chi tiết trên và đề nghị UBND xã Phú Nghĩa phê duyệt phương án bồi thường, hỗ trợ & tái định cư và ban hành Quyết định thu hồi đất * | E75: Tôi không đồng ý với phương án dự thảo chi tiết trên *
A78: (Hộ gia đình ký và ghi rõ họ tên)

Sheet Lê Văn Tâm (6-64)
A1: BAN QLDA ĐẦU TƯ XÂY DỰNG | E1: CỘNG HÒA XÃ HỘI CHỦ NGHĨA VIỆT NAM
A2: CÔNG TRÌNH GIAO THÔNG TP HÀ NỘI | E2: Độc lập - Tự do - Hạnh phúc
A4: DỰ THẢO | E4: Hà Nội, ngày tháng 3 năm 2026
A5: PHƯƠNG ÁN CHI TIẾT BỒI THƯỜNG, HỖ TRỢ VÀ TÁI ĐỊNH CƯ
A6: Dự án thành phần 1.2: Bồi thường, hỗ trợ và tái định cư thực hiện giải phóng mặt bằng trên địa bàn huyện Chương Mỹ thuộc Dự án đầu tư cải tạo, nâng cấp Quốc Lộ 6 đoạn Ba La - Xuân Mai (Trên địa giới hành chính xã Phú Nghĩa)
A7: (Kèm theo Thông báo số: /TB-UBND ngày /3/2026 của Ủy ban nhân dân xã Phú Nghĩa)
A8: I. | B8: NGƯỜI SỬ DỤNG ĐẤT VÀ SỞ HỮU TÀI SẢN GẮN LIỀN VỚI ĐẤT THU HỒI:
A9: 1. | B9: Họ và tên người sử dụng đất thu hồi: | F9: Lê Văn Tâm - Bùi Thị Lan
B10: Nơi ở hiện nay: | C10: Thôn Phố Gốt - Xã Phú Nghĩa - TP Hà Nội
B11: Nơi thường trú: | C11: Thôn Đông - xã Phú Nghĩa - TP Hà Nội
B12: Số định danh cá nhân: | C12: 001059033000
A13: 2. | B13: Họ và tên người sở hữu tài sản gắn liền với đất thu hồi: | F13: =F9 -> Lê Văn Tâm - Bùi Thị Lan
B14: Nơi ở hiện nay: | C14: =+C10 -> Thôn Phố Gốt - Xã Phú Nghĩa - TP Hà Nội
B15: Nơi thường trú: | C15: =C11 -> Thôn Đông - xã Phú Nghĩa - TP Hà Nội
B16: Số định danh cá nhân: | C16: =+C12 -> 001059033000
A17: II | B17: HIỆN TRẠNG SỦ DỤNG ĐẤT VÀ TÀI SẢN GẮN LIỀN VỚI ĐẤT THU HỒI:
A18: 1. | B18: Hiện trạng sử dụng đất:
B19: Thửa đất số: | C19: 64 | D19: Tờ bản đồ số: | F19: 06
B20: Diện tích thửa đất: | C20: 110.5 | D20: m2
B21: Trong đó:
B22: Trong chỉ giới GPMB: | C22: 37.1 | D22: m2
B23: Ngoài chỉ giới GPMB: | C23: =C20-C22 -> 73.4 | D23: m2
B24: Vị trí, địa điểm thu hồi đất: | C24: Vị trị 1 - Thôn Phố Gốt- xã Phú Nghĩa - TP Hà Nội
A25: 2. | B25: Nguồn gốc, thời gian sử dụng đất: | C25: - Hộ ông Lê Văn Tâm và bà Bùi Thị Lan được UBND huyện Chương Mỹ cấp giấy chứng nhận quyền sử dụng đất thửa số 264, tờ bản đồ số 38, số BL 467787, số vào sổ 00112 với diện tích 59m2 cấp ngày 22/04/2013. Mục đích sử dụng là đất ở tại nông thôn. Tổng diện tích hiện trạng sử dụng là 110,5m2, tăng 51,5m2 so với diện tích đất được cấp giấy chứng nhận. ' - Đối chiếu với các cạnh thửa đất giữa Bản đồ GPMB và giấy chứng nhận quyền sử dụng đất được cấp của hộ, xác định tăng 51,5m2 về phía Bắc giáp đường Quốc lộ 6. - Căn cứ Bản đồ phục vụ công tác GPMB, Nghị định số 203-HĐBT ngày 21/12/1982 của Hội đồng Bộ trưởng về việc ban hành điều lệ bảo vệ đường bộ; Giấy chứng nhận quyền sử dụng đất hộ ông Lê Văn Tâm và bà Bùi Thị Lan. Phòng Kinh tế xác định diện tích thu hồi 37,1m2 đất do hộ ông Lê Văn Tâm và bà Bùi Thị Lan sử dụng là đất giao thông Quốc lộ 6 (DGT).
A26: 3. | B26: Số hộ gia đình (số cặp vợ chồng): | H26: 0 | I26: hộ
A27: 4. | B27: Số nhân khẩu | H27: 0 | I27: khẩu
A28: III. | B28: PHƯƠNG ÁN BỒI THƯỜNG, HỖ TRỢ VÀ TÁI ĐỊNH CƯ:
A29: 1. | B29: Bồi thường về đất và tái định cư:
A30: TT | B30: Tiền Bồi thường (Giá trị quyền sử dụng đất của diện tích đất thu hồi)
B31: Loại đất | D31: Đơn vị tính | E31: Khối lượng | F31: Đơn giá (đồng/m2) | G31: Tỷ lệ BT, HT (%) | H31: Thành tiền 1 (đồng) | I31: Ghi chú
A32: 1 | B32: 2 | D32: 3 | E32: 4 | F32: 5 | G32: 6 | H32: 7 | I32: 8
A33: 1 | B33: Đất giao thông đường Quốc lộ 6 (DGT) | D33: m2 | E33: =C22 -> 37.1 | H33: =E33*F33*G33 -> 0
B34: Cộng: | H34: =SUM(H33:H33) -> 0
A36: 2. | B36: Bồi thường bằng đất ở hoặc nhà ở tái định cư (nếu có)
A37: TT | B37: Loại đất | D37: Đơn vị tính | E37: Khối lượng | F37: Đơn giá (đồng/m2) | G37: Tỷ lệ BT, HT (%) | H37: Thành tiền 2 (đồng) | I37: Ghi chú
A38: 1 | B38: 2 | D38: 3 | E38: 4 | F38: 5 | G38: 6 | H38: 7 | I38: 8
A39: 1 | I39: Không bố trí tái định cư.
B40: Cộng:
B42: Số tiền chênh lệch giữa tiền bồi thường đất thu hồi và tiền đất ở, nhà ở tái định cư được bố trí: | I42: Không
B43: * Người bị thu hồi đất được nhận (nếu thành tiền 1 lớn hơn thành tiền 2) | I43: Không
B44: * Người bị thu hồi đất phải nộp (nếu thành tiền 1 nhỏ hơn thành tiền 2) | I44: Không
A46: 3. | B46: Bồi thường, hỗ trợ về tài sản gắn liền với đất bị thu hồi:
A47: TT | B47: Tên tài sản | C47: Đơn vị tính | D47: Quy cách tài sản | E47: Khối lượng | F47: Đơn giá | G47: Tỷ lệ BT, HT (%) | H47: Thành tiền (đ) | I47: Ghi chú
A48: 1 | B48: 2 | C48: 3 | D48: 4 | E48: 5 | F48: 6 | G48: 7 | H48: 8 | I48: 9
A49: A. | B49: Nhà ở, công trình xây dựng | H49: =SUM(H50:H54) -> 0
A50: 1 | B50: Nhà 1 tầng mái bằng BTCT tường 220, cao >m không có phụ khu | C50: m2 | D50: (11,5+11,79)/2 x 4,6 | E50: 53.59
B51: - Diện tích nhà trong chỉ giới | C51: m2 | D51: (7,87+8,15)/2 x 4,6 | E51: =(7.87+8.15)/2*4.6 -> 36.846
B52: - Diện tích nhà ngoài chỉ giới | C52: m2 | E52: =E50-E51 -> 16.744
A53: 2 | B53: Mái vảy lợp tôn | C53: m2 | D53: 4,6 x 5 | E53: =4.6*5 -> 23
A54: 3 | B54: Hàng rào B40 | C54: m2 | D54: (4,5 x 3,1) + (2,1 x 3,1) | E54: =(4.5*3.1)+(2.1*3.1) -> 20.46
B55: Cộng (A+B) :
A56: 4 | B56: Các khoản bồi thường, hỗ trợ khác:
A57: TT | B57: Khoản bồi thường, hỗ trợ | D57: Khối lượng | E57: Đơn vị tính | F57: Đơn giá | G57: Hệ số điều chỉnh | H57: Thành tiền (đ) | I57: Ghi chú
B59: Cộng: | H59: =SUM(H58) -> 0
A60: 5 | B60: Tổng cộng tiền bồi thường, hỗ trợ được nhận (1+2+3+4): | H60: =H59+H55+H40+H34 -> 0 | I60: đồng
B61: Bằng chữ: | C61: Không đồng ./.
F62: KT. CHỦ TỊCH
F63: PHÓ CHỦ TỊCH
F70: Trần Văn Sơn
A71: Ban Quản lý dự án đầu tư xây dựng công trình giao thông TP Hà Nội phối hợp với UBND Xã Phú Nghĩa tiến hành công khai phương án dự thảo chi tiết tới hộ gia đình trong vòng 10 ngày. Trong thời gian công khai nếu hộ gia đình có ý kiến thắc mắc về bản Dự thảo phương án chi tiết bồi thường, hỗ trợ & TĐC này thì gửi đơn về Phòng Kinh Tế - UBND Xã Phú Nghĩa.
A72: Ý kiến của hộ gia đình, cá nhân (Đánh dấu "x" vào ô S )
A73: Tôi đồng ý với phương án dự thảo chi tiết trên và đề nghị UBND xã Phú Nghĩa phê duyệt phương án bồi thường, hỗ trợ & tái định cư và ban hành Quyết định thu hồi đất * | E73: Tôi không đồng ý với phương án dự thảo chi tiết trên *
A76: (Hộ gia đình ký và ghi rõ họ tên)

Sheet Nguyễn Vũ Mạnh (6-4)
A1: BAN QLDA ĐẦU TƯ XÂY DỰNG | E1: CỘNG HÒA XÃ HỘI CHỦ NGHĨA VIỆT NAM
A2: CÔNG TRÌNH GIAO THÔNG TP HÀ NỘI | E2: Độc lập - Tự do - Hạnh phúc
A4: DỰ THẢO | E4: Hà Nội, ngày tháng 3 năm 2026
A5: PHƯƠNG ÁN CHI TIẾT BỒI THƯỜNG, HỖ TRỢ VÀ TÁI ĐỊNH CƯ
A6: Dự án thành phần 1.2: Bồi thường, hỗ trợ và tái định cư thực hiện giải phóng mặt bằng trên địa bàn huyện Chương Mỹ thuộc Dự án đầu tư cải tạo, nâng cấp Quốc Lộ 6 đoạn Ba La - Xuân Mai (Trên địa giới hành chính xã Phú Nghĩa)
A7: (Kèm theo Thông báo số: /TB-UBND ngày /3/2026 của Ủy ban nhân dân xã Phú Nghĩa)
A8: I. | B8: NGƯỜI SỬ DỤNG ĐẤT VÀ SỞ HỮU TÀI SẢN GẮN LIỀN VỚI ĐẤT THU HỒI:
A9: 1. | B9: Họ và tên người sử dụng đất thu hồi: | F9: Nguyễn Vũ Mạnh
B10: Nơi ở hiện nay: | C10: Thôn Thanh Trì - xã Phú Nghĩa - TP Hà Nội
B11: Nơi thường trú: | C11: =+C10 -> Thôn Thanh Trì - xã Phú Nghĩa - TP Hà Nội
B12: Số định danh cá nhân: | C12: 001065037043
A13: 2. | B13: Họ và tên người sở hữu tài sản gắn liền với đất thu hồi: | F13: =F9 -> Nguyễn Vũ Mạnh
B14: Nơi ở hiện nay: | C14: =+C10 -> Thôn Thanh Trì - xã Phú Nghĩa - TP Hà Nội
B15: Nơi thường trú: | C15: =+C14 -> Thôn Thanh Trì - xã Phú Nghĩa - TP Hà Nội
B16: Số định danh cá nhân: | C16: =+C12 -> 001065037043
A17: II | B17: HIỆN TRẠNG SỦ DỤNG ĐẤT VÀ TÀI SẢN GẮN LIỀN VỚI ĐẤT THU HỒI:
A18: 1. | B18: Hiện trạng sử dụng đất:
B19: Thửa đất số: | C19: 04 | D19: Tờ bản đồ số: | F19: 06
B20: Diện tích thửa đất: | C20: 660.5 | D20: m2
B21: Trong đó:
B22: Trong chỉ giới GPMB: | C22: 256.6 | D22: m2
B23: Ngoài chỉ giới GPMB: | C23: =C20-C22 -> 403.9 | D23: m2
B24: Vị trí, địa điểm thu hồi đất: | C24: Quốc lộ 6 - Thôn Thanh Trì - xã Phú Nghĩa - TP Hà Nội
A25: 2. | B25: Nguồn gốc, thời gian sử dụng đất: | C25: - Ông Nguyễn Vũ Mạnh được UBND huyện Chương Mỹ cấp giấy chứng nhận QSD đất thửa số 103, tờ bản đồ số 38, số BL 008164, số vào sổ cấp giấy chứng nhận quyền sử dụng đất: 00518 với diện tích 300m2 cấp ngày 28/05/2012. Mục đích sử dụng là đất ở (180m2), đất trồng cây lâu năm (120m2). Tổng diện tích hiện trạng sử dụng là 660,5m2, tăng 360,5m2 so với diện tích đất được cấp giấy chứng nhận. '- Đối chiếu với các cạnh thửa đất giữa Bản đồ GPMB và giấy chứng nhận quyền sử dụng đất được cấp của hộ, xác định tăng 360,5m2 trong đó: Tăng 82,2m2 về phía Đông, tăng 278,3m2 về phía Nam giáp đường Quốc lộ 6. - Căn cứ Bản đồ phục vụ công tác GPMB; Nghị định số 203-HĐBT ngày 21/12/1982 của Hội đồng Bộ trưởng về việc ban hành điều lệ bảo vệ đường bộ, Giấy chứng nhận quyền sử dụng đất của ông Nguyễn Vũ Mạnh; Phòng Kinh tế xác định diện tích thu hồi 256,6m2 đất do ông Nguyễn Vũ Mạnh sử dụng là giao thông Quốc lộ 6 (DGT).
A26: 3. | B26: Số hộ gia đình (số cặp vợ chồng): | H26: 02 | I26: hộ
A27: 4. | B27: Số nhân khẩu | H27: 07 | I27: khẩu
A28: III. | B28: PHƯƠNG ÁN BỒI THƯỜNG, HỖ TRỢ VÀ TÁI ĐỊNH CƯ:
A29: 1. | B29: Bồi thường về đất và tái định cư:
A30: TT | B30: Tiền Bồi thường (Giá trị quyền sử dụng đất của diện tích đất thu hồi)
B31: Loại đất | D31: Đơn vị tính | E31: Khối lượng | F31: Đơn giá (đồng/m2) | G31: Tỷ lệ BT, HT (%) | H31: Thành tiền 1 (đồng) | I31: Ghi chú
A32: 1 | B32: 2 | D32: 3 | E32: 4 | F32: 5 | G32: 6 | H32: 7 | I32: 8
A33: 1 | B33: Đất giao thông đường Quốc lộ 6 (DGT) | D33: m2 | E33: =C22 -> 256.6 | H33: =E33*F33*G33 -> 0
B34: Cộng: | H34: =SUM(H33:H33) -> 0
A36: 2. | B36: Bồi thường bằng đất ở hoặc nhà ở tái định cư (nếu có)
A37: TT | B37: Loại đất | D37: Đơn vị tính | E37: Khối lượng | F37: Đơn giá (đồng/m2) | G37: Tỷ lệ BT, HT (%) | H37: Thành tiền 2 (đồng) | I37: Ghi chú
A38: 1 | B38: 2 | D38: 3 | E38: 4 | F38: 5 | G38: 6 | H38: 7 | I38: 8
A39: 1 | I39: Không bố trí tái định cư.
B40: Cộng:
B42: Số tiền chênh lệch giữa tiền bồi thường đất thu hồi và tiền đất ở, nhà ở tái định cư được bố trí: | I42: Không
B43: * Người bị thu hồi đất được nhận (nếu thành tiền 1 lớn hơn thành tiền 2) | I43: Không
B44: * Người bị thu hồi đất phải nộp (nếu thành tiền 1 nhỏ hơn thành tiền 2) | I44: Không
A46: 3. | B46: Bồi thường, hỗ trợ về tài sản gắn liền với đất bị thu hồi:
A47: TT | B47: Tên tài sản | C47: Đơn vị tính | D47: Quy cách tài sản | E47: Khối lượng | F47: Đơn giá | G47: Tỷ lệ BT, HT (%) | H47: Thành tiền (đ) | I47: Ghi chú
A48: 1 | B48: 2 | C48: 3 | D48: 4 | E48: 5 | F48: 6 | G48: 7 | H48: 8 | I48: 9
A49: A. | B49: Nhà ở, công trình xây dựng | H49: =SUM(H50:H58) -> 0
A50: 1 | B50: Sân bê tông | C50: m2 | D50: 22,13 x 10 | E50: =22.13*10 -> 221.3 | I50: Không bồi thường theo Điều 105 Luật Đất đai 2024
A51: 2 | B51: Mái vẩy lợp tôn | C51: m2 | D51: 22,13 x 4,1 | E51: =22.13*4.1 -> 90.733
A52: 3 | B52: Nhà tạm, tường xây gạch 110; cao <3m; mái lợp tôn; nền gạch hoa; không có phụ khu | C52: m2 | D52: 5,81 x 10,43 | E52: =5.81*10.43 -> 60.5983
B53: - Diện tích nhà trong chỉ giới | C53: m2 | D53: (8,14+8,77)/2 x 5,81 | E53: 49.15
B54: - Diện tích nhà ngoài chỉ giới | C54: m2 | D54: = S nhà - S nhà trong chỉ giới | E54: =E52-E53 -> 11.4483
A55: 4 | B55: Số 3: Nhà 1 tầng mái bằng BTCT; Tường xây gạch 220 cao >3m; nền gạch hoa; có phụ khu | C55: m2 | D55: (4,59 x 6,91) + (3 x 4,78) | E55: =(4.59*6.91)+(3*4.78) -> 46.0569
B56: - Mái tôn chống nóng | C56: m2 | D56: = S nhà | E56: =E55 -> 46.0569
A57: 5 | B57: Nhà 1 tầng, lợp ngói, trần nhựa; tường xây gạch 220; cao >3m; nền gạch hoa; có phụ khu | C57: m2 | D57: 7,2 x 6,57 | E57: =7.2*6.57 -> 47.304
B58: - Trần nhựa | C58: m2 | D58: = S nhà | E58: =E57 -> 47.304
A59: B. | B59: Cây trồng, vật nuôi là thủy sản | H59: =SUM(H60:H64) -> 0
A60: 1 | B60: Cây hoa sữa | C60: cây | D60: ĐKT > 60 cm | E60: 1 | I60: Không bồi thường theo Điều 105 Luật Đất đai 2024
A61: 2 | B61: Cây nhãn | C61: cây | D61: ĐKT> 35 cm, cao >3m | E61: 1
A62: 3 | B62: Cây sấu | C62: cây | D62: ĐKT> 70 cm, cao >10m | E62: 2
A63: 4 | B63: Cây bưởi | C63: cây | D63: ĐKT> 30 cm, cao >6m | E63: 1
A64: 5 | B64: Dâu da xoan | C64: cây | D64: ĐKT> 60 cm | E64: 1
B65: Cộng (A+B) : | H65: =H49+H59 -> 0
A66: 4 | B66: Các khoản bồi thường, hỗ trợ khác:
A67: TT | B67: Khoản bồi thường, hỗ trợ | D67: Khối lượng | E67: Đơn vị tính | F67: Đơn giá | G67: Hệ số điều chỉnh | H67: Thành tiền (đ) | I67: Ghi chú
B69: Cộng: | H69: =SUM(H68) -> 0
A70: 5 | B70: Tổng cộng tiền bồi thường, hỗ trợ được nhận (1+2+3+4): | H70: =H69+H65+H40+H34 -> 0 | I70: đồng
B71: Bằng chữ: | C71: Không đồng ./.
F72: KT. CHỦ TỊCH
F73: PHÓ CHỦ TỊCH
F80: Trần Văn Sơn
A81: Ban Quản lý dự án đầu tư xây dựng công trình giao thông TP Hà Nội phối hợp với UBND Xã Phú Nghĩa tiến hành công khai phương án dự thảo chi tiết tới hộ gia đình trong vòng 10 ngày. Trong thời gian công khai nếu hộ gia đình có ý kiến thắc mắc về bản Dự thảo phương án chi tiết bồi thường, hỗ trợ & TĐC này thì gửi đơn về Phòng Kinh Tế - UBND Xã Phú Nghĩa.
A82: Ý kiến của hộ gia đình, cá nhân (Đánh dấu "x" vào ô S )
A83: Tôi đồng ý với phương án dự thảo chi tiết trên và đề nghị UBND xã Phú Nghĩa phê duyệt phương án bồi thường, hỗ trợ & tái định cư và ban hành Quyết định thu hồi đất * | E83: Tôi không đồng ý với phương án dự thảo chi tiết trên *
A86: (Hộ gia đình ký và ghi rõ họ tên)

Sheet Nguyễn Bá Ước (6-3)
A1: BAN QLDA ĐẦU TƯ XÂY DỰNG | E1: CỘNG HÒA XÃ HỘI CHỦ NGHĨA VIỆT NAM
A2: CÔNG TRÌNH GIAO THÔNG TP HÀ NỘI | E2: Độc lập - Tự do - Hạnh phúc
A4: DỰ THẢO | E4: Hà Nội, ngày tháng 3 năm 2026
A5: PHƯƠNG ÁN CHI TIẾT BỒI THƯỜNG, HỖ TRỢ VÀ TÁI ĐỊNH CƯ
A6: Dự án thành phần 1.2: Bồi thường, hỗ trợ và tái định cư thực hiện giải phóng mặt bằng trên địa bàn huyện Chương Mỹ thuộc Dự án đầu tư cải tạo, nâng cấp Quốc Lộ 6 đoạn Ba La - Xuân Mai (Trên địa giới hành chính xã Phú Nghĩa)
A7: (Kèm theo Thông báo số: /TB-UBND ngày /3/2026 của Ủy ban nhân dân xã Phú Nghĩa)
A8: I. | B8: NGƯỜI SỬ DỤNG ĐẤT VÀ SỞ HỮU TÀI SẢN GẮN LIỀN VỚI ĐẤT THU HỒI:
A9: 1. | B9: Họ và tên người sử dụng đất thu hồi: | F9: Nguyễn Bá Ước - Nguyễn Thị Xuân
B10: Nơi ở hiện nay: | C10: Thôn Thanh Trì - xã Phú Nghĩa - TP Hà Nội
B11: Nơi thường trú: | C11: =+C10 -> Thôn Thanh Trì - xã Phú Nghĩa - TP Hà Nội
B12: Số định danh cá nhân: | C12: 001065023600
A13: 2. | B13: Họ và tên người sở hữu tài sản gắn liền với đất thu hồi: | F13: =F9 -> Nguyễn Bá Ước - Nguyễn Thị Xuân
B14: Nơi ở hiện nay: | C14: =+C10 -> Thôn Thanh Trì - xã Phú Nghĩa - TP Hà Nội
B15: Nơi thường trú: | C15: =+C14 -> Thôn Thanh Trì - xã Phú Nghĩa - TP Hà Nội
B16: Số định danh cá nhân: | C16: =+C12 -> 001065023600
A17: II | B17: HIỆN TRẠNG SỦ DỤNG ĐẤT VÀ TÀI SẢN GẮN LIỀN VỚI ĐẤT THU HỒI:
A18: 1. | B18: Hiện trạng sử dụng đất:
B19: Thửa đất số: | C19: 06 | D19: Tờ bản đồ số: | F19: 03
B20: Diện tích thửa đất: | C20: 1087,7 | D20: m2
B21: Trong đó:
B22: Trong chỉ giới GPMB: | C22: 91 | D22: m2
B23: Ngoài chỉ giới GPMB: | C23: =C20-C22 -> 996.7 | D23: m2
B24: Vị trí, địa điểm thu hồi đất: | C24: Thôn Thanh Trì - xã Phú Nghĩa - TP Hà Nội
A25: 2. | B25: Nguồn gốc, thời gian sử dụng đất: | C25: - Hộ ông Nguyễn Bá Ước và bà Nguyễn Thị Xuân được UBND huyện Chương Mỹ cấp giấy chứng nhận quyền sử dụng đất tại thửa đất số 102, tờ bản đồ số 39, số phát hành BL208656, số vào sổ cấp GCN QSDĐ 00583, với diện tích 180,0m2 cấp ngày 08/10/2012. Địa chỉ thửa đất: Thôn Thanh Trì, xã Phú Nghĩa, thành phố Hà Nội. Mục đích sử dụng: đất ở tại nông thôn. Tổng diện tích sử dụng 1087,7m2 tăng 907,7m2 so với giấy chứng nhận quyền sử dụng đất hộ đã được cấp. '- Đối chiếu với các cạnh thửa đất giữa Bản đồ GPMB; Giấy chứng nhận quyền sử dụng đất được cấp của hộ, xác định tăng 907,7m2, trong đó tăng 117,8m2 về phía Nam đường Quốc lộ 6, tăng 789,9m2 về phía Bắc. '- Căn cứ Bản đồ phục vụ công tác GPMB; Nghị định số 203-HĐBT ngày 21/12/1982 của Hội đồng Bộ trưởng về việc ban hành điều lệ bảo vệ đường bộ, Giấy chứng nhận quyền sử dụng đất của hộ ông Nguyễn Bá Ước và bà Nguyễn Thị Xuân. Phòng Kinh tế xác định diện tích thu hồi 91,0m2 do hộ ông Nguyễn Bá Ước và bà Nguyễn Thị Xuân sử dụng là đất giao thông đường Quốc lộ 6 (DGT).
A26: 3. | B26: Số hộ gia đình (số cặp vợ chồng): | H26: 01 | I26: hộ
A27: 4. | B27: Số nhân khẩu | H27: 06 | I27: khẩu
A28: III. | B28: PHƯƠNG ÁN BỒI THƯỜNG, HỖ TRỢ VÀ TÁI ĐỊNH CƯ:
A29: 1. | B29: Bồi thường về đất và tái định cư:
A30: TT | B30: Tiền Bồi thường (Giá trị quyền sử dụng đất của diện tích đất thu hồi)
B31: Loại đất | D31: Đơn vị tính | E31: Khối lượng | F31: Đơn giá (đồng/m2) | G31: Tỷ lệ BT, HT (%) | H31: Thành tiền 1 (đồng) | I31: Ghi chú
A32: 1 | B32: 2 | D32: 3 | E32: 4 | F32: 5 | G32: 6 | H32: 7 | I32: 8
A33: 1 | B33: Đất giao thông đường Quốc lộ 6 (DGT) | D33: m2 | E33: =C22 -> 91 | H33: =E33*F33*G33 -> 0
B34: Cộng: | H34: =SUM(H33:H33) -> 0
A36: 2. | B36: Bồi thường bằng đất ở hoặc nhà ở tái định cư (nếu có)
A37: TT | B37: Loại đất | D37: Đơn vị tính | E37: Khối lượng | F37: Đơn giá (đồng/m2) | G37: Tỷ lệ BT, HT (%) | H37: Thành tiền 2 (đồng) | I37: Ghi chú
A38: 1 | B38: 2 | D38: 3 | E38: 4 | F38: 5 | G38: 6 | H38: 7 | I38: 8
A39: 1 | I39: Không bố trí tái định cư.
B40: Cộng:
B42: Số tiền chênh lệch giữa tiền bồi thường đất thu hồi và tiền đất ở, nhà ở tái định cư được bố trí: | I42: Không
B43: * Người bị thu hồi đất được nhận (nếu thành tiền 1 lớn hơn thành tiền 2) | I43: Không
B44: * Người bị thu hồi đất phải nộp (nếu thành tiền 1 nhỏ hơn thành tiền 2) | I44: Không
A46: 3. | B46: Bồi thường, hỗ trợ về tài sản gắn liền với đất bị thu hồi:
A47: TT | B47: Tên tài sản | C47: Đơn vị tính | D47: Quy cách tài sản | E47: Khối lượng | F47: Đơn giá | G47: Tỷ lệ BT, HT (%) | H47: Thành tiền (đ) | I47: Ghi chú
A48: 1 | B48: 2 | C48: 3 | D48: 4 | E48: 5 | F48: 6 | G48: 7 | H48: 8 | I48: 9
A49: A. | B49: Nhà ở, công trình xây dựng | H49: =SUM(H50:H54) -> 0
A50: 1 | B50: Sân bê tông | C50: m2 | D50: 7,49 x 8,8 | E50: =7.49*8.8 -> 65.912 | I50: Không bồi thường theo Điều 105 Luật Đất đai 2024
A51: 2 | B51: Mái vẩy lợp tôn | C51: m2 | D51: 7,49 x 0,8 | E51: =7.49*0.8 -> 5.992
A52: 3 | B52: Số 2: Nhà 1 tầng mái lợp tôn, tường xây gạch 220 chịu lực; cao >3m; nền bê tông; không có phụ khu | C52: m2 | D52: (14,87 + 4,49 + 11,58 + 134,67) | E52: =14.87 + 4.49 + 11.58 + 134.67 -> 165.61
B53: - Diện tích nhà trong chỉ giới | C53: m2 | D53: S đất trong chỉ giới | E53: 91
B54: - Diện tích nhà ngoài chỉ giới | C54: m2 | D54: = S nhà - S nhà trong chỉ giới | E54: =E52-E53 -> 74.61
A55: B. | B55: Cây trồng, vật nuôi là thủy sản | H55: =SUM(H56:H56) -> 0
A56: 1 | B56: Cây bồ đề | C56: cây | D56: ĐK>70cm | E56: 1
B57: Cộng (A+B) : | H57: =H49+H55 -> 0
A58: 4 | B58: Các khoản bồi thường, hỗ trợ khác:
A59: TT | B59: Khoản bồi thường, hỗ trợ | D59: Khối lượng | E59: Đơn vị tính | F59: Đơn giá | G59: Hệ số điều chỉnh | H59: Thành tiền (đ) | I59: Ghi chú
B61: Cộng: | H61: =SUM(H60) -> 0
A62: 5 | B62: Tổng cộng tiền bồi thường, hỗ trợ được nhận (1+2+3+4): | H62: =H61+H57+H40+H34 -> 0 | I62: đồng
B63: Bằng chữ: | C63: Không đồng ./.
F64: KT. CHỦ TỊCH
F65: PHÓ CHỦ TỊCH
F72: Trần Văn Sơn
A73: Ban Quản lý dự án đầu tư xây dựng công trình giao thông TP Hà Nội phối hợp với UBND Xã Phú Nghĩa tiến hành công khai phương án dự thảo chi tiết tới hộ gia đình trong vòng 10 ngày. Trong thời gian công khai nếu hộ gia đình có ý kiến thắc mắc về bản Dự thảo phương án chi tiết bồi thường, hỗ trợ & TĐC này thì gửi đơn về Phòng Kinh Tế - UBND Xã Phú Nghĩa.
A74: Ý kiến của hộ gia đình, cá nhân (Đánh dấu "x" vào ô S )
A75: Tôi đồng ý với phương án dự thảo chi tiết trên và đề nghị UBND xã Phú Nghĩa phê duyệt phương án bồi thường, hỗ trợ & tái định cư và ban hành Quyết định thu hồi đất * | E75: Tôi không đồng ý với phương án dự thảo chi tiết trên *
A78: (Hộ gia đình ký và ghi rõ họ tên)

Sheet Trần Trọng Hùng (6-55)
A1: BAN QLDA ĐẦU TƯ XÂY DỰNG | E1: CỘNG HÒA XÃ HỘI CHỦ NGHĨA VIỆT NAM
A2: CÔNG TRÌNH GIAO THÔNG TP HÀ NỘI | E2: Độc lập - Tự do - Hạnh phúc
A4: DỰ THẢO | E4: Hà Nội, ngày tháng 3 năm 2026
A5: PHƯƠNG ÁN CHI TIẾT BỒI THƯỜNG, HỖ TRỢ VÀ TÁI ĐỊNH CƯ
A6: Dự án thành phần 1.2: Bồi thường, hỗ trợ và tái định cư thực hiện giải phóng mặt bằng trên địa bàn huyện Chương Mỹ thuộc Dự án đầu tư cải tạo, nâng cấp Quốc Lộ 6 đoạn Ba La - Xuân Mai (Trên địa giới hành chính xã Phú Nghĩa)
A7: (Kèm theo Thông báo số: /TB-UBND ngày /3/2026 của Ủy ban nhân dân xã Phú Nghĩa)
A8: I. | B8: NGƯỜI SỬ DỤNG ĐẤT VÀ SỞ HỮU TÀI SẢN GẮN LIỀN VỚI ĐẤT THU HỒI:
A9: 1. | B9: Họ và tên người sử dụng đất thu hồi: | F9: Trần Trọng Hùng - Nguyễn Thị Minh
B10: Nơi ở hiện nay: | C10: Thôn Phố Gốt - xã Phú Nghĩa - TP Hà Nội
B11: Nơi thường trú: | C11: Thôn Chi Nê - xã Phú Nghĩa - TP Hà Nội
B12: Số định danh cá nhân: | C12: 001048000728 - 001153001127
A13: 2. | B13: Họ và tên người sở hữu tài sản gắn liền với đất thu hồi: | F13: =F9 -> Trần Trọng Hùng - Nguyễn Thị Minh
B14: Nơi ở hiện nay: | C14: =+C10 -> Thôn Phố Gốt - xã Phú Nghĩa - TP Hà Nội
B15: Nơi thường trú: | C15: =C11 -> Thôn Chi Nê - xã Phú Nghĩa - TP Hà Nội
B16: Số định danh cá nhân: | C16: =+C12 -> 001048000728 - 001153001127
A17: II | B17: HIỆN TRẠNG SỦ DỤNG ĐẤT VÀ TÀI SẢN GẮN LIỀN VỚI ĐẤT THU HỒI:
A18: 1. | B18: Hiện trạng sử dụng đất:
B19: Thửa đất số: | C19: 55 | D19: Tờ bản đồ số: | F19: 06
B20: Diện tích thửa đất: | C20: 336.2 | D20: m2
B21: Trong đó:
B22: Trong chỉ giới GPMB: | C22: 68.3 | D22: m2
B23: Ngoài chỉ giới GPMB: | C23: =C20-C22 -> 267.9 | D23: m2
B24: Vị trí, địa điểm thu hồi đất: | C24: Thôn Phố Gốt - xã Phú Nghĩa - TP Hà Nội
A25: 2. | B25: Nguồn gốc, thời gian sử dụng đất: | C25: - Hộ ông Trần Trọng Hùng và bà Nguyễn Thị Minh được UBND huyện Chương Mỹ cấp giấy chứng nhận quyền sử dụng đất tại thửa đất số 272, tờ bản đồ số 38, số phát hành BB337742, số vào sổ cấp GCN QSDĐ 00162, với diện tích 221,0m2 cấp ngày 01/11/2010. Địa chỉ thửa đất: Thôn Phố Gốt, xã Phú Nghĩa, thành phố Hà Nội. Mục đích sử dụng: Đất ở tại nông thôn. Tổng diện tích sử dụng 336,2m2 tăng 115,2m2 so với giấy chứng nhận quyền sử dụng đất hộ đã được cấp. Đối chiếu với các cạnh thửa đất giữa Bản đồ GPMB; Giấy chứng nhận quyền sử dụng đất được cấp của hộ, xác định tăng 115,2m2 về phía Bắc đường Quốc lộ 6. - Căn cứ Bản đồ phục vụ công tác GPMB; Nghị định số 203-HĐBT ngày 21/12/1982 của Hội đồng Bộ trưởng về việc ban hành điều lệ bảo vệ đường bộ, Giấy chứng nhận quyền sử dụng đất của hộ ông Trần Trọng Hùng và bà Nguyễn Thị Minh. Phòng Kinh tế xác định diện tích thu hồi 68,3m2 đất ở đã được cấp GCN QSDĐ của hộ ông Trần Trọng Hùng và bà Nguyễn Thị Minh sử dụng là đất giao thông đường Quốc lộ 6 (DGT).
A26: 3. | B26: Số hộ gia đình (số cặp vợ chồng): | H26: 01 | I26: hộ
A27: 4. | B27: Số nhân khẩu | H27: 10 | I27: khẩu
A28: III. | B28: PHƯƠNG ÁN BỒI THƯỜNG, HỖ TRỢ VÀ TÁI ĐỊNH CƯ:
A29: 1. | B29: Bồi thường về đất và tái định cư:
A30: TT | B30: Tiền Bồi thường (Giá trị quyền sử dụng đất của diện tích đất thu hồi)
B31: Loại đất | D31: Đơn vị tính | E31: Khối lượng | F31: Đơn giá (đồng/m2) | G31: Tỷ lệ BT, HT (%) | H31: Thành tiền 1 (đồng) | I31: Ghi chú
A32: 1 | B32: 2 | D32: 3 | E32: 4 | F32: 5 | G32: 6 | H32: 7 | I32: 8
A33: 1 | B33: Đất giao thông đường Quốc lộ 6 (DGT) | D33: m2 | E33: =C22 -> 68.3 | H33: =E33*F33*G33 -> 0
B34: Cộng: | H34: =SUM(H33:H33) -> 0
A36: 2. | B36: Bồi thường bằng đất ở hoặc nhà ở tái định cư (nếu có)
A37: TT | B37: Loại đất | D37: Đơn vị tính | E37: Khối lượng | F37: Đơn giá (đồng/m2) | G37: Tỷ lệ BT, HT (%) | H37: Thành tiền 2 (đồng) | I37: Ghi chú
A38: 1 | B38: 2 | D38: 3 | E38: 4 | F38: 5 | G38: 6 | H38: 7 | I38: 8
A39: 1 | I39: Không bố trí tái định cư.
B40: Cộng:
B42: Số tiền chênh lệch giữa tiền bồi thường đất thu hồi và tiền đất ở, nhà ở tái định cư được bố trí: | I42: Không
B43: * Người bị thu hồi đất được nhận (nếu thành tiền 1 lớn hơn thành tiền 2) | I43: Không
B44: * Người bị thu hồi đất phải nộp (nếu thành tiền 1 nhỏ hơn thành tiền 2) | I44: Không
A46: 3. | B46: Bồi thường, hỗ trợ về tài sản gắn liền với đất bị thu hồi:
A47: TT | B47: Tên tài sản | C47: Đơn vị tính | D47: Quy cách tài sản | E47: Khối lượng | F47: Đơn giá | G47: Tỷ lệ BT, HT (%) | H47: Thành tiền (đ) | I47: Ghi chú
A48: 1 | B48: 2 | C48: 3 | D48: 4 | E48: 5 | F48: 6 | G48: 7 | H48: 8 | I48: 9
A49: A. | B49: Nhà ở, công trình xây dựng | H49: =SUM(H50:H50) -> 0
A50: 1 | B50: Sân bê tông | C50: m2 | D50: 7,71 x 10 | E50: =7.71*10 -> 77.1 | I50: Không bồi thường theo Điều 105 Luật Đất đai 2024
A51: 2 | B51: Mái vẩy lợp tôn | C51: m2 | D51: 2,5 x 7,71 | E51: =2.5*7.71 -> 19.275
A52: 3 | B52: Nhà 1 tầng mái lợp Friboximang, trần nhựa, tường xây gạch 110; cao >3m; nền bê tông; có phụ khu | C52: m2 | D52: 7,71 x 9,05 | E52: =7.71*9.05 -> 69.7755
B53: - Diện tích nhà ngoài chỉ giới | C53: m2 | D53: (3,9 x 0,47)/2 | E53: =(3.9*0.47)/2 -> 0.9165
B54: - Diện tích nhà trong chỉ giới | C54: m2 | D54: 69,78 - 0,92 | E54: =69.78 - 0.92 -> 68.86
A55: * | B55: Trần nhựa | C55: m2 | D55: = S nhà | E55: =E52 -> 69.7755
A56: 4 | B56: Giếng khoan sâu | C56: m | D56: sâu | E56: 30
A57: B. | B57: Cây trồng, vật nuôi là thủy sản | H57: =SUM(H58:H58) -> 0
B59: Cộng (A+B) : | H59: =H49+H57 -> 0
A60: 4 | B60: Các khoản bồi thường, hỗ trợ khác:
A61: TT | B61: Khoản bồi thường, hỗ trợ | D61: Khối lượng | E61: Đơn vị tính | F61: Đơn giá | G61: Hệ số điều chỉnh | H61: Thành tiền (đ) | I61: Ghi chú
B63: Cộng: | H63: =SUM(H62) -> 0
A64: 5 | B64: Tổng cộng tiền bồi thường, hỗ trợ được nhận (1+2+3+4): | H64: =H63+H59+H40+H34 -> 0 | I64: đồng
B65: Bằng chữ: | C65: Không đồng ./.
F66: KT. CHỦ TỊCH
F67: PHÓ CHỦ TỊCH
F74: Trần Văn Sơn
A75: Ban Quản lý dự án đầu tư xây dựng công trình giao thông TP Hà Nội phối hợp với UBND Xã Phú Nghĩa tiến hành công khai phương án dự thảo chi tiết tới hộ gia đình trong vòng 10 ngày. Trong thời gian công khai nếu hộ gia đình có ý kiến thắc mắc về bản Dự thảo phương án chi tiết bồi thường, hỗ trợ & TĐC này thì gửi đơn về Phòng Kinh Tế - UBND Xã Phú Nghĩa.
A76: Ý kiến của hộ gia đình, cá nhân (Đánh dấu "x" vào ô S )
A77: Tôi đồng ý với phương án dự thảo chi tiết trên và đề nghị UBND xã Phú Nghĩa phê duyệt phương án bồi thường, hỗ trợ & tái định cư và ban hành Quyết định thu hồi đất * | E77: Tôi không đồng ý với phương án dự thảo chi tiết trên *
A80: (Hộ gia đình ký và ghi rõ họ tên)

Sheet Trịnh Văn Hưởng (6-63)
A1: BAN QLDA ĐẦU TƯ XÂY DỰNG | E1: CỘNG HÒA XÃ HỘI CHỦ NGHĨA VIỆT NAM
A2: CÔNG TRÌNH GIAO THÔNG TP HÀ NỘI | E2: Độc lập - Tự do - Hạnh phúc
A4: DỰ THẢO | E4: Hà Nội, ngày tháng 3 năm 2026
A5: PHƯƠNG ÁN CHI TIẾT BỒI THƯỜNG, HỖ TRỢ VÀ TÁI ĐỊNH CƯ
A6: Dự án thành phần 1.2: Bồi thường, hỗ trợ và tái định cư thực hiện giải phóng mặt bằng trên địa bàn huyện Chương Mỹ thuộc Dự án đầu tư cải tạo, nâng cấp Quốc Lộ 6 đoạn Ba La - Xuân Mai (Trên địa giới hành chính xã Phú Nghĩa)
A7: (Kèm theo Thông báo số: /TB-UBND ngày /3/2026 của Ủy ban nhân dân xã Phú Nghĩa)
A8: I. | B8: NGƯỜI SỬ DỤNG ĐẤT VÀ SỞ HỮU TÀI SẢN GẮN LIỀN VỚI ĐẤT THU HỒI:
A9: 1. | B9: Họ và tên người sử dụng đất thu hồi: | F9: Trịnh Văn Hưởng - Nguyễn Thị Lan
B10: Nơi ở hiện nay: | C10: Thôn Quyết Thượng - xã Phú Nghĩa - TP Hà Nội
B11: Nơi thường trú: | C11: =+C10 -> Thôn Quyết Thượng - xã Phú Nghĩa - TP Hà Nội
B12: Số định danh cá nhân: | C12: 00105514876
A13: 2. | B13: Họ và tên người sở hữu tài sản gắn liền với đất thu hồi: | F13: =F9 -> Trịnh Văn Hưởng - Nguyễn Thị Lan
B14: Nơi ở hiện nay: | C14: =+C10 -> Thôn Quyết Thượng - xã Phú Nghĩa - TP Hà Nội
B15: Nơi thường trú: | C15: =+C14 -> Thôn Quyết Thượng - xã Phú Nghĩa - TP Hà Nội
B16: Số định danh cá nhân: | C16: =+C12 -> 00105514876
A17: II | B17: HIỆN TRẠNG SỦ DỤNG ĐẤT VÀ TÀI SẢN GẮN LIỀN VỚI ĐẤT THU HỒI:
A18: 1. | B18: Hiện trạng sử dụng đất:
B19: Thửa đất số: | C19: 63 | D19: Tờ bản đồ số: | F19: 06
B20: Diện tích thửa đất: | C20: 115.7 | D20: m2
B21: Trong đó:
B22: Trong chỉ giới GPMB: | C22: 35.9 | D22: m2
B23: Ngoài chỉ giới GPMB: | C23: =C20-C22 -> 79.8 | D23: m2
B24: Vị trí, địa điểm thu hồi đất: | C24: Quốc lộ 6 - Thôn Phố Gốt - xã Phú Nghĩa - TP Hà Nội
A25: 2. | B25: Nguồn gốc, thời gian sử dụng đất: | C25: - Ông Trịnh Văn Hưởng và bà Nguyễn Thị Lan được UBND huyện Chương Mỹ cấp giấy chứng nhận QSD đất thửa số 265, tờ bản đồ số 38, số AP 440428, số vào sổ 01779 với diện tích 64m2 cấp ngày 10/12/2009. Mục đích sử dụng là đất ở tại nông thôn. Tổng diện tích hiện trạng sử dụng là 115,7m2, tăng 51,7m2 so với diện tích đất được cấp giấy chứng nhận. - Đối chiếu với các cạnh thửa đất giữa Bản đồ GPMB; Giấy chứng nhận quyền sử dụng đất được cấp của hộ, xác định tăng 51,7m2 về phía Bắc giáp đường Quốc lộ 6. - Căn cứ Bản đồ phục vụ công tác GPMB; Nghị định số 203-HĐBT ngày 21/12/1982 của Hội đồng Bộ trưởng về việc ban hành điều lệ bảo vệ đường bộ, Giấy chứng nhận quyền sử dụng đất của ông Trịnh Văn Hưởng và bà Nguyễn Thị Lan. Phòng Kinh tế xác định diện tích thu hồi 35,9m2 đất do ông Trịnh Văn Hưởng và bà Nguyễn Thị Lan sử dụng là đất giao thông đường Quốc lộ 6 (DGT).
A26: 3. | B26: Số hộ gia đình (số cặp vợ chồng): | H26: 01 | I26: hộ
A27: 4. | B27: Số nhân khẩu | H27: 06 | I27: khẩu
A28: III. | B28: PHƯƠNG ÁN BỒI THƯỜNG, HỖ TRỢ VÀ TÁI ĐỊNH CƯ:
A29: 1. | B29: Bồi thường về đất và tái định cư:
A30: TT | B30: Tiền Bồi thường (Giá trị quyền sử dụng đất của diện tích đất thu hồi)
B31: Loại đất | D31: Đơn vị tính | E31: Khối lượng | F31: Đơn giá (đồng/m2) | G31: Tỷ lệ BT, HT (%) | H31: Thành tiền 1 (đồng) | I31: Ghi chú
A32: 1 | B32: 2 | D32: 3 | E32: 4 | F32: 5 | G32: 6 | H32: 7 | I32: 8
A33: 1 | B33: Đất giao thông đường Quốc lộ 6 (DGT) | D33: m2 | E33: =C22 -> 35.9 | H33: =E33*F33*G33 -> 0
B34: Cộng: | H34: =SUM(H33:H33) -> 0
A36: 2. | B36: Bồi thường bằng đất ở hoặc nhà ở tái định cư (nếu có)
A37: TT | B37: Loại đất | D37: Đơn vị tính | E37: Khối lượng | F37: Đơn giá (đồng/m2) | G37: Tỷ lệ BT, HT (%) | H37: Thành tiền 2 (đồng) | I37: Ghi chú
A38: 1 | B38: 2 | D38: 3 | E38: 4 | F38: 5 | G38: 6 | H38: 7 | I38: 8
A39: 1 | I39: Không bố trí tái định cư.
B40: Cộng:
B42: Số tiền chênh lệch giữa tiền bồi thường đất thu hồi và tiền đất ở, nhà ở tái định cư được bố trí: | I42: Không
B43: * Người bị thu hồi đất được nhận (nếu thành tiền 1 lớn hơn thành tiền 2) | I43: Không
B44: * Người bị thu hồi đất phải nộp (nếu thành tiền 1 nhỏ hơn thành tiền 2) | I44: Không
A46: 3. | B46: Bồi thường, hỗ trợ về tài sản gắn liền với đất bị thu hồi:
A47: TT | B47: Tên tài sản | C47: Đơn vị tính | D47: Quy cách tài sản | E47: Khối lượng | F47: Đơn giá (đồng/m2) | G47: Tỷ lệ BT, HT (%) | H47: Thành tiền (đ) | I47: Ghi chú
A48: 1 | B48: 2 | C48: 3 | D48: 4 | E48: 5 | F48: 6 | G48: 7 | H48: 8 | I48: 9
A49: A. | B49: Nhà ở, công trình xây dựng | H49: =SUM(H50:H53) -> 0
A50: 1 | B50: Nhà 1 tầng, mái Fribroximang, cao >3m, có mái tôn chống nóng, không phụ khu | C50: m2 | D50: (6,1 + 6,46)/2 x 4,55 | E50: =(6.1+6.46)/2*4.55 -> 28.574 | I50: Không bồi thường theo Điều 105 Luật Đất đai 2024
B51: - Mái tôn chống nóng | C51: m2 | D51: 6,5 x 4,55 | E51: =6.5*4.55 -> 29.575
A52: 2 | B52: Sân lát gạch đỏ | C52: m2 | D52: 1,69 x 4,55 | E52: =1.69*4.55 -> 7.6895
A53: 3 | B53: Mái vảy tôn trước nhà | C53: m2 | D53: 4,55 x 5 | E53: =4.55*5 -> 22.75
A54: 4 | B54: Giếng đào | C54: m | D54: Sâu | E54: 12
A55: B. | B55: Cây trồng, vật nuôi là thủy sản | H55: =SUM(H56:H56) -> 0
A56: 1
B57: Cộng (A+B) : | H57: =H49+H55 -> 0
A58: 4 | B58: Các khoản bồi thường, hỗ trợ khác:
A59: TT | B59: Khoản bồi thường, hỗ trợ | D59: Khối lượng | E59: Đơn vị tính | F59: Đơn giá | G59: Hệ số điều chỉnh | H59: Thành tiền (đ) | I59: Ghi chú
B61: Cộng: | H61: =SUM(H60) -> 0
A62: 5 | B62: Tổng cộng tiền bồi thường, hỗ trợ được nhận (1+2+3+4): | H62: =H61+H57+H40+H34 -> 0 | I62: đồng
B63: Bằng chữ: | C63: Không đồng ./.
F64: KT. CHỦ TỊCH
F65: PHÓ CHỦ TỊCH
F72: Trần Văn Sơn
A73: Ban Quản lý dự án đầu tư xây dựng công trình giao thông TP Hà Nội phối hợp với UBND Xã Phú Nghĩa tiến hành công khai phương án dự thảo chi tiết tới hộ gia đình trong vòng 10 ngày. Trong thời gian công khai nếu hộ gia đình có ý kiến thắc mắc về bản Dự thảo phương án chi tiết bồi thường, hỗ trợ & TĐC này thì gửi đơn về Phòng Kinh Tế - UBND Xã Phú Nghĩa.
A74: Ý kiến của hộ gia đình, cá nhân (Đánh dấu "x" vào ô S )
A75: Tôi đồng ý với phương án dự thảo chi tiết trên và đề nghị UBND xã Phú Nghĩa phê duyệt phương án bồi thường, hỗ trợ & tái định cư và ban hành Quyết định thu hồi đất * | E75: Tôi không đồng ý với phương án dự thảo chi tiết trên *
A78: (Hộ gia đình ký và ghi rõ họ tên)

Sheet Nguyễn Ngọc Dũng (5-81)
A1: BAN QLDA ĐẦU TƯ XÂY DỰNG | E1: CỘNG HÒA XÃ HỘI CHỦ NGHĨA VIỆT NAM
A2: CÔNG TRÌNH GIAO THÔNG TP HÀ NỘI | E2: Độc lập - Tự do - Hạnh phúc
A4: DỰ THẢO | E4: Hà Nội, ngày tháng 3 năm 2026
A5: PHƯƠNG ÁN CHI TIẾT BỒI THƯỜNG, HỖ TRỢ VÀ TÁI ĐỊNH CƯ
A6: Dự án thành phần 1.2: Bồi thường, hỗ trợ và tái định cư thực hiện giải phóng mặt bằng trên địa bàn huyện Chương Mỹ thuộc Dự án đầu tư cải tạo, nâng cấp Quốc Lộ 6 đoạn Ba La - Xuân Mai (Trên địa giới hành chính xã Phú Nghĩa)
A7: (Kèm theo Thông báo số: /TB-UBND ngày /3/2026 của Ủy ban nhân dân xã Phú Nghĩa)
A8: I. | B8: NGƯỜI SỬ DỤNG ĐẤT VÀ SỞ HỮU TÀI SẢN GẮN LIỀN VỚI ĐẤT THU HỒI:
A9: 1. | B9: Họ và tên người sử dụng đất thu hồi: | F9: Nguyễn Ngọc Dũng
B10: Nơi ở hiện nay: | C10: Thôn Phố Gốt - xã Phú Nghĩa - TP Hà Nội
B11: Nơi thường trú: | C11: Thôn Phố Gốt - xã Phú Nghĩa - TP Hà Nội
B12: Số định danh cá nhân: | C12: 001003024954
A13: 2. | B13: Họ và tên người sở hữu tài sản gắn liền với đất thu hồi: | F13: =F9 -> Nguyễn Ngọc Dũng
B14: Nơi ở hiện nay: | C14: =+C10 -> Thôn Phố Gốt - xã Phú Nghĩa - TP Hà Nội
B15: Nơi thường trú: | C15: =+C14 -> Thôn Phố Gốt - xã Phú Nghĩa - TP Hà Nội
B16: Số định danh cá nhân: | C16: =+C12 -> 001003024954
A17: II | B17: HIỆN TRẠNG SỦ DỤNG ĐẤT VÀ TÀI SẢN GẮN LIỀN VỚI ĐẤT THU HỒI:
A18: 1. | B18: Hiện trạng sử dụng đất:
B19: Thửa đất số: | C19: 81 | D19: Tờ bản đồ số: | F19: 05
B20: Diện tích thửa đất: | C20: 129.1 | D20: m2
B21: Trong đó:
B22: Trong chỉ giới GPMB: | C22: 47.8 | D22: m2
B23: Ngoài chỉ giới GPMB: | C23: =C20-C22 -> 81.3 | D23: m2
B24: Vị trí, địa điểm thu hồi đất: | C24: Thôn Phố Gốt - Xã Phú Nghĩa - TP Hà Nội
A25: 2. | B25: Nguồn gốc, thời gian sử dụng đất: | C25: - Hộ ông Nguyễn Ngọc Dũng được UBND huyện Chương Mỹ cấp giấy chứng nhận quyền sử dụng đất thửa số 245A, tờ bản đồ số 38, số BL 008741, số vào sổ 00544 với diện tích 68m2 cấp ngày 03/08/2012. Mục đích sử dụng là đất ở tại nông thôn.Tổng diện tích hiện trạng sử dụng là 129,1m2, tăng 61,1m2 so với diện tích đất được cấp giấy chứng nhận là do trong quá trình sử dụng hộ tự cơi nới sử dụng ra một phần diện tích đất hành lang giao thông đường Quốc lộ 6. - Đối chiếu với các cạnh thửa đất giữa Bản đồ GPMB và giấy chứng nhận quyền sử dụng đất được cấp của hộ, xác định tăng 61,1m2 về phía Bắc giáp đường Quốc lộ 6. - Căn cứ Bản đồ phục vụ công tác GPMB, Nghị định số 203-HĐBT ngày 21/12/1982 của Hội đồng Bộ trưởng về việc ban hành điều lệ bảo vệ đường bộ, Giấy chứng nhận quyền sử dụng đất hộ ông Nguyễn Ngọc Dũng. Phòng Kinh tế xác định diện tích thu hồi 47,8m2 đất do hộ ông Nguyễn Ngọc Dũng sử dụng là đất giao thông đường Quốc lộ 6 (DGT).
A26: 3. | B26: Số hộ gia đình (số cặp vợ chồng): | H26: 0 | I26: hộ
A27: 4. | B27: Số nhân khẩu | H27: 0 | I27: khẩu
A28: III. | B28: PHƯƠNG ÁN BỒI THƯỜNG, HỖ TRỢ VÀ TÁI ĐỊNH CƯ:
A29: 1. | B29: Bồi thường về đất và tái định cư:
A30: TT | B30: Tiền Bồi thường (Giá trị quyền sử dụng đất của diện tích đất thu hồi)
B31: Loại đất | D31: Đơn vị tính | E31: Khối lượng | F31: Đơn giá (đồng/m2) | G31: Tỷ lệ BT, HT (%) | H31: Thành tiền 1 (đồng) | I31: Ghi chú
A32: 1 | B32: 2 | D32: 3 | E32: 4 | F32: 5 | G32: 6 | H32: 7 | I32: 8
A33: 1 | B33: Đất giao thông đường Quốc lộ 6 (DGT) | D33: m2 | E33: =C22 -> 47.8 | H33: =E33*F33*G33 -> 0
B34: Cộng: | H34: =SUM(H33:H33) -> 0
A36: 2. | B36: Bồi thường bằng đất ở hoặc nhà ở tái định cư (nếu có)
A37: TT | B37: Loại đất | D37: Đơn vị tính | E37: Khối lượng | F37: Đơn giá (đồng/m2) | G37: Tỷ lệ BT, HT (%) | H37: Thành tiền 2 (đồng) | I37: Ghi chú
A38: 1 | B38: 2 | D38: 3 | E38: 4 | F38: 5 | G38: 6 | H38: 7 | I38: 8
A39: 1 | I39: Không bố trí tái định cư.
B40: Cộng:
B42: Số tiền chênh lệch giữa tiền bồi thường đất thu hồi và tiền đất ở, nhà ở tái định cư được bố trí: | I42: Không
B43: * Người bị thu hồi đất được nhận (nếu thành tiền 1 lớn hơn thành tiền 2) | I43: Không
B44: * Người bị thu hồi đất phải nộp (nếu thành tiền 1 nhỏ hơn thành tiền 2) | I44: Không
A46: 3. | B46: Bồi thường, hỗ trợ về tài sản gắn liền với đất bị thu hồi:
A47: TT | B47: Tên tài sản | C47: Đơn vị tính | D47: Quy cách tài sản | E47: Khối lượng | F47: Đơn giá (đồng/m2) | G47: Tỷ lệ BT, HT (%) | H47: Thành tiền (đ) | I47: Ghi chú
A48: 1 | B48: 2 | C48: 3 | D48: 4 | E48: 5 | F48: 6 | G48: 7 | H48: 8 | I48: 9
A49: A. | B49: Nhà ở, công trình xây dựng | H49: =SUM(H50:H54) -> 0
A50: 1 | B50: Sân bê tông | C50: m2 | D50: 4,43 x 8,8 | E50: =4.43*8.8 -> 38.984 | I50: Không bồi thường theo Điều 105 Luật Đất đai 2024
A51: 2 | B51: Mái vảy lợp tôn | C51: m2 | D51: 4,43 x 3,1 | E51: =4.43*3.1 -> 13.733
A52: 3 | B52: Nhà 1 tầng, mái lợp tôn proximang, trần nhựa, tường xây gạch 220, cao >3m, không có phụ khu, nền lát gạch hoa | C52: m2 | D52: 4,43 x 11,2 | E52: =4.43*11.2 -> 49.616
B53: - Diện tích nhà trong chỉ giới | C53: m2 | D53: =S đất trong chỉ giới | E53: =C22 -> 47.8
B54: - Diện tích nhà ngoài chỉ giới | C54: m2 | E54: =E52-E53 -> 1.816
A55: * | B55: Trần nhựa | C55: m2 | D55: = S nhà | E55: =E52 -> 49.616
A56: B. | B56: Cây trồng, vật nuôi là thủy sản | H56: =SUM(H57:H57) -> 0
A57: 1
B58: Cộng (A+B) : | H58: =H49+H56 -> 0
A59: 4 | B59: Các khoản bồi thường, hỗ trợ khác:
A60: TT | B60: Khoản bồi thường, hỗ trợ | D60: Khối lượng | E60: Đơn vị tính | F60: Đơn giá | G60: Hệ số điều chỉnh | H60: Thành tiền (đ) | I60: Ghi chú
B62: Cộng: | H62: =SUM(H61) -> 0
A63: 5 | B63: Tổng cộng tiền bồi thường, hỗ trợ được nhận (1+2+3+4): | H63: =H62+H58+H40+H34 -> 0 | I63: đồng
B64: Bằng chữ: | C64: Không đồng ./.
F65: KT. CHỦ TỊCH
F66: PHÓ CHỦ TỊCH
F73: Trần Văn Sơn
A74: Ban Quản lý dự án đầu tư xây dựng công trình giao thông TP Hà Nội phối hợp với UBND Xã Phú Nghĩa tiến hành công khai phương án dự thảo chi tiết tới hộ gia đình trong vòng 10 ngày. Trong thời gian công khai nếu hộ gia đình có ý kiến thắc mắc về bản Dự thảo phương án chi tiết bồi thường, hỗ trợ & TĐC này thì gửi đơn về Phòng Kinh Tế - UBND Xã Phú Nghĩa.
A75: Ý kiến của hộ gia đình, cá nhân (Đánh dấu "x" vào ô S )
A76: Tôi đồng ý với phương án dự thảo chi tiết trên và đề nghị UBND xã Phú Nghĩa phê duyệt phương án bồi thường, hỗ trợ & tái định cư và ban hành Quyết định thu hồi đất * | E76: Tôi không đồng ý với phương án dự thảo chi tiết trên *
A79: (Hộ gia đình ký và ghi rõ họ tên)

Sheet Lưu Công Sơn (5-59)
A1: BAN QLDA ĐẦU TƯ XÂY DỰNG | E1: CỘNG HÒA XÃ HỘI CHỦ NGHĨA VIỆT NAM
A2: CÔNG TRÌNH GIAO THÔNG TP HÀ NỘI | E2: Độc lập - Tự do - Hạnh phúc
A4: DỰ THẢO | E4: Hà Nội, ngày tháng 3 năm 2026
A5: PHƯƠNG ÁN CHI TIẾT BỒI THƯỜNG, HỖ TRỢ VÀ TÁI ĐỊNH CƯ
A6: Dự án thành phần 1.2: Bồi thường, hỗ trợ và tái định cư thực hiện giải phóng mặt bằng trên địa bàn huyện Chương Mỹ thuộc Dự án đầu tư cải tạo, nâng cấp Quốc Lộ 6 đoạn Ba La - Xuân Mai (Trên địa giới hành chính xã Phú Nghĩa)
A7: (Kèm theo Thông báo số: /TB-UBND ngày /3/2026 của Ủy ban nhân dân xã Phú Nghĩa)
A8: I. | B8: NGƯỜI SỬ DỤNG ĐẤT VÀ SỞ HỮU TÀI SẢN GẮN LIỀN VỚI ĐẤT THU HỒI:
A9: 1. | B9: Họ và tên người sử dụng đất thu hồi: | F9: Lưu Công Sơn - Nguyễn Thị Khanh
B10: Nơi ở hiện nay: | C10: Thôn Xóm Đông - xã Phú Nghĩa- TP Hà Nội
B11: Nơi thường trú: | C11: Thôn Xóm Đông - xã Phú Nghĩa- TP Hà Nội
B12: Số định danh cá nhân: | C12: 001142006315
A13: 2. | B13: Họ và tên người sở hữu tài sản gắn liền với đất thu hồi: | F13: =F9 -> Lưu Công Sơn - Nguyễn Thị Khanh
B14: Nơi ở hiện nay: | C14: =+C10 -> Thôn Xóm Đông - xã Phú Nghĩa- TP Hà Nội
B15: Nơi thường trú: | C15: =C11 -> Thôn Xóm Đông - xã Phú Nghĩa- TP Hà Nội
B16: Số định danh cá nhân: | C16: =+C12 -> 001142006315
A17: II | B17: HIỆN TRẠNG SỦ DỤNG ĐẤT VÀ TÀI SẢN GẮN LIỀN VỚI ĐẤT THU HỒI:
A18: 1. | B18: Hiện trạng sử dụng đất:
B19: Thửa đất số: | C19: 59 | D19: Tờ bản đồ số: | F19: 05
B20: Diện tích thửa đất: | C20: 161.2 | D20: m2
B21: Trong đó:
B22: Trong chỉ giới GPMB: | C22: 72.2 | D22: m2
B23: Ngoài chỉ giới GPMB: | C23: =C20-C22 -> 89 | D23: m2
B24: Vị trí, địa điểm thu hồi đất: | C24: Quốc lộ 6 - Thôn Phố Gốt - Xã Phú Nghĩa - TP Hà Nội
A25: 2. | B25: Nguồn gốc, thời gian sử dụng đất: | C25: - Ông Lưu Công Sơn và bà Nguyễn Thị Khanh được UBND huyện Chương Mỹ cấp giấy chứng nhận quyền sử dụng đất tại thửa đất số 245, tờ bản đồ số 38, số phát hành BL208678, số vào sổ cấp giấy chứng nhận quyền sử dụng đất 00582, với diện tích 105,0m2 cấp ngày 08/10/2012. Địa chỉ thửa đất: Thôn Phố Gốt, xã Phú Nghĩa, thành phố Hà Nội. Mục đích sử dụng: đất ở tại nông thôn. - Tổng diện tích sử dụng 161,2m2 tăng 56,2m2 so với giấy chứng nhận quyền sử dụng đất đã cấp. Đối chiếu với các cạnh thửa đất giữa Bản đồ GPMB; Giấy chứng nhận quyền sử dụng đất được cấp của hộ, xác định tăng 56,2m2 về phía Bắc đường Quốc lộ 6. - Căn cứ Bản đồ phục vụ công tác GPMB; Nghị định số 203-HĐBT ngày 21/12/1982 của Hội đồng Bộ trưởng về việc ban hành điều lệ bảo vệ đường bộ; Giấy chứng nhận quyền sử dụng đất của ông Lưu Công Sơn và bà Nguyễn Thị Khanh. Phòng Kinh tế xác định diện tích thu hồi 46,2m2 do ông Lưu Công Sơn và bà Nguyễn Thị Khanh sử dụng là đất giao thông Quốc lộ 6 (DGT).
A26: 3. | B26: Số hộ gia đình (số cặp vợ chồng): | H26: 02 | I26: hộ
A27: 4. | B27: Số nhân khẩu | H27: 05 | I27: khẩu
A28: III. | B28: PHƯƠNG ÁN BỒI THƯỜNG, HỖ TRỢ VÀ TÁI ĐỊNH CƯ:
A29: 1. | B29: Bồi thường về đất và tái định cư:
A30: TT | B30: Tiền Bồi thường (Giá trị quyền sử dụng đất của diện tích đất thu hồi)
B31: Loại đất | D31: Đơn vị tính | E31: Khối lượng | F31: Đơn giá (đồng/m2) | G31: Tỷ lệ BT, HT (%) | H31: Thành tiền 1 (đồng) | I31: Ghi chú
A32: 1 | B32: 2 | D32: 3 | E32: 4 | F32: 5 | G32: 6 | H32: 7 | I32: 8
A33: 1 | B33: Đất giao thông đường Quốc lộ 6 (DGT) | D33: m2 | E33: =C22 -> 72.2 | H33: =E33*F33*G33 -> 0
B34: Cộng: | H34: =SUM(H33:H33) -> 0
A36: 2. | B36: Bồi thường bằng đất ở hoặc nhà ở tái định cư (nếu có)
A37: TT | B37: Loại đất | D37: Đơn vị tính | E37: Khối lượng | F37: Đơn giá (đồng/m2) | G37: Tỷ lệ BT, HT (%) | H37: Thành tiền 2 (đồng) | I37: Ghi chú
A38: 1 | B38: 2 | D38: 3 | E38: 4 | F38: 5 | G38: 6 | H38: 7 | I38: 8
A39: 1 | I39: Không bố trí tái định cư.
B40: Cộng:
B42: Số tiền chênh lệch giữa tiền bồi thường đất thu hồi và tiền đất ở, nhà ở tái định cư được bố trí: | I42: Không
B43: * Người bị thu hồi đất được nhận (nếu thành tiền 1 lớn hơn thành tiền 2) | I43: Không
B44: * Người bị thu hồi đất phải nộp (nếu thành tiền 1 nhỏ hơn thành tiền 2) | I44: Không
A46: 3. | B46: Bồi thường, hỗ trợ về tài sản gắn liền với đất bị thu hồi:
A47: TT | B47: Tên tài sản | C47: Đơn vị tính | D47: Quy cách tài sản | E47: Khối lượng | F47: Đơn giá (đồng/m2) | G47: Tỷ lệ BT, HT (%) | H47: Thành tiền (đ) | I47: Ghi chú
A48: 1 | B48: 2 | C48: 3 | D48: 4 | E48: 5 | F48: 6 | G48: 7 | H48: 8 | I48: 9
A49: A. | B49: Nhà ở, công trình xây dựng | H49: =SUM(H50:H58) -> 0
A50: 1 | B50: Sân bê tông | C50: m2 | D50: 4,52 x 4,9 | E50: =4.52*4.9 -> 22.148 | I50: Không bồi thường theo Điều 105 Luật Đất đai 2024
A51: 2 | B51: Mái vẩy lợp tôn | C51: m2 | D51: 4,52 x 2,7 | E51: =4.5*2.7 -> 12.15
A52: 3 | B52: Sân gạch đất nung đỏ 30*30 | C52: m2 | D52: 4,52 x 2,7 | E52: =4.5*2.7 -> 12.15
A53: 4 | B53: Nhà 1 tầng, tường 110 bổ trụ, cao >3m , nền gạch đỏ 40*40, mái lợp tôn, có trần nhựa, không có phụ khụ | C53: m2 | D53: 1,42 x 4,52 | E53: =1.42*4.52 -> 6.4184
B54: - Ban công BTCT | C54: m2 | D54: 1,2 x 4,52 | E54: 5.43
B55: - Diện tích trần nhựa | C55: m2 | D55: = S nhà | E55: =E53 -> 6.4184
A56: 5 | B56: Nhà 1 tầng mái bằng BTCT, tường 220 cao>3m nền gạch hoa, không có khu phụ | C56: m2 | D56: 7,88 x 4,52 | E56: =7.88*4.52 -> 35.6176
B57: - Diện tích nhà trong chỉ giới | C57: m2 | D57: (7,66+7,53)/2 x 4,52 | E57: 34.36
B58: - Diện tích nhà ngoài chỉ giới | C58: m2 | D58: (68,55 -35,8) x 4 tầng | E58: =E56-E57 -> 1.2576
A59: B. | B59: Cây trồng, vật nuôi là thủy sản | H59: =SUM(H60:H60) -> 0
A60: 1
B61: Cộng (A+B) : | H61: =H49+H59 -> 0
A62: 4 | B62: Các khoản bồi thường, hỗ trợ khác:
A63: TT | B63: Khoản bồi thường, hỗ trợ | D63: Khối lượng | E63: Đơn vị tính | F63: Đơn giá | G63: Hệ số điều chỉnh | H63: Thành tiền (đ) | I63: Ghi chú
B65: Cộng: | H65: =SUM(H64) -> 0
A66: 5 | B66: Tổng cộng tiền bồi thường, hỗ trợ được nhận (1+2+3+4): | H66: =H65+H61+H40+H34 -> 0 | I66: đồng
B67: Bằng chữ: | C67: Không đồng ./.
F68: KT. CHỦ TỊCH
F69: PHÓ CHỦ TỊCH
F76: Trần Văn Sơn
A77: Ban Quản lý dự án đầu tư xây dựng công trình giao thông TP Hà Nội phối hợp với UBND Xã Phú Nghĩa tiến hành công khai phương án dự thảo chi tiết tới hộ gia đình trong vòng 10 ngày. Trong thời gian công khai nếu hộ gia đình có ý kiến thắc mắc về bản Dự thảo phương án chi tiết bồi thường, hỗ trợ & TĐC này thì gửi đơn về Phòng Kinh Tế - UBND Xã Phú Nghĩa.
A78: Ý kiến của hộ gia đình, cá nhân (Đánh dấu "x" vào ô S )
A79: Tôi đồng ý với phương án dự thảo chi tiết trên và đề nghị UBND xã Phú Nghĩa phê duyệt phương án bồi thường, hỗ trợ & tái định cư và ban hành Quyết định thu hồi đất * | E79: Tôi không đồng ý với phương án dự thảo chi tiết trên *
A82: (Hộ gia đình ký và ghi rõ họ tên)

Sheet Vũ Viết Chinh (5-79)
A1: BAN QLDA ĐẦU TƯ XÂY DỰNG | E1: CỘNG HÒA XÃ HỘI CHỦ NGHĨA VIỆT NAM
A2: CÔNG TRÌNH GIAO THÔNG TP HÀ NỘI | E2: Độc lập - Tự do - Hạnh phúc
A4: DỰ THẢO | E4: Hà Nội, ngày tháng 3 năm 2026
A5: PHƯƠNG ÁN CHI TIẾT BỒI THƯỜNG, HỖ TRỢ VÀ TÁI ĐỊNH CƯ
A6: Dự án thành phần 1.2: Bồi thường, hỗ trợ và tái định cư thực hiện giải phóng mặt bằng trên địa bàn huyện Chương Mỹ thuộc Dự án đầu tư cải tạo, nâng cấp Quốc Lộ 6 đoạn Ba La - Xuân Mai (Trên địa giới hành chính xã Phú Nghĩa)
A7: (Kèm theo Thông báo số: /TB-UBND ngày /3/2026 của Ủy ban nhân dân xã Phú Nghĩa)
A8: I. | B8: NGƯỜI SỬ DỤNG ĐẤT VÀ SỞ HỮU TÀI SẢN GẮN LIỀN VỚI ĐẤT THU HỒI:
A9: 1. | B9: Họ và tên người sử dụng đất thu hồi: | F9: Vũ Viết Chinh - Nguyễn Thị Phương
B10: Nơi ở hiện nay: | C10: Thôn Phố Gốt - Xã Phú Nghĩa - TP Hà Nội
B11: Nơi thường trú: | C11: Thôn Phố Gốt - Xã Phú Nghĩa - TP Hà Nội
B12: Số định danh cá nhân: | C12: 001067020168
A13: 2. | B13: Họ và tên người sở hữu tài sản gắn liền với đất thu hồi: | F13: =F9 -> Vũ Viết Chinh - Nguyễn Thị Phương
B14: Nơi ở hiện nay: | C14: =+C10 -> Thôn Phố Gốt - Xã Phú Nghĩa - TP Hà Nội
B15: Nơi thường trú: | C15: =C11 -> Thôn Phố Gốt - Xã Phú Nghĩa - TP Hà Nội
B16: Số định danh cá nhân: | C16: =+C12 -> 001067020168
A17: II | B17: HIỆN TRẠNG SỦ DỤNG ĐẤT VÀ TÀI SẢN GẮN LIỀN VỚI ĐẤT THU HỒI:
A18: 1. | B18: Hiện trạng sử dụng đất:
B19: Thửa đất số: | C19: 79 | D19: Tờ bản đồ số: | F19: 05
B20: Diện tích thửa đất: | C20: 97.3 | D20: m2
B21: Trong đó:
B22: Trong chỉ giới GPMB: | C22: 59.1 | D22: m2
B23: Ngoài chỉ giới GPMB: | C23: =C20-C22 -> 38.2 | D23: m2
B24: Vị trí, địa điểm thu hồi đất: | C24: Quốc lộ 6 - Thôn Phố Gốt - Xã Phú Nghĩa - TP Hà Nội
A25: 2 | B25: Nguồn gốc, thời gian sử dụng đất: | C25: - Hộ ông Vũ Viết Chính và bà Nguyễn Thị Phương được UBND huyện Chương Mỹ cấp giấy chứng nhận quyền sử dụng đất thửa đất số 238, tờ bản đồ số 38, số phát hành BL 467543, số vào sổ cấp GCN: 00680 với diện tích 35,0m2, cấp ngày 19/3/2013. Địa chỉ thửa đất: Thôn Phố Gốt, xã Phú Nghĩa, thành phố Hà Nội. Mục đích sử dụng đất ở tại dân cư, thời hạn sử dụng lâu dài.Tổng diện tích 97,3m2 tăng 62,3m2 so với diện tích đã được cấp giấy chứng nhận quyền sử dụng đất. - Đối chiếu với các cạnh thửa đất giữa Bản đồ GPMB và giấy chứng nhận quyền sử dụng đất được cấp của hộ, xác định tăng 62,3m2 về phía Bắc giáp đường Quốc lộ 6. - Căn cứ Bản đồ phục vụ công tác GPMB, Nghị định số 203-HĐBT ngày 21/12/1982 của Hội đồng Bộ trưởng về việc ban hành điều lệ bảo vệ đường bộ, Giấy chứng nhận quyền sử dụng đất của hộ ông Vũ Viết Chính và bà Nguyễn Thị Phương. Phòng Kinh tế xác định diện tích thu hồi 59,1 m2 do hộ ông Vũ Viết Chính và bà Nguyễn Thị Phương sử dụng là đất giao thông đường Quốc lộ 6 (DGT).
A26: 3 | B26: Số hộ gia đình (số cặp vợ chồng): | H26: 01 | I26: hộ
A27: 4 | B27: Số nhân khẩu | H27: 09 | I27: khẩu
A28: III. | B28: PHƯƠNG ÁN BỒI THƯỜNG, HỖ TRỢ VÀ TÁI ĐỊNH CƯ:
A29: 1. | B29: Bồi thường về đất và tái định cư:
A30: TT | B30: Tiền Bồi thường (Giá trị quyền sử dụng đất của diện tích đất thu hồi)
B31: Loại đất | D31: Đơn vị tính | E31: Khối lượng | F31: Đơn giá (đồng/m2) | G31: Tỷ lệ BT, HT (%) | H31: Thành tiền 1 (đồng) | I31: Ghi chú
A32: 1 | B32: 2 | D32: 3 | E32: 4 | F32: 5 | G32: 6 | H32: 7 | I32: 8
A33: 1 | B33: Đất giao thông đường Quốc lộ 6 (DGT) | D33: m2 | E33: =C22 -> 59.1 | H33: =E33*F33*G33 -> 0
B34: Cộng: | H34: =SUM(H33:H33) -> 0
A36: 2. | B36: Bồi thường bằng đất ở hoặc nhà ở tái định cư (nếu có)
A37: TT | B37: Loại đất | D37: Đơn vị tính | E37: Khối lượng | F37: Đơn giá (đồng/m2) | G37: Tỷ lệ BT, HT (%) | H37: Thành tiền 2 (đồng) | I37: Ghi chú
A38: 1 | B38: 2 | D38: 3 | E38: 4 | F38: 5 | G38: 6 | H38: 7 | I38: 8
A39: 1 | I39: Không bố trí tái định cư.
B40: Cộng:
B42: Số tiền chênh lệch giữa tiền bồi thường đất thu hồi và tiền đất ở, nhà ở tái định cư được bố trí: | I42: Không
B43: * Người bị thu hồi đất được nhận (nếu thành tiền 1 lớn hơn thành tiền 2) | I43: Không
B44: * Người bị thu hồi đất phải nộp (nếu thành tiền 1 nhỏ hơn thành tiền 2) | I44: Không
A46: 3. | B46: Bồi thường, hỗ trợ về tài sản gắn liền với đất bị thu hồi:
A47: TT | B47: Tên tài sản | C47: Đơn vị tính | D47: Quy cách tài sản | E47: Khối lượng | F47: Đơn giá (đồng/m2) | G47: Tỷ lệ BT, HT (%) | H47: Thành tiền (đ) | I47: Ghi chú
A48: 1 | B48: 2 | C48: 3 | D48: 4 | E48: 5 | F48: 6 | G48: 7 | H48: 8 | I48: 9
A49: A. | B49: Nhà ở, công trình xây dựng | H49: =SUM(H50:H56) -> 0
A50: 1 | B50: Sân bê tông | C50: m2 | D50: 4,47 x 9 | E50: =4.47*9 -> 40.23 | I50: Không bồi thường theo Điều 105 Luật Đất đai 2024
A51: 2 | B51: Mái vẩy lợp tôn | C51: m2 | D51: 4,47 x 3,5 | E51: =4.47*3.5 -> 15.645
A52: 3 | B52: Nhà 1 tầng, tường xây gạch 110, cao >3m, mái lợp tôn, nền lát gạch hoa, có gác xép, không có khu phụ | C52: m2 | D52: 13,47 x 4,47 | E52: =13.47*4.47 -> 60.2109
B53: - Diện tích nhà trong chỉ giới | C53: m2 | D53: = S đất trong chỉ giới | E53: =C22 -> 59.1
B54: - Diện tích nhà ngoài chỉ giới | C54: m2 | D54: = S nhà - S nhà trong chỉ giới | E54: =E52-E53 -> 1.1109
A55: * | B55: Gác xép gỗ | C55: m2 | D55: 3,2 x 4,47 | E55: =3.2*4.47 -> 14.304
A56: 4 | B56: Giếng khơi xây gạch | C56: m | D56: Sâu 13,5 | E56: 13.5
A57: B. | B57: Cây trồng, vật nuôi là thủy sản | H57: =SUM(H58:H58) -> 0
B59: Cộng (A+B) : | H59: =H49+H57 -> 0
A60: 4 | B60: Các khoản bồi thường, hỗ trợ khác:
A61: TT | B61: Khoản bồi thường, hỗ trợ | D61: Khối lượng | E61: Đơn vị tính | F61: Đơn giá | G61: Hệ số điều chỉnh | H61: Thành tiền (đ) | I61: Ghi chú
B63: Cộng: | H63: =SUM(H62) -> 0
A64: 5 | B64: Tổng cộng tiền bồi thường, hỗ trợ được nhận (1+2+3+4): | H64: =H63+H59+H40+H34 -> 0 | I64: đồng
B65: Bằng chữ: | C65: Không đồng ./.
F66: KT. CHỦ TỊCH
F67: PHÓ CHỦ TỊCH
F74: Trần Văn Sơn
A75: Ban Quản lý dự án đầu tư xây dựng công trình giao thông TP Hà Nội phối hợp với UBND Xã Phú Nghĩa tiến hành công khai phương án dự thảo chi tiết tới hộ gia đình trong vòng 10 ngày. Trong thời gian công khai nếu hộ gia đình có ý kiến thắc mắc về bản Dự thảo phương án chi tiết bồi thường, hỗ trợ & TĐC này thì gửi đơn về Phòng Kinh Tế - UBND Xã Phú Nghĩa.
A76: Ý kiến của hộ gia đình, cá nhân (Đánh dấu "x" vào ô S )
A77: Tôi đồng ý với phương án dự thảo chi tiết trên và đề nghị UBND xã Phú Nghĩa phê duyệt phương án bồi thường, hỗ trợ & tái định cư và ban hành Quyết định thu hồi đất * | E77: Tôi không đồng ý với phương án dự thảo chi tiết trên *
A80: (Hộ gia đình ký và ghi rõ họ tên)

Sheet Lê Tiến Nguyễn(8-27)
A1: BAN QLDA ĐẦU TƯ XÂY DỰNG | E1: CỘNG HÒA XÃ HỘI CHỦ NGHĨA VIỆT NAM
A2: CÔNG TRÌNH GIAO THÔNG TP HÀ NỘI | E2: Độc lập - Tự do - Hạnh phúc
A4: DỰ THẢO | E4: Hà Nội, ngày tháng 3 năm 2026
A5: PHƯƠNG ÁN CHI TIẾT BỒI THƯỜNG, HỖ TRỢ VÀ TÁI ĐỊNH CƯ
A6: Dự án thành phần 1.2: Bồi thường, hỗ trợ và tái định cư thực hiện giải phóng mặt bằng trên địa bàn huyện Chương Mỹ thuộc Dự án đầu tư cải tạo, nâng cấp Quốc Lộ 6 đoạn Ba La - Xuân Mai (Trên địa giới hành chính xã Phú Nghĩa)
A7: (Kèm theo Thông báo số: /TB-UBND ngày /3/2026 của Ủy ban nhân dân xã Phú Nghĩa)
A8: I. | B8: NGƯỜI SỬ DỤNG ĐẤT VÀ SỞ HỮU TÀI SẢN GẮN LIỀN VỚI ĐẤT THU HỒI:
A9: 1. | B9: Họ và tên người sử dụng đất thu hồi: | F9: Lê Tiến Nguyên - Dương Thị Bích Thuỷ
B10: Nơi ở hiện nay: | C10: Số 49 ngõ 15 An Dương Vương - phường Tây Hồ - TP Hà Nội
B11: Nơi thường trú: | C11: Số 49 ngõ 15 An Dương Vương - phường Tây Hồ - TP Hà Nội
B12: Số định danh cá nhân:
A13: 2. | B13: Họ và tên người sở hữu tài sản gắn liền với đất thu hồi: | F13: =F9 -> Lê Tiến Nguyên - Dương Thị Bích Thuỷ
B14: Nơi ở hiện nay: | C14: =+C10 -> Số 49 ngõ 15 An Dương Vương - phường Tây Hồ - TP Hà Nội
B15: Nơi thường trú: | C15: =C11 -> Số 49 ngõ 15 An Dương Vương - phường Tây Hồ - TP Hà Nội
B16: Số định danh cá nhân: | C16: =+C12 -> 0
A17: II | B17: HIỆN TRẠNG SỦ DỤNG ĐẤT VÀ TÀI SẢN GẮN LIỀN VỚI ĐẤT THU HỒI:
A18: 1. | B18: Hiện trạng sử dụng đất:
B19: Thửa đất số: | C19: 27 | D19: Tờ bản đồ số: | F19: 08
B20: Diện tích thửa đất: | C20: 107.5 | D20: m2
B21: Trong đó:
B22: Trong chỉ giới GPMB: | C22: 23.6 | D22: m2
B23: Ngoài chỉ giới GPMB: | C23: =C20-C22 -> 83.9 | D23: m2
B24: Vị trí, địa điểm thu hồi đất: | C24: Quốc lộ 6 - Thôn Yên Kiện Đồi- Xã Phú Nghĩa - TP Hà Nội
A25: 2 | B25: Nguồn gốc, thời gian sử dụng đất: | C25: - Thửa đất của ông Lê Tiến Nguyên và bà Dương Thị Bích Thủy được UBND huyện Chương Mỹ cấp Giấy chứng nhận quyền sử dụng đất số phát hành CU 442660 ngày 20/01/2020 tại thửa đất số 01, tờ bản đồ số 97-2018, diện tích 66,8m2 đất ở, thửa đất cách tim đường Quốc lộ 6 là 28,0 m.Đối chiếu với các cạnh thửa đất giữa Bản đồ GPMB và giấy chứng nhận quyền sử dụng đất được cấp của hộ, xác định tăng 40,7m2, trong đó tăng 1,1m2 về phía Bắc, tăng 39,6m2 về phía Nam đường Quốc lộ 6. - Căn cứ Bản đồ phục vụ công tác GPMB, Nghị định số 203-HĐBT ngày 21/12/1982 của Hội đồng Bộ trưởng về việc ban hành điều lệ bảo vệ đường bộ, Giấy chứng nhận quyền sử dụng đất số phát hành CU 442660 của hộ ông Lê Tiến Nguyên, bà Dương Thị Bích Thủy, phòng Kinh tế xác định diện tích thu hồi 23,6 m2 của hộ ông Lê Tiến Nguyên và bà Dương Thị Bích Thủy sử dụng là đất giao thông đường Quốc lộ 6 (DGT).
A26: 3 | B26: Số hộ gia đình (số cặp vợ chồng): | H26: 0 | I26: hộ
A27: 4 | B27: Số nhân khẩu | H27: 0 | I27: khẩu
A28: III. | B28: PHƯƠNG ÁN BỒI THƯỜNG, HỖ TRỢ VÀ TÁI ĐỊNH CƯ:
A29: 1. | B29: Bồi thường về đất và tái định cư:
A30: TT | B30: Tiền Bồi thường (Giá trị quyền sử dụng đất của diện tích đất thu hồi)
B31: Loại đất | D31: Đơn vị tính | E31: Khối lượng | F31: Đơn giá (đồng/m2) | G31: Tỷ lệ BT, HT (%) | H31: Thành tiền 1 (đồng) | I31: Ghi chú
A32: 1 | B32: 2 | D32: 3 | E32: 4 | F32: 5 | G32: 6 | H32: 7 | I32: 8
A33: 1 | B33: Đất giao thông đường Quốc lộ 6 (DGT) | D33: m2 | E33: =C22 -> 23.6 | H33: =E33*F33*G33 -> 0
B34: Cộng: | H34: =SUM(H33:H33) -> 0
A36: 2. | B36: Bồi thường bằng đất ở hoặc nhà ở tái định cư (nếu có)
A37: TT | B37: Loại đất | D37: Đơn vị tính | E37: Khối lượng | F37: Đơn giá (đồng/m2) | G37: Tỷ lệ BT, HT (%) | H37: Thành tiền 2 (đồng) | I37: Ghi chú
A38: 1 | B38: 2 | D38: 3 | E38: 4 | F38: 5 | G38: 6 | H38: 7 | I38: 8
A39: 1 | I39: Không bố trí tái định cư.
B40: Cộng:
B42: Số tiền chênh lệch giữa tiền bồi thường đất thu hồi và tiền đất ở, nhà ở tái định cư được bố trí: | I42: Không
B43: * Người bị thu hồi đất được nhận (nếu thành tiền 1 lớn hơn thành tiền 2) | I43: Không
B44: * Người bị thu hồi đất phải nộp (nếu thành tiền 1 nhỏ hơn thành tiền 2) | I44: Không
A46: 3. | B46: Bồi thường, hỗ trợ về tài sản gắn liền với đất bị thu hồi:
A47: TT | B47: Tên tài sản | C47: Đơn vị tính | D47: Quy cách tài sản | E47: Khối lượng | F47: Đơn giá (đồng/m2) | G47: Tỷ lệ BT, HT (%) | H47: Thành tiền (đ) | I47: Ghi chú
A48: 1 | B48: 2 | C48: 3 | D48: 4 | E48: 5 | F48: 6 | G48: 7 | H48: 8 | I48: 9
A49: A. | B49: Nhà ở, công trình xây dựng | H49: =SUM(H50:H55) -> 0
A50: 1 | B50: Mái vẩy tôn | C50: m2 | D50: 4,19 x 2,8 | E50: =4.19*2.8 -> 11.732 | I50: Không bồi thường theo Điều 105 Luật Đất đai 2024
A51: 2 | B51: Sân lát gạch đất nung | C51: m2 | D51: 4,19 x 3,2 | E51: 13.4
A52: 3 | B52: Sân bê tông | C52: m2 | D52: 4,19 x 10,8 | E52: =4.19*10.8 -> 45.252
A53: 4 | B53: Nhà 1 tầng, tường xây gạch 220, cao >3m, mái lợp tôn, nền lát gạch Granito, có khu phụ | C53: m2 | D53: = S đất | E53: =C20 -> 107.5
B54: - Diện tích nhà trong chỉ giới | C54: m2 | D54: = S đất trong chỉ giới | E54: =C22 -> 23.6
B55: - Diện tích nhà trong chỉ giới | C55: m2 | E55: =E53-E54 -> 83.9
A56: B. | B56: Cây trồng, vật nuôi là thủy sản | H56: =SUM(H57:H57) -> 0
B58: Cộng (A+B) : | H58: =H49+H56 -> 0
A59: 4 | B59: Các khoản bồi thường, hỗ trợ khác:
A60: TT | B60: Khoản bồi thường, hỗ trợ | D60: Khối lượng | E60: Đơn vị tính | F60: Đơn giá | G60: Hệ số điều chỉnh | H60: Thành tiền (đ) | I60: Ghi chú
B62: Cộng: | H62: =SUM(H61) -> 0
A63: 5 | B63: Tổng cộng tiền bồi thường, hỗ trợ được nhận (1+2+3+4): | H63: =H62+H58+H40+H34 -> 0 | I63: đồng
B64: Bằng chữ: | C64: Không đồng ./.
F65: KT. CHỦ TỊCH
F66: PHÓ CHỦ TỊCH
F73: Trần Văn Sơn
A74: Ban Quản lý dự án đầu tư xây dựng công trình giao thông TP Hà Nội phối hợp với UBND Xã Phú Nghĩa tiến hành công khai phương án dự thảo chi tiết tới hộ gia đình trong vòng 10 ngày. Trong thời gian công khai nếu hộ gia đình có ý kiến thắc mắc về bản Dự thảo phương án chi tiết bồi thường, hỗ trợ & TĐC này thì gửi đơn về Phòng Kinh Tế - UBND Xã Phú Nghĩa.
A75: Ý kiến của hộ gia đình, cá nhân (Đánh dấu "x" vào ô S )
A76: Tôi đồng ý với phương án dự thảo chi tiết trên và đề nghị UBND xã Phú Nghĩa phê duyệt phương án bồi thường, hỗ trợ & tái định cư và ban hành Quyết định thu hồi đất * | E76: Tôi không đồng ý với phương án dự thảo chi tiết trên *
A79: (Hộ gia đình ký và ghi rõ họ tên)

Sheet Nguyễn Thị Phương Mai (5-80)
A1: BAN QLDA ĐẦU TƯ XÂY DỰNG | E1: CỘNG HÒA XÃ HỘI CHỦ NGHĨA VIỆT NAM
A2: CÔNG TRÌNH GIAO THÔNG TP HÀ NỘI | E2: Độc lập - Tự do - Hạnh phúc
A4: DỰ THẢO | E4: Hà Nội, ngày tháng 3 năm 2026
A5: PHƯƠNG ÁN CHI TIẾT BỒI THƯỜNG, HỖ TRỢ VÀ TÁI ĐỊNH CƯ
A6: Dự án thành phần 1.2: Bồi thường, hỗ trợ và tái định cư thực hiện giải phóng mặt bằng trên địa bàn huyện Chương Mỹ thuộc Dự án đầu tư cải tạo, nâng cấp Quốc Lộ 6 đoạn Ba La - Xuân Mai (Trên địa giới hành chính xã Phú Nghĩa)
A7: (Kèm theo Thông báo số: /TB-UBND ngày /03/2026 của Ủy ban nhân dân xã Phú Nghĩa)
A8: I. | B8: NGƯỜI SỬ DỤNG ĐẤT VÀ SỞ HỮU TÀI SẢN GẮN LIỀN VỚI ĐẤT THU HỒI:
A9: 1. | B9: Họ và tên người sử dụng đất thu hồi: | F9: Nguyễn Thị Phương Mai
B10: Nơi ở hiện nay: | C10: Thôn Phố Gốt - Xã Phú Nghĩa - TP Hà Nội
B11: Nơi thường trú: | C11: Thôn Phố Gốt - Xã Phú Nghĩa - TP Hà Nội
B12: Số định danh cá nhân: | C12: 00158025860
A13: 2. | B13: Họ và tên người sở hữu tài sản gắn liền với đất thu hồi: | F13: =F9 -> Nguyễn Thị Phương Mai
B14: Nơi ở hiện nay: | C14: =+C10 -> Thôn Phố Gốt - Xã Phú Nghĩa - TP Hà Nội
B15: Nơi thường trú: | C15: =C11 -> Thôn Phố Gốt - Xã Phú Nghĩa - TP Hà Nội
B16: Số định danh cá nhân: | C16: =+C12 -> 00158025860
A17: II | B17: HIỆN TRẠNG SỦ DỤNG ĐẤT VÀ TÀI SẢN GẮN LIỀN VỚI ĐẤT THU HỒI:
A18: 1. | B18: Hiện trạng sử dụng đất:
B19: Thửa đất số: | C19: 80 | D19: Tờ bản đồ số: | F19: 05
B20: Diện tích thửa đất: | C20: 91.2 | D20: m2
B21: Trong đó:
B22: Trong chỉ giới GPMB: | C22: 45.8 | D22: m2
B23: Ngoài chỉ giới GPMB: | C23: =C20-C22 -> 45.4 | D23: m2
B24: Vị trí, địa điểm thu hồi đất: | C24: Quốc lộ 6 - Thôn Phố Gốt - Xã Phú Nghĩa - TP Hà Nội
A25: 2 | B25: Nguồn gốc, thời gian sử dụng đất: | C25: - Hộ bà Nguyễn Thị Phương Mai được UBND huyện Chương Mỹ cấp giấy chứng nhận quyền sử dụng đất, thửa đất số 239, tờ bản đồ số 38, số phát hành CL 208657, số vào sổ cấp GCN: 00580 với diện tích 36,0m2, cấp ngày 08/10/2012. Địa chỉ thửa đất: Thôn Phố Gốt, xã Phú Nghĩa, thành phố Hà Nội. Mục đích sử dụng đất ở tại nông thôn, thời hạn sử dụng lâu dài. - Tổng diện tích 91,2m2 tăng 55,2m2 so với diện tích được cấp giấy chứng nhận quyền sử dụng đất đã cấp. Đối chiếu với các cạnh thửa đất giữa Bản đồ GPMB; Giấy chứng nhận quyền sử dụng đất được cấp của hộ, xác định tăng 55,2m2 về phía Bắc đường Quốc lộ 6. - Căn cứ Bản đồ phục vụ công tác GPMB; Nghị định số 203-HĐBT ngày 21/12/1982 của Hội đồng Bộ trưởng về việc ban hành điều lệ bảo vệ đường bộ; Giấy chứng nhận quyền sử dụng đất của hộ bà Nguyễn Thị Phương Mai. Phòng Kinh tế xác định diện tích thu hồi 45,8 m2 do hộ bà Nguyễn Thị Phương Mai sử dụng là đất giao thông đường Quốc lộ 6 (DGT).
A26: 3 | B26: Số hộ gia đình (số cặp vợ chồng): | H26: 01 | I26: hộ
A27: 4 | B27: Số nhân khẩu | H27: 06 | I27: khẩu
A28: III. | B28: PHƯƠNG ÁN BỒI THƯỜNG, HỖ TRỢ VÀ TÁI ĐỊNH CƯ:
A29: 1. | B29: Bồi thường về đất và tái định cư:
A30: TT | B30: Tiền Bồi thường (Giá trị quyền sử dụng đất của diện tích đất thu hồi)
B31: Loại đất | D31: Đơn vị tính | E31: Khối lượng | F31: Đơn giá (đồng/m2) | G31: Tỷ lệ BT, HT (%) | H31: Thành tiền 1 (đồng) | I31: Ghi chú
A32: 1 | B32: 2 | D32: 3 | E32: 4 | F32: 5 | G32: 6 | H32: 7 | I32: 8
A33: 1 | B33: Đất giao thông đường Quốc lộ 6 (DGT) | D33: m2 | E33: =C22 -> 45.8 | H33: =E33*F33*G33 -> 0
B34: Cộng: | H34: =SUM(H33:H33) -> 0
A36: 2. | B36: Bồi thường bằng đất ở hoặc nhà ở tái định cư (nếu có)
A37: TT | B37: Loại đất | D37: Đơn vị tính | E37: Khối lượng | F37: Đơn giá (đồng/m2) | G37: Tỷ lệ BT, HT (%) | H37: Thành tiền 2 (đồng) | I37: Ghi chú
A38: 1 | B38: 2 | D38: 3 | E38: 4 | F38: 5 | G38: 6 | H38: 7 | I38: 8
A39: 1 | I39: Không bố trí tái định cư.
B40: Cộng:
B42: Số tiền chênh lệch giữa tiền bồi thường đất thu hồi và tiền đất ở, nhà ở tái định cư được bố trí: | I42: Không
B43: * Người bị thu hồi đất được nhận (nếu thành tiền 1 lớn hơn thành tiền 2) | I43: Không
B44: * Người bị thu hồi đất phải nộp (nếu thành tiền 1 nhỏ hơn thành tiền 2) | I44: Không
A46: 3. | B46: Bồi thường, hỗ trợ về tài sản gắn liền với đất bị thu hồi:
A47: TT | B47: Tên tài sản | C47: Đơn vị tính | D47: Quy cách tài sản | E47: Khối lượng | F47: Đơn giá (đồng/m2) | G47: Tỷ lệ BT, HT (%) | H47: Thành tiền (đ) | I47: Ghi chú
A48: 1 | B48: 2 | C48: 3 | D48: 4 | E48: 5 | F48: 6 | G48: 7 | H48: 8 | I48: 9
A49: A. | B49: Nhà ở, công trình xây dựng | H49: =SUM(H50:H59) -> 0
A50: 1 | B50: Nhà mái tôn, tường 110, cao >3m, nền gạch hoa, có phụ khu | C50: m2 | D50: 4,35 x 18,66 | E50: =4.35*18.66 -> 81.171 | I50: Không bồi thường theo Điều 105 Luật Đất đai 2024
B51: - Diện tích nhà trong chỉ giới | C51: m2 | D51: = S đất trong chỉ giới | E51: 45.8
B52: - Diện tích nhà ngoài chỉ giới | C52: m2 | E52: =E50-E51 -> 35.371
A53: * | B53: Trần nhựa | C53: m2 | D53: = S nhà trong chỉ giới | E53: =E51 -> 45.8
A54: * | B54: Gác xếp gỗ | C54: m2 | D54: 3 x 4,35 | E54: =3*4.35 -> 13.05
B55: - Diện tích gác xép gỗ trong chỉ giới | C55: m2 | D55: (1,7+1,53)/2x4,35 | E55: 7.05
A56: * | B56: Gác xếp bê tông | C56: m2 | D56: 3 x 4,35 | E56: =3*4.35 -> 13.05
A57: 2 | B57: Mái tôn khung và hèo sắt | C57: m2 | D57: 3,7 x 4,35 | E57: =3.7*4.35 -> 16.095
A58: 3 | B58: Sân bê tông | C58: m2 | D58: 9 x 4,35 | E58: =9*4.35 -> 39.15
A59: 4 | B59: Giếng khơi xây gạch | C59: m | D59: Sâu | E59: 15
A60: B. | B60: Cây trồng, vật nuôi là thủy sản | H60: =SUM(H61:H61) -> 0
A61: 1 | B61: Cây Vú sữa | D61: 45cm<ĐKT<50cm | E61: 1 | I61: Không bồi thường theo Điều 105 Luật Đất đai 2024
B62: Cộng (A+B) : | H62: =H49+H60 -> 0
A63: 4 | B63: Các khoản bồi thường, hỗ trợ khác:
A64: TT | B64: Khoản bồi thường, hỗ trợ | D64: Khối lượng | E64: Đơn vị tính | F64: Đơn giá | G64: Hệ số điều chỉnh | H64: Thành tiền (đ) | I64: Ghi chú
B66: Cộng: | H66: =SUM(H65) -> 0
A67: 5 | B67: Tổng cộng tiền bồi thường, hỗ trợ được nhận (1+2+3+4): | H67: =H66+H62+H40+H34 -> 0 | I67: đồng
B68: Bằng chữ: | C68: Không đồng ./.
F69: KT. CHỦ TỊCH
F70: PHÓ CHỦ TỊCH
F77: Trần Văn Sơn
A78: Ban Quản lý dự án đầu tư xây dựng công trình giao thông TP Hà Nội phối hợp với UBND Xã Phú Nghĩa tiến hành công khai phương án dự thảo chi tiết tới hộ gia đình trong vòng 10 ngày. Trong thời gian công khai nếu hộ gia đình có ý kiến thắc mắc về bản Dự thảo phương án chi tiết bồi thường, hỗ trợ & TĐC này thì gửi đơn về Phòng Kinh Tế - UBND Xã Phú Nghĩa.
A79: Ý kiến của hộ gia đình, cá nhân (Đánh dấu "x" vào ô S )
A80: Tôi đồng ý với phương án dự thảo chi tiết trên và đề nghị UBND xã Phú Nghĩa phê duyệt phương án bồi thường, hỗ trợ & tái định cư và ban hành Quyết định thu hồi đất * | E80: Tôi không đồng ý với phương án dự thảo chi tiết trên *
A83: (Hộ gia đình ký và ghi rõ họ tên)

Sheet Trần Thi Út(5-82)
A1: BAN QLDA ĐẦU TƯ XÂY DỰNG | E1: CỘNG HÒA XÃ HỘI CHỦ NGHĨA VIỆT NAM
A2: CÔNG TRÌNH GIAO THÔNG TP HÀ NỘI | E2: Độc lập - Tự do - Hạnh phúc
A4: DỰ THẢO | E4: Hà Nội, ngày tháng 3 năm 2026
A5: PHƯƠNG ÁN CHI TIẾT BỒI THƯỜNG, HỖ TRỢ VÀ TÁI ĐỊNH CƯ
A6: Dự án thành phần 1.2: Bồi thường, hỗ trợ và tái định cư thực hiện giải phóng mặt bằng trên địa bàn huyện Chương Mỹ thuộc Dự án đầu tư cải tạo, nâng cấp Quốc Lộ 6 đoạn Ba La - Xuân Mai (Trên địa giới hành chính xã Phú Nghĩa)
A7: (Kèm theo Thông báo số: /TB-UBND ngày /3/2026 của Ủy ban nhân dân xã Phú Nghĩa)
A8: I. | B8: NGƯỜI SỬ DỤNG ĐẤT VÀ SỞ HỮU TÀI SẢN GẮN LIỀN VỚI ĐẤT THU HỒI:
A9: 1. | B9: Họ và tên người sử dụng đất thu hồi: | F9: Trần Thị Út - Nguyễn Chí Lại
B10: Nơi ở hiện nay: | C10: Thôn Phố Gốt - Xã Phú Nghĩa - TP Hà Nội
B11: Nơi thường trú: | C11: Thôn Phố Gốt - Xã Phú Nghĩa - TP Hà Nội
B12: Số định danh cá nhân: | C12: 001156010048
A13: 2. | B13: Họ và tên người sở hữu tài sản gắn liền với đất thu hồi: | F13: =F9 -> Trần Thị Út - Nguyễn Chí Lại
B14: Nơi ở hiện nay: | C14: =+C10 -> Thôn Phố Gốt - Xã Phú Nghĩa - TP Hà Nội
B15: Nơi thường trú: | C15: =C11 -> Thôn Phố Gốt - Xã Phú Nghĩa - TP Hà Nội
B16: Số định danh cá nhân: | C16: =+C12 -> 001156010048
A17: II | B17: HIỆN TRẠNG SỦ DỤNG ĐẤT VÀ TÀI SẢN GẮN LIỀN VỚI ĐẤT THU HỒI:
A18: 1. | B18: Hiện trạng sử dụng đất:
B19: Thửa đất số: | C19: 82 | D19: Tờ bản đồ số: | F19: 05
B20: Diện tích thửa đất: | C20: 157.6 | D20: m2
B21: Trong đó:
B22: Trong chỉ giới GPMB: | C22: 49.1 | D22: m2
B23: Ngoài chỉ giới GPMB: | C23: =C20-C22 -> 108.5 | D23: m2
B24: Vị trí, địa điểm thu hồi đất: | C24: Thôn Phố Gốt - Xã Phú Nghĩa - TP Hà Nội
A25: 2 | B25: Nguồn gốc, thời gian sử dụng đất: | C25: - Hộ bà Nguyễn Thị Út và ông Nguyễn Chí Lại được UBND huyện Chương Mỹ cấp giấy chứng nhận quyền sử dụng đất tại thửa đất số 241, tờ bản đồ số 38, số phát hành BD765823, số vào sổ cấp GCN QSDĐ 00229, với diện tích 100,0m2 cấp ngày 09/02/2010. Địa chỉ thửa đất: Thôn Phố Gốt, xã Phú Nghĩa, thành phố Hà Nội. Mục đích sử dụng: đất ở tại nông thôn. Tổng diện tích hiện trạng 157,6m2 tăng 57,6m2 so với giấy chứng nhận quyền sử dụng đất của hộ đã được cấp. Đối chiếu với các cạnh thửa đất giữa Bản đồ GPMB và giấy chứng nhận quyền sử dụng đất được cấp của hộ, xác định tăng 57,6m2 về phía Bắc đường Quốc lộ 6. - Căn cứ Bản đồ phục vụ công tác GPMB; Nghị định số 203-HĐBT ngày 21/12/1982 của Hội đồng Bộ trưởng về việc ban hành điều lệ bảo vệ đường bộ; Giấy chứng nhận quyền sử dụng đất của hộ bà Nguyễn Thị Út và ông Nguyễn Chí Lại. Phòng Kinh tế xác định diện tích thu hồi 49,1m2 đất do hộ bà Nguyễn Thị Út và ông Nguyễn Chí Lại sử dụng là đất giao thông đường Quốc lộ 6 (DGT).
A26: 3 | B26: Số hộ gia đình (số cặp vợ chồng): | H26: 01 | I26: hộ
A27: 4 | B27: Số nhân khẩu | H27: 05 | I27: khẩu
A28: III. | B28: PHƯƠNG ÁN BỒI THƯỜNG, HỖ TRỢ VÀ TÁI ĐỊNH CƯ:
A29: 1. | B29: Bồi thường về đất và tái định cư:
A30: TT | B30: Tiền Bồi thường (Giá trị quyền sử dụng đất của diện tích đất thu hồi)
B31: Loại đất | D31: Đơn vị tính | E31: Khối lượng | F31: Đơn giá (đồng/m2) | G31: Tỷ lệ BT, HT (%) | H31: Thành tiền 1 (đồng) | I31: Ghi chú
A32: 1 | B32: 2 | D32: 3 | E32: 4 | F32: 5 | G32: 6 | H32: 7 | I32: 8
A33: 1 | B33: Đất giao thông đường Quốc lộ 6 (DGT) | D33: m2 | E33: =C22 -> 49.1 | H33: =E33*F33*G33 -> 0
B34: Cộng: | H34: =SUM(H33:H33) -> 0
A36: 2. | B36: Bồi thường bằng đất ở hoặc nhà ở tái định cư (nếu có)
A37: TT | B37: Loại đất | D37: Đơn vị tính | E37: Khối lượng | F37: Đơn giá (đồng/m2) | G37: Tỷ lệ BT, HT (%) | H37: Thành tiền 2 (đồng) | I37: Ghi chú
A38: 1 | B38: 2 | D38: 3 | E38: 4 | F38: 5 | G38: 6 | H38: 7 | I38: 8
A39: 1 | I39: Không bố trí tái định cư.
B40: Cộng:
B42: Số tiền chênh lệch giữa tiền bồi thường đất thu hồi và tiền đất ở, nhà ở tái định cư được bố trí: | I42: Không
B43: * Người bị thu hồi đất được nhận (nếu thành tiền 1 lớn hơn thành tiền 2) | I43: Không
B44: * Người bị thu hồi đất phải nộp (nếu thành tiền 1 nhỏ hơn thành tiền 2) | I44: Không
A46: 3. | B46: Bồi thường, hỗ trợ về tài sản gắn liền với đất bị thu hồi:
A47: TT | B47: Tên tài sản | C47: Đơn vị tính | D47: Quy cách tài sản | E47: Khối lượng | F47: Đơn giá (đồng/m2) | G47: Tỷ lệ BT, HT (%) | H47: Thành tiền (đ) | I47: Ghi chú
A48: 1 | B48: 2 | C48: 3 | D48: 4 | E48: 5 | F48: 6 | G48: 7 | H48: 8 | I48: 9
A49: A. | B49: Nhà ở, công trình xây dựng | H49: =SUM(H50:H64) -> 0
A50: 1 | B50: Sân bê tông | C50: m2 | D50: 4,65 x 9,3 | E50: =4.65*9.3 -> 43.245 | I50: Không bồi thường theo Điều 105 Luật Đất đai 2024
A51: 2 | B51: Sân gạch đất nung | C51: m2 | D51: 4,65 x2,78 | E51: =4.65*2.78 -> 12.927
A52: 3 | B52: Trụ cổng xây gạch | C52: m3 | D52: (0,35x0,45x2,55)x2 | E52: =(0.35*0.45*2.55)*2 -> 0.80325
A53: 4 | B53: Giếng khơi xây gạch | C53: m | D53: Sâu 12m | E53: 12
A54: 5 | B54: Nhà 3 tầng, khung BTCT | C54: m2
A55: a. | B55: Tầng 1: Nhà khung BTCT, tường 220 cao >3m, nền gạch hoa, có khu phụ | C55: m2 | D55: 4,65 x18,73 | E55: =4.65*18.73 -> 87.0945
B56: - Diện tích nhà trong chỉ giới | C56: m2 | D56: (7,93+8,06)/2 x 4,65 | E56: =(7.93+8.06)/2*4.65 -> 37.17675
B57: - Diện tích nhà ngoài chỉ giới | C57: m2 | E57: =E55-E56 -> 49.91775
A58: b. | B58: Tầng 2: Nhà khung BTCT, tường 220 cao >3m, nền gạch hoa, có khu phụ | C58: m2 | D58: = S tầng 1+ (1,2x4,65) | E58: =E55+(1.2*4.65) -> 92.6745
B59: - Diện tích nhà trong chỉ giới | C59: m2 | D59: = S trong chỉ giói tầng tầng 1 + (1,2x4,65) | E59: 42.78
B60: - Diện tích nhà ngoài chỉ giới | C60: m2 | E60: =E58-E59 -> 49.8945
A61: c. | B61: Tầng 3: Nhà mái lợp tôn, tường 110 cao >3m, nền gạch hoa, không có khu phụ | C61: m2 | D61: (4,65 x 7)+(4,65x1,2) | E61: =(4.65*7)+(4.65*1.2) -> 38.13
B62: Tầng 3: Nhà khung BTCT, tường 220, cao >3m có khu phụ nền gạch hoa | C62: m2 | D62: 4,65x 11,73 | E62: =4.65*11.73 -> 54.5445
B63: - Diện tích nhà ngoài chỉ giới | C63: m2 | D63: = S ngoài chỉ giới tầng 2 | E63: =E60 -> 49.8945
B64: - Diện tích nhà trong chỉ giới | C64: m2 | E64: =E62-E63 -> 4.65
A65: B. | B65: Cây trồng, vật nuôi là thủy sản | H65: =SUM(H66:H66) -> 0
B67: Cộng (A+B) : | H67: =H49+H65 -> 0
A68: 4 | B68: Các khoản bồi thường, hỗ trợ khác:
A69: TT | B69: Khoản bồi thường, hỗ trợ | D69: Khối lượng | E69: Đơn vị tính | F69: Đơn giá | G69: Hệ số điều chỉnh | H69: Thành tiền (đ) | I69: Ghi chú
B71: Cộng: | H71: =SUM(H70) -> 0
A72: 5 | B72: Tổng cộng tiền bồi thường, hỗ trợ được nhận (1+2+3+4): | H72: =H71+H67+H40+H34 -> 0 | I72: đồng
B73: Bằng chữ: | C73: Không đồng ./.
F74: KT. CHỦ TỊCH
F75: PHÓ CHỦ TỊCH
F82: Trần Văn Sơn
A83: Ban Quản lý dự án đầu tư xây dựng công trình giao thông TP Hà Nội phối hợp với UBND Xã Phú Nghĩa tiến hành công khai phương án dự thảo chi tiết tới hộ gia đình trong vòng 10 ngày. Trong thời gian công khai nếu hộ gia đình có ý kiến thắc mắc về bản Dự thảo phương án chi tiết bồi thường, hỗ trợ & TĐC này thì gửi đơn về Phòng Kinh Tế - UBND Xã Phú Nghĩa.
A84: Ý kiến của hộ gia đình, cá nhân (Đánh dấu "x" vào ô S )
A85: Tôi đồng ý với phương án dự thảo chi tiết trên và đề nghị UBND xã Phú Nghĩa phê duyệt phương án bồi thường, hỗ trợ & tái định cư và ban hành Quyết định thu hồi đất * | E85: Tôi không đồng ý với phương án dự thảo chi tiết trên *
A88: (Hộ gia đình ký và ghi rõ họ tên)

Sheet Ng Đình Khánh
A1: BAN QLDA ĐẦU TƯ XÂY DỰNG | E1: CỘNG HÒA XÃ HỘI CHỦ NGHĨA VIỆT NAM
A2: CÔNG TRÌNH GIAO THÔNG TP HÀ NỘI | E2: Độc lập - Tự do - Hạnh phúc
A4: DỰ THẢO | E4: Hà Nội, ngày tháng 3 năm 2026
A5: PHƯƠNG ÁN CHI TIẾT BỒI THƯỜNG, HỖ TRỢ VÀ TÁI ĐỊNH CƯ
A6: Dự án thành phần 1.2: Bồi thường, hỗ trợ và tái định cư thực hiện giải phóng mặt bằng trên địa bàn huyện Chương Mỹ thuộc Dự án đầu tư cải tạo, nâng cấp Quốc Lộ 6 đoạn Ba La - Xuân Mai (Trên địa giới hành chính xã Phú Nghĩa)
A7: (Kèm theo Thông báo số: /TB-UBND ngày /3/2026 của Ủy ban nhân dân xã Phú Nghĩa)
A8: I. | B8: NGƯỜI SỬ DỤNG ĐẤT VÀ SỞ HỮU TÀI SẢN GẮN LIỀN VỚI ĐẤT THU HỒI:
A9: 1. | B9: Họ và tên người sử dụng đất thu hồi: | F9: Nguyễn Đình Khánh
B10: Nơi ở hiện nay: | C10: Thôn Trung Cao - Xã Phú Nghĩa - TP Hà Nội
B11: Nơi thường trú: | C11: Thôn Trung Cao - Xã Phú Nghĩa - TP Hà Nội
B12: Số định danh cá nhân: | C12: 001095029142
A13: 2. | B13: Họ và tên người sở hữu tài sản gắn liền với đất thu hồi: | F13: =F9 -> Nguyễn Đình Khánh
B14: Nơi ở hiện nay: | C14: =+C10 -> Thôn Trung Cao - Xã Phú Nghĩa - TP Hà Nội
B15: Nơi thường trú: | C15: =C11 -> Thôn Trung Cao - Xã Phú Nghĩa - TP Hà Nội
B16: Số định danh cá nhân: | C16: =+C12 -> 001095029142
A17: II | B17: HIỆN TRẠNG SỦ DỤNG ĐẤT VÀ TÀI SẢN GẮN LIỀN VỚI ĐẤT THU HỒI:
A18: 1. | B18: Hiện trạng sử dụng đất:
B19: Thửa đất số: | C19: 13 | D19: Tờ bản đồ số: | F19: 04
B20: Diện tích thửa đất: | C20: 131.4 | D20: m2
B21: Trong đó:
B22: Trong chỉ giới GPMB: | C22: 38.4 | D22: m2
B23: Ngoài chỉ giới GPMB: | C23: =C20-C22 -> 93 | D23: m2
B24: Vị trí, địa điểm thu hồi đất: | C24: Thôn Phố Gốt - Xã Phú Nghĩa - TP Hà Nội
A25: 2 | B25: Nguồn gốc, thời gian sử dụng đất: | C25: - Thửa đất của ông Nguyễn Đình Khánh được Sở TN&MT thành phố Hà Nội cấp giấy chứng nhận QSD đất số phát hành DE 857618 ngày 21/3/2022 tại thửa đất số 247, tờ bản đồ số 12, với diện tích cấp 85,2m2. Mục đích sử dụng đất ở tại nông thôn (63,7m2), đất trồng cây lâu năm (21,5m2). Thửa đất cách tim đường Quốc lộ 6 là 28,0 m.Tổng diện tích hiện trạng sử dụng là 131,4m2, tăng 46,2m2 so với diện tích đất được cấp giấy chứng. - Đối chiếu với các cạnh thửa đất giữa Bản đồ GPMB và giấy chứng nhận quyền sử dụng đất được cấp của hộ, xác định tăng 46,2m2 về phía Nam giáp đường Quốc lộ 6. Căn cứ Bản đồ phục vụ công tác GPMB, Nghị định số 203-HĐBT ngày 21/12/1982 của Hội đồng Bộ trưởng về việc ban hành điều lệ bảo vệ đường bộ; Giấy chứng nhận quyền sử dụng đất số phát hành DE 857618 của ông Nguyễn Đình Khánh; Phòng Kinh tế xác định diện tích thu hồi 38,4m2 đất do ông Nguyễn Đình Khánh sử dụng là đất giao thông đường Quốc lộ 6.
A26: 3 | B26: Số hộ gia đình (số cặp vợ chồng): | H26: 0 | I26: hộ
A27: 4 | B27: Số nhân khẩu | H27: 0 | I27: khẩu
A28: III. | B28: PHƯƠNG ÁN BỒI THƯỜNG, HỖ TRỢ VÀ TÁI ĐỊNH CƯ:
A29: 1. | B29: Bồi thường về đất và tái định cư:
A30: TT | B30: Tiền Bồi thường (Giá trị quyền sử dụng đất của diện tích đất thu hồi)
B31: Loại đất | D31: Đơn vị tính | E31: Khối lượng | F31: Đơn giá (đồng/m2) | G31: Tỷ lệ BT, HT (%) | H31: Thành tiền 1 (đồng) | I31: Ghi chú
A32: 1 | B32: 2 | D32: 3 | E32: 4 | F32: 5 | G32: 6 | H32: 7 | I32: 8
A33: 1 | B33: Đất giao thông đường Quốc lộ 6 (DGT) | D33: m2 | E33: =C22 -> 38.4 | H33: =E33*F33*G33 -> 0
B34: Cộng: | H34: =SUM(H33:H33) -> 0
A36: 2. | B36: Bồi thường bằng đất ở hoặc nhà ở tái định cư (nếu có)
A37: TT | B37: Loại đất | D37: Đơn vị tính | E37: Khối lượng | F37: Đơn giá (đồng/m2) | G37: Tỷ lệ BT, HT (%) | H37: Thành tiền 2 (đồng) | I37: Ghi chú
A38: 1 | B38: 2 | D38: 3 | E38: 4 | F38: 5 | G38: 6 | H38: 7 | I38: 8
A39: 1 | I39: Không bố trí tái định cư.
B40: Cộng:
B42: Số tiền chênh lệch giữa tiền bồi thường đất thu hồi và tiền đất ở, nhà ở tái định cư được bố trí: | I42: Không
B43: * Người bị thu hồi đất được nhận (nếu thành tiền 1 lớn hơn thành tiền 2) | I43: Không
B44: * Người bị thu hồi đất phải nộp (nếu thành tiền 1 nhỏ hơn thành tiền 2) | I44: Không
A46: 3. | B46: Bồi thường, hỗ trợ về tài sản gắn liền với đất bị thu hồi:
A47: TT | B47: Tên tài sản | C47: Đơn vị tính | D47: Quy cách tài sản | E47: Khối lượng | F47: Đơn giá (đồng/m2) | G47: Tỷ lệ BT, HT (%) | H47: Thành tiền (đ) | I47: Ghi chú
A48: 1 | B48: 2 | C48: 3 | D48: 4 | E48: 5 | F48: 6 | G48: 7 | H48: 8 | I48: 9
A49: A. | B49: Nhà ở, công trình xây dựng | H49: =SUM(H51:H58) -> 0
A50: * | B50: NHÀ SỐ 1
A51: 1 | B51: Sân bê tông | C51: m2 | D51: 9,6 x 3,95 | E51: =9.6*3.95 -> 37.92 | I51: Không bồi thường theo Điều 105 Luật Đất đai 2024
A52: 2 | B52: Mái vẩy lợp tôn | C52: m2 | D52: 2 x 3,95 | E52: =2*3.95 -> 7.9
A53: 3 | B53: Nhà 1 tầng, tường xây gạch 110, cao >3m, mái lợp tôn, có trần nhựa, nền gạch hoa, có khu phụ | C53: m2 | D53: 10,5 x 3,95 | E53: =10.5*3.95 -> 41.475
B54: - Diện tích nhà trong chỉ giới | C54: m2 | D54: (10,39+9,79)/2 x 3,95 | E54: =(10.39+9.79)/2*3.95 -> 39.8555
B55: Diện tích nhà ngoài chỉ giới | C55: m2 | E55: =E53-E54 -> 1.6195
A56: * | B56: Trần nhựa | C56: m2 | D56: = S nhà | E56: =E53 -> 41.475
B57: - Diện tích trần nhựa trong chỉ giới | C57: m2 | D57: = S nhà trong chỉ giới | E57: =E54 -> 39.8555
B58: Diện tích trần nhựa ngoài chỉ giới | C58: m2 | E58: =E56-E57 -> 1.6195
A59: B. | B59: Cây trồng, vật nuôi là thủy sản | H59: =H60 -> 0
A60: 1 | B60: Cây Sanh | C60: cây | D60: ĐK thân>60cm | E60: 1 | I60: Không bồi thường theo Điều 105 Luật Đất đai 2024
B61: Cộng (A+B) : | H61: =H49+H59 -> 0
A62: 4 | B62: Các khoản bồi thường, hỗ trợ khác:
A63: TT | B63: Khoản bồi thường, hỗ trợ | D63: Khối lượng | E63: Đơn vị tính | F63: Đơn giá | G63: Hệ số điều chỉnh | H63: Thành tiền (đ) | I63: Ghi chú
B65: Cộng: | H65: =SUM(H64) -> 0
A66: 5 | B66: Tổng cộng tiền bồi thường, hỗ trợ được nhận (1+2+3+4): | H66: =H65+H61+H40+H34 -> 0 | I66: đồng
B67: Bằng chữ: | C67: Không đồng ./.
F68: KT. CHỦ TỊCH
F69: PHÓ CHỦ TỊCH
F76: Trần Văn Sơn
A77: Ban Quản lý dự án đầu tư xây dựng công trình giao thông TP Hà Nội phối hợp với UBND Xã Phú Nghĩa tiến hành công khai phương án dự thảo chi tiết tới hộ gia đình trong vòng 10 ngày. Trong thời gian công khai nếu hộ gia đình có ý kiến thắc mắc về bản Dự thảo phương án chi tiết bồi thường, hỗ trợ & TĐC này thì gửi đơn về Phòng Kinh Tế - UBND Xã Phú Nghĩa.
A78: Ý kiến của hộ gia đình, cá nhân (Đánh dấu "x" vào ô S )
A79: Tôi đồng ý với phương án dự thảo chi tiết trên và đề nghị UBND xã Phú Nghĩa phê duyệt phương án bồi thường, hỗ trợ & tái định cư và ban hành Quyết định thu hồi đất * | E79: Tôi không đồng ý với phương án dự thảo chi tiết trên *
A82: (Hộ gia đình ký và ghi rõ họ tên)

Sheet Ng Thị Mến
A1: BAN QLDA ĐẦU TƯ XÂY DỰNG | E1: CỘNG HÒA XÃ HỘI CHỦ NGHĨA VIỆT NAM
A2: CÔNG TRÌNH GIAO THÔNG TP HÀ NỘI | E2: Độc lập - Tự do - Hạnh phúc
A4: DỰ THẢO | E4: Hà Nội, ngày tháng 3 năm 2026
A5: PHƯƠNG ÁN CHI TIẾT BỒI THƯỜNG, HỖ TRỢ VÀ TÁI ĐỊNH CƯ
A6: Dự án thành phần 1.2: Bồi thường, hỗ trợ và tái định cư thực hiện giải phóng mặt bằng trên địa bàn huyện Chương Mỹ thuộc Dự án đầu tư cải tạo, nâng cấp Quốc Lộ 6 đoạn Ba La - Xuân Mai (Trên địa giới hành chính xã Phú Nghĩa)
A7: (Kèm theo Thông báo số: /TB-UBND ngày /3/2026 của Ủy ban nhân dân xã Phú Nghĩa)
A8: I. | B8: NGƯỜI SỬ DỤNG ĐẤT VÀ SỞ HỮU TÀI SẢN GẮN LIỀN VỚI ĐẤT THU HỒI:
A9: 1. | B9: Họ và tên người sử dụng đất thu hồi: | F9: Nguyễn Thị Mến
B10: Nơi ở hiện nay: | C10: Thôn Phố Gốt - Xã Phú Nghĩa - TP Hà Nội
B11: Nơi thường trú: | C11: Thôn Phố Gốt - Xã Phú Nghĩa - TP Hà Nội
B12: Số định danh cá nhân: | C12: 0011155017845
A13: 2. | B13: Họ và tên người sở hữu tài sản gắn liền với đất thu hồi: | F13: =F9 -> Nguyễn Thị Mến
B14: Nơi ở hiện nay: | C14: =+C10 -> Thôn Phố Gốt - Xã Phú Nghĩa - TP Hà Nội
B15: Nơi thường trú: | C15: =C11 -> Thôn Phố Gốt - Xã Phú Nghĩa - TP Hà Nội
B16: Số định danh cá nhân: | C16: =+C12 -> 0011155017845
A17: II | B17: HIỆN TRẠNG SỦ DỤNG ĐẤT VÀ TÀI SẢN GẮN LIỀN VỚI ĐẤT THU HỒI:
A18: 1. | B18: Hiện trạng sử dụng đất:
B19: Thửa đất số: | C19: 77 | D19: Tờ bản đồ số: | F19: 05
B20: Diện tích thửa đất: | C20: 361.4 | D20: m2
B21: Trong đó:
B22: Trong chỉ giới GPMB: | C22: 62.2 | D22: m2
B23: Ngoài chỉ giới GPMB: | C23: =C20-C22 -> 299.2 | D23: m2
B24: Vị trí, địa điểm thu hồi đất: | C24: Thôn Phố Gốt - Xã Phú Nghĩa - TP Hà Nội
A25: 2 | B25: Nguồn gốc, thời gian sử dụng đất: | C25: - Hộ bà Nguyễn Thị Miến được UBND huyện Chương Mỹ cấp chứng nhận quyền sử dụng đất, thửa đất số 288, tờ bản đồ số 38, số phát hành BD 765814, với diện tích 300,0m2, cấp ngày 09/02/2010. Địa chỉ thửa đất: Thôn Phố Gốt, xã Phú Nghĩa, thành phố Hà Nội. Mục đích sử dụng đất ở tại nông thôn, thời hạn sử dụng lâu dài. -Tổng diện tích 361,4m2 tăng 61,4m2 so với diện tích được cấp giấy chứng nhận quyền sử dụng đất đã cấp. Đối chiếu với các cạnh thửa đất giữa Bản đồ GPMB; Giấy chứng nhận quyền sử dụng đất được cấp của hộ, xác định tăng 61,4m2. Nhưng thực tế tăng 65,5m2 về phía Bắc đường Quốc lộ 6 (61,4m2 diện tích thu hồi, 4,1m2 đất nằm ngoài giấy chứng nhận được cấp). - Căn cứ Bản đồ phục vụ công tác GPMB; Nghị định số 203-HĐBT ngày 21/12/1982 của Hội đồng Bộ trưởng về việc ban hành điều lệ bảo vệ đường bộ; Giấy chứng nhận quyền sử dụng đất của hộ bà Nguyễn Thị Miến.Phòng Kinh tế xác định diện tích thu hồi 62,2 m2 do hộ bà Nguyễn Thị Miến sử dụng nằm ngoài giấy chứng nhận quyền sử dụng đất đã được cấp. Do vậy diện tích thu hồi là đất giao thông đường Quốc lộ 6 (DGT).
A26: 3 | B26: Số hộ gia đình (số cặp vợ chồng): | H26: 01 | I26: hộ
A27: 4 | B27: Số nhân khẩu | H27: 06 | I27: khẩu
A28: III. | B28: PHƯƠNG ÁN BỒI THƯỜNG, HỖ TRỢ VÀ TÁI ĐỊNH CƯ:
A29: 1. | B29: Bồi thường về đất và tái định cư:
A30: TT | B30: Tiền Bồi thường (Giá trị quyền sử dụng đất của diện tích đất thu hồi)
B31: Loại đất | D31: Đơn vị tính | E31: Khối lượng | F31: Đơn giá (đồng/m2) | G31: Tỷ lệ BT, HT (%) | H31: Thành tiền 1 (đồng) | I31: Ghi chú
A32: 1 | B32: 2 | D32: 3 | E32: 4 | F32: 5 | G32: 6 | H32: 7 | I32: 8
A33: 1 | B33: Đất giao thông đường Quốc lộ 6 (DGT) | D33: m2 | E33: =C22 -> 62.2 | H33: =E33*F33*G33 -> 0
B34: Cộng: | H34: =SUM(H33:H33) -> 0
A36: 2. | B36: Bồi thường bằng đất ở hoặc nhà ở tái định cư (nếu có)
A37: TT | B37: Loại đất | D37: Đơn vị tính | E37: Khối lượng | F37: Đơn giá (đồng/m2) | G37: Tỷ lệ BT, HT (%) | H37: Thành tiền 2 (đồng) | I37: Ghi chú
A38: 1 | B38: 2 | D38: 3 | E38: 4 | F38: 5 | G38: 6 | H38: 7 | I38: 8
A39: 1 | I39: Không bố trí tái định cư.
B40: Cộng:
B42: Số tiền chênh lệch giữa tiền bồi thường đất thu hồi và tiền đất ở, nhà ở tái định cư được bố trí: | I42: Không
B43: * Người bị thu hồi đất được nhận (nếu thành tiền 1 lớn hơn thành tiền 2) | I43: Không
B44: * Người bị thu hồi đất phải nộp (nếu thành tiền 1 nhỏ hơn thành tiền 2) | I44: Không
A46: 3. | B46: Bồi thường, hỗ trợ về tài sản gắn liền với đất bị thu hồi:
A47: TT | B47: Tên tài sản | C47: Đơn vị tính | D47: Quy cách tài sản | E47: Khối lượng | F47: Đơn giá (đồng/m2) | G47: Tỷ lệ BT, HT (%) | H47: Thành tiền (đ) | I47: Ghi chú
A48: 1 | B48: 2 | C48: 3 | D48: 4 | E48: 5 | F48: 6 | G48: 7 | H48: 8 | I48: 9
A49: A. | B49: Nhà ở, công trình xây dựng | H49: =SUM(H50:H55) -> 0
A50: 1 | B50: Mái vẩy tôn | C50: m2 | D50: 1 x 5,51 | E50: 5.51 | I50: Không bồi thường theo Điều 105 Luật Đất đai 2024
A51: 2 | B51: Sân gạch đỏ | C51: m2 | D51: 5,3 x 5,51 | E51: =5.3*5.51 -> 29.203
B52: Sân bê tông | C52: m2 | D52: 2,5 x 5,51 | E52: =2.5*5.51 -> 13.775
A53: 3 | B53: Nhà 1 tầng mái tôn, tường xây gạch 110, cao >3m, nền gạch hoa, không có khu phụ | C53: m2 | D53: = S đất trong chỉ giới +(3,48x8,46) | E53: =C22+(3.48*8.46) -> 91.6408
B54: - Diện tích nhà trong chỉ giới | C54: m2 | D54: =S đất trong chỉ giới | E54: =C22 -> 62.2
B55: Diện tích nhà ngoài chỉ giới | C55: m2 | E55: =E53-E54 -> 29.4408
A56: B. | B56: Cây trồng, vật nuôi là thủy sản | H56: =H57 -> 0
B58: Cộng (A+B) : | H58: =H49+H56 -> 0
A59: 4 | B59: Các khoản bồi thường, hỗ trợ khác:
A60: TT | B60: Khoản bồi thường, hỗ trợ | D60: Khối lượng | E60: Đơn vị tính | F60: Đơn giá | G60: Hệ số điều chỉnh | H60: Thành tiền (đ) | I60: Ghi chú
B62: Cộng: | H62: =SUM(H61) -> 0
A63: 5 | B63: Tổng cộng tiền bồi thường, hỗ trợ được nhận (1+2+3+4): | H63: =H62+H58+H40+H34 -> 0 | I63: đồng
B64: Bằng chữ: | C64: Không đồng ./.
F65: KT. CHỦ TỊCH
F66: PHÓ CHỦ TỊCH
F73: Trần Văn Sơn
A74: Ban Quản lý dự án đầu tư xây dựng công trình giao thông TP Hà Nội phối hợp với UBND Xã Phú Nghĩa tiến hành công khai phương án dự thảo chi tiết tới hộ gia đình trong vòng 10 ngày. Trong thời gian công khai nếu hộ gia đình có ý kiến thắc mắc về bản Dự thảo phương án chi tiết bồi thường, hỗ trợ & TĐC này thì gửi đơn về Phòng Kinh Tế - UBND Xã Phú Nghĩa.
A75: Ý kiến của hộ gia đình, cá nhân (Đánh dấu "x" vào ô S )
A76: Tôi đồng ý với phương án dự thảo chi tiết trên và đề nghị UBND xã Phú Nghĩa phê duyệt phương án bồi thường, hỗ trợ & tái định cư và ban hành Quyết định thu hồi đất * | E76: Tôi không đồng ý với phương án dự thảo chi tiết trên *
A79: (Hộ gia đình ký và ghi rõ họ tên)

Sheet Ng Đắc Vũ(4-24)
A1: BAN QLDA ĐẦU TƯ XÂY DỰNG | E1: CỘNG HÒA XÃ HỘI CHỦ NGHĨA VIỆT NAM
A2: CÔNG TRÌNH GIAO THÔNG TP HÀ NỘI | E2: Độc lập - Tự do - Hạnh phúc
A4: DỰ THẢO | E4: Hà Nội, ngày tháng 3 năm 2026
A5: PHƯƠNG ÁN CHI TIẾT BỒI THƯỜNG, HỖ TRỢ VÀ TÁI ĐỊNH CƯ
A6: Dự án thành phần 1.2: Bồi thường, hỗ trợ và tái định cư thực hiện giải phóng mặt bằng trên địa bàn huyện Chương Mỹ thuộc Dự án đầu tư cải tạo, nâng cấp Quốc Lộ 6 đoạn Ba La - Xuân Mai (Trên địa giới hành chính xã Phú Nghĩa)
A7: (Kèm theo Thông báo số: /TB-UBND ngày /03/2026 của Ủy ban nhân dân xã Phú Nghĩa)
A8: I. | B8: NGƯỜI SỬ DỤNG ĐẤT VÀ SỞ HỮU TÀI SẢN GẮN LIỀN VỚI ĐẤT THU HỒI:
A9: 1. | B9: Họ và tên người sử dụng đất thu hồi: | F9: Nguyễn Đắc Vũ (Đỗ Thị Lan)
B10: Nơi ở hiện nay: | C10: Thôn Đồi 1- Xã Phú Nghĩa - TP Hà Nội
B11: Nơi thường trú: | C11: Thôn Đồi 1- Xã Phú Nghĩa - TP Hà Nội
B12: Số định danh cá nhân: | C12: 001089015139
A13: 2. | B13: Họ và tên người sở hữu tài sản gắn liền với đất thu hồi: | F13: =F9 -> Nguyễn Đắc Vũ (Đỗ Thị Lan)
B14: Nơi ở hiện nay: | C14: =+C10 -> Thôn Đồi 1- Xã Phú Nghĩa - TP Hà Nội
B15: Nơi thường trú: | C15: =C11 -> Thôn Đồi 1- Xã Phú Nghĩa - TP Hà Nội
B16: Số định danh cá nhân: | C16: =+C12 -> 001089015139
A17: II | B17: HIỆN TRẠNG SỦ DỤNG ĐẤT VÀ TÀI SẢN GẮN LIỀN VỚI ĐẤT THU HỒI:
A18: 1. | B18: Hiện trạng sử dụng đất:
B19: Thửa đất số: | C19: 24 | D19: Tờ bản đồ số: | F19: 04
B20: Diện tích thửa đất: | C20: 130 | D20: m2
B21: Trong đó:
B22: Trong chỉ giới GPMB: | C22: 38.3 | D22: m2
B23: Ngoài chỉ giới GPMB: | C23: =C20-C22 -> 91.7 | D23: m2
B24: Vị trí, địa điểm thu hồi đất: | C24: Thôn Phố Gốt - Xã Phú Nghĩa - TP Hà Nội
A25: 2 | B25: Nguồn gốc, thời gian sử dụng đất: | C25: - Thửa đất của ông Nguyễn Đắc Vũ được UBND huyện Chương Mỹ cấp GCN QSD đất số AP 419392 ngày 20/5/2009 tại thửa đất số 30C, tờ bản đồ số 38, diện tích 93,0m2. Mục đích sử dụng: 93,0m2 đất ở. Thửa đất cách tim đường Quốc lộ 6 là 28,0m. -Tổng diện tích hiện trạng sử dụng là 130,0 m2 tăng 37,0 m2 so với giấy chứng nhận QSD đất đã cấp. Đối chiếu với các cạnh thửa đất giữa Bản đồ GPMB và giấy chứng nhận quyền sử dụng đất được cấp của hộ, xác định tăng 37,0m2 về phía phía Nam đường Quốc lộ 6. - Căn cứ Bản đồ phục vụ công tác GPMB, Nghị định số 203-HĐBT ngày 21/12/1982 của Hội đồng Bộ trưởng về việc ban hành điều lệ bảo vệ đường bộ, Giấy chứng nhận quyền sử dụng đất số AP 419392. Phòng Kinh tế xác định diện tích thu hồi 38,3m2 ông Nguyễn Đắc Vũ sử dụng là đất giao thông đường Quốc lộ 6 (DGT)
A26: 3 | B26: Số hộ gia đình (số cặp vợ chồng): | H26: 0 | I26: hộ
A27: 4 | B27: Số nhân khẩu | H27: 0 | I27: khẩu
A28: III. | B28: PHƯƠNG ÁN BỒI THƯỜNG, HỖ TRỢ VÀ TÁI ĐỊNH CƯ:
A29: 1. | B29: Bồi thường về đất và tái định cư:
A30: TT | B30: Tiền Bồi thường (Giá trị quyền sử dụng đất của diện tích đất thu hồi)
B31: Loại đất | D31: Đơn vị tính | E31: Khối lượng | F31: Đơn giá (đồng/m2) | G31: Tỷ lệ BT, HT (%) | H31: Thành tiền 1 (đồng) | I31: Ghi chú
A32: 1 | B32: 2 | D32: 3 | E32: 4 | F32: 5 | G32: 6 | H32: 7 | I32: 8
A33: 1 | B33: Đất giao thông đường Quốc lộ 6 (DGT) | D33: m2 | E33: =C22 -> 38.3 | H33: =E33*F33*G33 -> 0
B34: Cộng: | H34: =SUM(H33:H33) -> 0
A36: 2. | B36: Bồi thường bằng đất ở hoặc nhà ở tái định cư (nếu có)
A37: TT | B37: Loại đất | D37: Đơn vị tính | E37: Khối lượng | F37: Đơn giá (đồng/m2) | G37: Tỷ lệ BT, HT (%) | H37: Thành tiền 2 (đồng) | I37: Ghi chú
A38: 1 | B38: 2 | D38: 3 | E38: 4 | F38: 5 | G38: 6 | H38: 7 | I38: 8
A39: 1 | I39: Không bố trí tái định cư.
B40: Cộng:
B42: Số tiền chênh lệch giữa tiền bồi thường đất thu hồi và tiền đất ở, nhà ở tái định cư được bố trí: | I42: Không
B43: * Người bị thu hồi đất được nhận (nếu thành tiền 1 lớn hơn thành tiền 2) | I43: Không
B44: * Người bị thu hồi đất phải nộp (nếu thành tiền 1 nhỏ hơn thành tiền 2) | I44: Không
A46: 3. | B46: Bồi thường, hỗ trợ về tài sản gắn liền với đất bị thu hồi:
A47: TT | B47: Tên tài sản | C47: Đơn vị tính | D47: Quy cách tài sản | E47: Khối lượng | F47: Đơn giá (đồng/m2) | G47: Tỷ lệ BT, HT (%) | H47: Thành tiền (đ) | I47: Ghi chú
A48: 1 | B48: 2 | C48: 3 | D48: 4 | E48: 5 | F48: 6 | G48: 7 | H48: 8 | I48: 9
A49: A. | B49: Nhà ở, công trình xây dựng | H49: =SUM(H50:H52) -> 0
A50: 1 | B50: Nhà 1 tầng mái lợp tôn, tường 110 chịu lực, cao >3m, nền gạch hoa, không có phụ khu | C50: m2 | D50: = S đất | E50: =C20 -> 130 | I50: Không bồi thường theo Điều 105 Luật Đất đai 2024
B51: - Diện tích nhà trong chỉ giới | C51: m2 | D51: = S đất trong chỉ giới | E51: =C22 -> 38.3
B52: - Diện tích nhà ngoài chỉ giới | C52: m2 | E52: =E50-E51 -> 91.7
A53: B. | B53: Cây trồng, vật nuôi là thủy sản | H53: =SUM(H54:H54) -> 0
B55: Cộng (A+B) : | H55: =H49+H53 -> 0
A56: 4 | B56: Các khoản bồi thường, hỗ trợ khác:
A57: TT | B57: Khoản bồi thường, hỗ trợ | D57: Khối lượng | E57: Đơn vị tính | F57: Đơn giá | G57: Hệ số điều chỉnh | H57: Thành tiền (đ) | I57: Ghi chú
B59: Cộng: | H59: =SUM(H58) -> 0
A60: 5 | B60: Tổng cộng tiền bồi thường, hỗ trợ được nhận (1+2+3+4): | H60: =H59+H55+H40+H34 -> 0 | I60: đồng
B61: Bằng chữ: | C61: Không đồng ./.
F62: KT. CHỦ TỊCH
F63: PHÓ CHỦ TỊCH
F70: Trần Văn Sơn
A71: Ban Quản lý dự án đầu tư xây dựng công trình giao thông TP Hà Nội phối hợp với UBND Xã Phú Nghĩa tiến hành công khai phương án dự thảo chi tiết tới hộ gia đình trong vòng 10 ngày. Trong thời gian công khai nếu hộ gia đình có ý kiến thắc mắc về bản Dự thảo phương án chi tiết bồi thường, hỗ trợ & TĐC này thì gửi đơn về Phòng Kinh Tế - UBND Xã Phú Nghĩa.
A72: Ý kiến của hộ gia đình, cá nhân (Đánh dấu "x" vào ô S )
A73: Tôi đồng ý với phương án dự thảo chi tiết trên và đề nghị UBND xã Phú Nghĩa phê duyệt phương án bồi thường, hỗ trợ & tái định cư và ban hành Quyết định thu hồi đất * | E73: Tôi không đồng ý với phương án dự thảo chi tiết trên *
A76: (Hộ gia đình ký và ghi rõ họ tên)

Sheet Ng Ngọc Dũng(06-53)
A1: BAN QLDA ĐẦU TƯ XÂY DỰNG | E1: CỘNG HÒA XÃ HỘI CHỦ NGHĨA VIỆT NAM
A2: CÔNG TRÌNH GIAO THÔNG TP HÀ NỘI | E2: Độc lập - Tự do - Hạnh phúc
A4: DỰ THẢO | E4: Hà Nội, ngày tháng 3 năm 2026
A5: PHƯƠNG ÁN CHI TIẾT BỒI THƯỜNG, HỖ TRỢ VÀ TÁI ĐỊNH CƯ
A6: Dự án thành phần 1.2: Bồi thường, hỗ trợ và tái định cư thực hiện giải phóng mặt bằng trên địa bàn huyện Chương Mỹ thuộc Dự án đầu tư cải tạo, nâng cấp Quốc Lộ 6 đoạn Ba La - Xuân Mai (Trên địa giới hành chính xã Phú Nghĩa)
A7: (Kèm theo Thông báo số: /TB-UBND ngày /03/2026 của Ủy ban nhân dân xã Phú Nghĩa)
A8: I. | B8: NGƯỜI SỬ DỤNG ĐẤT VÀ SỞ HỮU TÀI SẢN GẮN LIỀN VỚI ĐẤT THU HỒI:
A9: 1. | B9: Họ và tên người sử dụng đất thu hồi: | F9: Nguyễn Ngọc Dũng - Nguyễn Thị Lan
B10: Nơi ở hiện nay: | C10: Thôn Phố Gốt - Xã Phú Nghĩa - TP Hà Nội
B11: Nơi thường trú: | C11: Thôn Phố Gốt - Xã Phú Nghĩa - TP Hà Nội
B12: Số định danh cá nhân: | C12: 001063024954
A13: 2. | B13: Họ và tên người sở hữu tài sản gắn liền với đất thu hồi: | F13: =F9 -> Nguyễn Ngọc Dũng - Nguyễn Thị Lan
B14: Nơi ở hiện nay: | C14: =+C10 -> Thôn Phố Gốt - Xã Phú Nghĩa - TP Hà Nội
B15: Nơi thường trú: | C15: =C11 -> Thôn Phố Gốt - Xã Phú Nghĩa - TP Hà Nội
B16: Số định danh cá nhân: | C16: =+C12 -> 001063024954
A17: II | B17: HIỆN TRẠNG SỦ DỤNG ĐẤT VÀ TÀI SẢN GẮN LIỀN VỚI ĐẤT THU HỒI:
A18: 1. | B18: Hiện trạng sử dụng đất:
B19: Thửa đất số: | C19: 53 | D19: Tờ bản đồ số: | F19: 06
B20: Diện tích thửa đất: | C20: 117.3 | D20: m2
B21: Trong đó:
B22: Trong chỉ giới GPMB: | C22: 34.7 | D22: m2
B23: Ngoài chỉ giới GPMB: | C23: =C20-C22 -> 82.6 | D23: m2
B24: Vị trí, địa điểm thu hồi đất: | C24: Thôn Phố Gốt - Xã Phú Nghĩa - TP Hà Nội
A25: 2 | B25: Nguồn gốc, thời gian sử dụng đất: | C25: - Hộ ông Nguyễn Đình Ái được UBND xã Đông Sơn (cũ) giao đất ở ngày 1/4/2007, thửa số 1, sơ đồ đo đạc chi tiết phân lô để đấu giá, diện tích 59,0m2. Đến ngày 18/4/2007 ông Nguyễn Đình Ái chuyển nhượng cho ông Nguyễn Ngọc Dũng toàn bộ diện tích nói trên, ông Dũng sử dụng không tranh chấp.Tổng diện tích hiện trạng sử dụng là 117,3m2, tăng 58,3m2 so với biên bản giao đất. - Đối chiếu với các cạnh thửa đất giữa Bản đồ GPMB; Biên bản giao đất, xác định tăng 58,3m2 về phía Bắc giáp đường Quốc lộ 6. Căn cứ Bản đồ phục vụ công tác GPMB; Nghị định số 203-HĐBT ngày 21/12/1982 của Hội đồng Bộ trưởng về việc ban hành điều lệ bảo vệ đường bộ; Phòng Kinh tế xác định diện tích thu hồi 34,7m2 đất do hộ ông Nguyễn Ngọc Dũng sử dụng là đất giao thông đường Quốc lộ 6 (DGT).
A26: 3 | B26: Số hộ gia đình (số cặp vợ chồng): | H26: 0 | I26: hộ
A27: 4 | B27: Số nhân khẩu | H27: 0 | I27: khẩu
A28: III. | B28: PHƯƠNG ÁN BỒI THƯỜNG, HỖ TRỢ VÀ TÁI ĐỊNH CƯ:
A29: 1. | B29: Bồi thường về đất và tái định cư:
A30: TT | B30: Tiền Bồi thường (Giá trị quyền sử dụng đất của diện tích đất thu hồi)
B31: Loại đất | D31: Đơn vị tính | E31: Khối lượng | F31: Đơn giá (đồng/m2) | G31: Tỷ lệ BT, HT (%) | H31: Thành tiền 1 (đồng) | I31: Ghi chú
A32: 1 | B32: 2 | D32: 3 | E32: 4 | F32: 5 | G32: 6 | H32: 7 | I32: 8
A33: 1 | B33: Đất giao thông đường Quốc lộ 6 (DGT) | D33: m2 | E33: =C22 -> 34.7 | H33: =E33*F33*G33 -> 0
B34: Cộng: | H34: =SUM(H33:H33) -> 0
A36: 2. | B36: Bồi thường bằng đất ở hoặc nhà ở tái định cư (nếu có)
A37: TT | B37: Loại đất | D37: Đơn vị tính | E37: Khối lượng | F37: Đơn giá (đồng/m2) | G37: Tỷ lệ BT, HT (%) | H37: Thành tiền 2 (đồng) | I37: Ghi chú
A38: 1 | B38: 2 | D38: 3 | E38: 4 | F38: 5 | G38: 6 | H38: 7 | I38: 8
A39: 1 | I39: Không bố trí tái định cư.
B40: Cộng:
B42: Số tiền chênh lệch giữa tiền bồi thường đất thu hồi và tiền đất ở, nhà ở tái định cư được bố trí: | I42: Không
B43: * Người bị thu hồi đất được nhận (nếu thành tiền 1 lớn hơn thành tiền 2) | I43: Không
B44: * Người bị thu hồi đất phải nộp (nếu thành tiền 1 nhỏ hơn thành tiền 2) | I44: Không
A46: 3. | B46: Bồi thường, hỗ trợ về tài sản gắn liền với đất bị thu hồi:
A47: TT | B47: Tên tài sản | C47: Đơn vị tính | D47: Quy cách tài sản | E47: Khối lượng | F47: Đơn giá (đồng/m2) | G47: Tỷ lệ BT, HT (%) | H47: Thành tiền (đ) | I47: Ghi chú
A48: 1 | B48: 2 | C48: 3 | D48: 4 | E48: 5 | F48: 6 | G48: 7 | H48: 8 | I48: 9
A49: A. | B49: Nhà ở, công trình xây dựng | H49: =SUM(H52:H56) -> 0
A50: 1 | B50: Sân bê tông | C50: m2 | D50: 4,63 x 10 | E50: =4.63*10 -> 46.3
A51: 2 | B51: Mái vẩy tôn | C51: m2 | D51: 4,63 x 2 | E51: =4.63*2 -> 9.26
A52: 3 | B52: Nhà 1 tầng mái lợp tôn, trần nhựa, tường 220, cao >3m, nền gạch hoa, có phụ khu | C52: m2 | D52: 17,44 x 4,63 | E52: =17.44*4.63 -> 80.7472 | I52: Không bồi thường theo Điều 105 Luật Đất đai 2024
B53: - Diện tích nhà trong chỉ giới | C53: m2 | D53: = S đất trong chỉ giới | E53: =C22 -> 34.7
B54: - Diện tích nhà ngoài chỉ giới | C54: m2 | E54: =E52-E53 -> 46.0472
A55: * | B55: Trần nhựa trong chỉ giới | C55: m2 | D55: = S nhà trong chỉ giới | E55: =E53 -> 34.7
A56: 4 | B56: Giếng khơi xây gạch | C56: m | D56: Sâu 11m | E56: 11
A57: B. | B57: Cây trồng, vật nuôi là thủy sản | H57: =SUM(H58:H58) -> 0
B59: Cộng (A+B) : | H59: =H49+H57 -> 0
A60: 4 | B60: Các khoản bồi thường, hỗ trợ khác:
A61: TT | B61: Khoản bồi thường, hỗ trợ | D61: Khối lượng | E61: Đơn vị tính | F61: Đơn giá | G61: Hệ số điều chỉnh | H61: Thành tiền (đ) | I61: Ghi chú
B63: Cộng: | H63: =SUM(H62) -> 0
A64: 5 | B64: Tổng cộng tiền bồi thường, hỗ trợ được nhận (1+2+3+4): | H64: =H63+H59+H40+H34 -> 0 | I64: đồng
B65: Bằng chữ: | C65: Không đồng ./.
F66: KT. CHỦ TỊCH
F67: PHÓ CHỦ TỊCH
F74: Trần Văn Sơn
A75: Ban Quản lý dự án đầu tư xây dựng công trình giao thông TP Hà Nội phối hợp với UBND Xã Phú Nghĩa tiến hành công khai phương án dự thảo chi tiết tới hộ gia đình trong vòng 10 ngày. Trong thời gian công khai nếu hộ gia đình có ý kiến thắc mắc về bản Dự thảo phương án chi tiết bồi thường, hỗ trợ & TĐC này thì gửi đơn về Phòng Kinh Tế - UBND Xã Phú Nghĩa.
A76: Ý kiến của hộ gia đình, cá nhân (Đánh dấu "x" vào ô S )
A77: Tôi đồng ý với phương án dự thảo chi tiết trên và đề nghị UBND xã Phú Nghĩa phê duyệt phương án bồi thường, hỗ trợ & tái định cư và ban hành Quyết định thu hồi đất * | E77: Tôi không đồng ý với phương án dự thảo chi tiết trên *
A80: (Hộ gia đình ký và ghi rõ họ tên)

Sheet Đỗ Huy Thành(4-8)
A1: BAN QLDA ĐẦU TƯ XÂY DỰNG | E1: CỘNG HÒA XÃ HỘI CHỦ NGHĨA VIỆT NAM
A2: CÔNG TRÌNH GIAO THÔNG TP HÀ NỘI | E2: Độc lập - Tự do - Hạnh phúc
A4: DỰ THẢO | E4: Hà Nội, ngày tháng 3 năm 2026
A5: PHƯƠNG ÁN CHI TIẾT BỒI THƯỜNG, HỖ TRỢ VÀ TÁI ĐỊNH CƯ
A6: Dự án thành phần 1.2: Bồi thường, hỗ trợ và tái định cư thực hiện giải phóng mặt bằng trên địa bàn huyện Chương Mỹ thuộc Dự án đầu tư cải tạo, nâng cấp Quốc Lộ 6 đoạn Ba La - Xuân Mai (Trên địa giới hành chính xã Phú Nghĩa)
A7: (Kèm theo Thông báo số: /TB-UBND ngày /03/2026 của Ủy ban nhân dân xã Phú Nghĩa)
A8: I. | B8: NGƯỜI SỬ DỤNG ĐẤT VÀ SỞ HỮU TÀI SẢN GẮN LIỀN VỚI ĐẤT THU HỒI:
A9: 1. | B9: Họ và tên người sử dụng đất thu hồi: | F9: ĐSH: Đỗ Thị Ninh - Đỗ Huy Bình - Đô Huy Biên (Đại diện cho Ông Đỗ Huy Thành đã chết)
B10: Nơi ở hiện nay: | C10: Thôn Đông Cựu Đồi - Xã Phú Nghĩa - TP Hà Nội
B11: Nơi thường trú: | C11: Thôn Đông Cựu Đồi - Xã Phú Nghĩa - TP Hà Nội
B12: Số định danh cá nhân: | C12: 00118502051(Ninh); 001089034143 (Bình); 001094024392 (Biên)
A13: 2. | B13: Họ và tên người sở hữu tài sản gắn liền với đất thu hồi: | F13: =F9 -> ĐSH: Đỗ Thị Ninh - Đỗ Huy Bình - Đô Huy Biên (Đại diện cho Ông Đỗ Huy Thành đã chết)
B14: Nơi ở hiện nay: | C14: =+C10 -> Thôn Đông Cựu Đồi - Xã Phú Nghĩa - TP Hà Nội
B15: Nơi thường trú: | C15: =C11 -> Thôn Đông Cựu Đồi - Xã Phú Nghĩa - TP Hà Nội
B16: Số định danh cá nhân: | C16: =+C12 -> 00118502051(Ninh); 001089034143 (Bình); 001094024392 (Biên)
A17: II | B17: HIỆN TRẠNG SỦ DỤNG ĐẤT VÀ TÀI SẢN GẮN LIỀN VỚI ĐẤT THU HỒI:
A18: 1. | B18: Hiện trạng sử dụng đất:
B19: Thửa đất số: | C19: 08 | D19: Tờ bản đồ số: | F19: 04
B20: Diện tích thửa đất: | C20: 557.4 | D20: m2
B21: Trong đó:
B22: Trong chỉ giới GPMB: | C22: 201 | D22: m2
B23: Ngoài chỉ giới GPMB: | C23: =C20-C22 -> 356.4 | D23: m2
B24: Vị trí, địa điểm thu hồi đất: | C24: Thôn Đông - Xã Phú Nghĩa - TP Hà Nội
A25: 2 | B25: Nguồn gốc, thời gian sử dụng đất: | C25: - Theo giấy tờ hộ ông Đỗ Huy Thành cung cấp: Thửa đất của hộ ông Đỗ Huy Thành được Ủy ban nhân dân xã Đông Sơn (cũ) giao năm 1989, không còn giấy tờ liên quan đến thửa đất. - Căn cứ Bản đồ phục vụ công tác giải phóng mặt bằng, Nghị định số 203-HĐBT ngày 21/12/1982 của Hội đồng Bộ trưởng về việc ban hành điều lệ bảo vệ đường bộ, phiếu xin ý kiến dân cư về nguồn gốc, quá trình sử dụng đất ngày 03/7/2017 và đơn xin cấp giấy chứng nhận quyền sử dụng, biên bản xác nhận kích thước thửa đất của hộ ông Đỗ Huy Thành kê khai được UBND xã Đông Sơn xác nhận ngày 10/6/2016. Phòng Kinh tế xác nhận diện tích đất diện tích 201,0 m2 do hộ ông Đỗ Huy Thành đang sử dụng được xác định là đất giao thông đường Quốc lộ 6 (DGT).
A26: 3 | B26: Số hộ gia đình (số cặp vợ chồng): | H26: 01 | I26: hộ
A27: 4 | B27: Số nhân khẩu | H27: 02 | I27: khẩu
A28: III. | B28: PHƯƠNG ÁN BỒI THƯỜNG, HỖ TRỢ VÀ TÁI ĐỊNH CƯ:
A29: 1. | B29: Bồi thường về đất và tái định cư:
A30: TT | B30: Tiền Bồi thường (Giá trị quyền sử dụng đất của diện tích đất thu hồi)
B31: Loại đất | D31: Đơn vị tính | E31: Khối lượng | F31: Đơn giá (đồng/m2) | G31: Tỷ lệ BT, HT (%) | H31: Thành tiền 1 (đồng) | I31: Ghi chú
A32: 1 | B32: 2 | D32: 3 | E32: 4 | F32: 5 | G32: 6 | H32: 7 | I32: 8
A33: 1 | B33: Đất giao thông đường Quốc lộ 6 (DGT) | D33: m2 | E33: =C22 -> 201 | H33: =E33*F33*G33 -> 0
B34: Cộng: | H34: =SUM(H33:H33) -> 0
A36: 2. | B36: Bồi thường bằng đất ở hoặc nhà ở tái định cư (nếu có)
A37: TT | B37: Loại đất | D37: Đơn vị tính | E37: Khối lượng | F37: Đơn giá (đồng/m2) | G37: Tỷ lệ BT, HT (%) | H37: Thành tiền 2 (đồng) | I37: Ghi chú
A38: 1 | B38: 2 | D38: 3 | E38: 4 | F38: 5 | G38: 6 | H38: 7 | I38: 8
A39: 1 | I39: Không bố trí tái định cư.
B40: Cộng:
B42: Số tiền chênh lệch giữa tiền bồi thường đất thu hồi và tiền đất ở, nhà ở tái định cư được bố trí: | I42: Không
B43: * Người bị thu hồi đất được nhận (nếu thành tiền 1 lớn hơn thành tiền 2) | I43: Không
B44: * Người bị thu hồi đất phải nộp (nếu thành tiền 1 nhỏ hơn thành tiền 2) | I44: Không
A46: 3. | B46: Bồi thường, hỗ trợ về tài sản gắn liền với đất bị thu hồi:
A47: TT | B47: Tên tài sản | C47: Đơn vị tính | D47: Quy cách tài sản | E47: Khối lượng | F47: Đơn giá (đồng/m2) | G47: Tỷ lệ BT, HT (%) | H47: Thành tiền (đ) | I47: Ghi chú
A48: 1 | B48: 2 | C48: 3 | D48: 4 | E48: 5 | F48: 6 | G48: 7 | H48: 8 | I48: 9
A49: A. | B49: Nhà ở, công trình xây dựng | H49: =SUM(H54:H57) -> 0
A50: 1 | B50: Sân bê tông | C50: m2 | D50: 6,6 x 15,98 | E50: =6.6*15.98 -> 105.468 | I50: Không bồi thường theo Điều 105 Luật Đất đai 2024
A51: 2 | B51: Mái vẩy tôn | C51: m2 | D51: 2,5 x 15,98 | E51: =2.5*15.98 -> 39.95
A52: 3 | B52: Tường xây gạch chỉ 110 | C52: m2 | D52: 1,4 x 1 | E52: =1.4*1 -> 1.4
A53: 4 | B53: Vách tôn | C53: m2 | D53: (1,6 +2,8) x 2 | E53: =(1.6+2.8)*2 -> 8.8
A54: 5 | B54: Nhà 1 tầng mái lợp Fribroximang, tường 110, cao >3m, nền gạch đỏ, có phụ khu | C54: m2 | D54: (2x3) +(6,4x11,28) | E54: =(2*3)+(6.4*11.28) -> 78.192
A55: 6 | B55: Nhà 1 tầng, tường 110 cao >3m mái lợp tôn, trần nhựa, nền lát gạch đỏ(30*30), không có khu phụ. | C55: m2 | D55: (7,1+6,97)/2 x 4,7 | E55: 33.09
A56: * | B56: Trần nhựa | C56: m2 | D56: = S nhà | E56: =E55 -> 33.09
A57: 7 | B57: Giếng khơi xây gạch | C57: m | D57: Sâu 7,5m | E57: 7.5
A58: B. | B58: Cây trồng, vật nuôi là thủy sản | H58: =SUM(H59:H59) -> 0
B60: Cộng (A+B) : | H60: =H49+H58 -> 0
A61: 4 | B61: Các khoản bồi thường, hỗ trợ khác:
A62: TT | B62: Khoản bồi thường, hỗ trợ | D62: Khối lượng | E62: Đơn vị tính | F62: Đơn giá | G62: Hệ số điều chỉnh | H62: Thành tiền (đ) | I62: Ghi chú
B64: Cộng: | H64: =SUM(H63) -> 0
A65: 5 | B65: Tổng cộng tiền bồi thường, hỗ trợ được nhận (1+2+3+4): | H65: =H64+H60+H40+H34 -> 0 | I65: đồng
B66: Bằng chữ: | C66: Không đồng ./.
F67: KT. CHỦ TỊCH
F68: PHÓ CHỦ TỊCH
F75: Trần Văn Sơn
A76: Ban Quản lý dự án đầu tư xây dựng công trình giao thông TP Hà Nội phối hợp với UBND Xã Phú Nghĩa tiến hành công khai phương án dự thảo chi tiết tới hộ gia đình trong vòng 10 ngày. Trong thời gian công khai nếu hộ gia đình có ý kiến thắc mắc về bản Dự thảo phương án chi tiết bồi thường, hỗ trợ & TĐC này thì gửi đơn về Phòng Kinh Tế - UBND Xã Phú Nghĩa.
A77: Ý kiến của hộ gia đình, cá nhân (Đánh dấu "x" vào ô S )
A78: Tôi đồng ý với phương án dự thảo chi tiết trên và đề nghị UBND xã Phú Nghĩa phê duyệt phương án bồi thường, hỗ trợ & tái định cư và ban hành Quyết định thu hồi đất * | E78: Tôi không đồng ý với phương án dự thảo chi tiết trên *
A81: (Hộ gia đình ký và ghi rõ họ tên)

Sheet Ng Văn Đẩu(7-25)
A1: BAN QLDA ĐẦU TƯ XÂY DỰNG | E1: CỘNG HÒA XÃ HỘI CHỦ NGHĨA VIỆT NAM
A2: CÔNG TRÌNH GIAO THÔNG TP HÀ NỘI | E2: Độc lập - Tự do - Hạnh phúc
A4: DỰ THẢO | E4: Hà Nội, ngày tháng 3 năm 2026
A5: PHƯƠNG ÁN CHI TIẾT BỒI THƯỜNG, HỖ TRỢ VÀ TÁI ĐỊNH CƯ
A6: Dự án thành phần 1.2: Bồi thường, hỗ trợ và tái định cư thực hiện giải phóng mặt bằng trên địa bàn huyện Chương Mỹ thuộc Dự án đầu tư cải tạo, nâng cấp Quốc Lộ 6 đoạn Ba La - Xuân Mai (Trên địa giới hành chính xã Phú Nghĩa)
A7: (Kèm theo Thông báo số: /TB-UBND ngày /03/2026 của Ủy ban nhân dân xã Phú Nghĩa)
A8: I. | B8: NGƯỜI SỬ DỤNG ĐẤT VÀ SỞ HỮU TÀI SẢN GẮN LIỀN VỚI ĐẤT THU HỒI:
A9: 1. | B9: Họ và tên người sử dụng đất thu hồi: | F9: Nguyễn Văn Đẩu - Hồ Thị Bích
B10: Nơi ở hiện nay: | C10: Thôn Yên Kiện Đồi - Xã Phú Nghĩa - TP Hà Nội
B11: Nơi thường trú: | C11: Thôn Yên Kiện Đồi - Xã Phú Nghĩa - TP Hà Nội
B12: Số định danh cá nhân: | C12: 001075024386
A13: 2. | B13: Họ và tên người sở hữu tài sản gắn liền với đất thu hồi: | F13: =F9 -> Nguyễn Văn Đẩu - Hồ Thị Bích
B14: Nơi ở hiện nay: | C14: =+C10 -> Thôn Yên Kiện Đồi - Xã Phú Nghĩa - TP Hà Nội
B15: Nơi thường trú: | C15: =C11 -> Thôn Yên Kiện Đồi - Xã Phú Nghĩa - TP Hà Nội
B16: Số định danh cá nhân: | C16: =+C12 -> 001075024386
A17: II | B17: HIỆN TRẠNG SỦ DỤNG ĐẤT VÀ TÀI SẢN GẮN LIỀN VỚI ĐẤT THU HỒI:
A18: 1. | B18: Hiện trạng sử dụng đất:
B19: Thửa đất số: | C19: 25 | D19: Tờ bản đồ số: | F19: 07
B20: Diện tích thửa đất: | C20: 240.5 | D20: m2
B21: Trong đó:
B22: Trong chỉ giới GPMB: | C22: 103.2 | D22: m2
B23: Ngoài chỉ giới GPMB: | C23: =C20-C22 -> 137.3 | D23: m2
B24: Vị trí, địa điểm thu hồi đất: | C24: Quốc lộ 6 - Thôn Yên Kiện Đồi - Xã Phú Nghĩa - TP Hà Nội
A25: 2 | B25: Nguồn gốc, thời gian sử dụng đất: | C25: - Thửa đất của ông Nguyễn Văn Đẩu và bà Hồ Thị Bích được UBND huyện Chương Mỹ cấp giấy chứng nhận QSD đất số phát hành AP 458905 ngày 19/9/2009, tại thửa đất số 162B, tờ bản đồ số 39, diện tích 103,0 m2 Đất ở, thửa đất cách tim đường Quốc lộ 6 là 28,0 m. Tổng diện tích hiện trạng sử dụng là 240,5 m2, tăng 137,5 m2 so với Giấy chứng nhận QSD đất đã cấp. Đối chiếu kích thước các cạnh thửa đất giữa Bản đồ GPMB và giấy chứng nhận QSD đất được cấp của ông Nguyễn Văn Đẩu và bà Hồ Thị Bích xác định diện tích tăng 137,5 m2 về phía Nam đường Quốc lộ 6. - Căn cứ Bản đồ phục vụ công tác giải phóng mặt bằng, Nghị định số 203-HĐBT ngày 21/12/1982 của Hội đồng Bộ trưởng và Giấy chứng nhận quyền sử dụng đất số AP 458905. Phòng Kinh tế xác định diện tích thu hồi là 103,2 m2 ông Nguyễn Văn Đẩu và bà Hồ Thị Bích sử dụng là đất giao thông đường Quốc lộ 6 (DGT).
A26: 3 | B26: Số hộ gia đình (số cặp vợ chồng): | H26: 01 | I26: hộ
A27: 4 | B27: Số nhân khẩu | H27: 05 | I27: khẩu
A28: III. | B28: PHƯƠNG ÁN BỒI THƯỜNG, HỖ TRỢ VÀ TÁI ĐỊNH CƯ:
A29: 1. | B29: Bồi thường về đất và tái định cư:
A30: TT | B30: Tiền Bồi thường (Giá trị quyền sử dụng đất của diện tích đất thu hồi)
B31: Loại đất | D31: Đơn vị tính | E31: Khối lượng | F31: Đơn giá (đồng/m2) | G31: Tỷ lệ BT, HT (%) | H31: Thành tiền 1 (đồng) | I31: Ghi chú
A32: 1 | B32: 2 | D32: 3 | E32: 4 | F32: 5 | G32: 6 | H32: 7 | I32: 8
A33: 1 | B33: Đất giao thông đường Quốc lộ 6 (DGT) | D33: m2 | E33: =C22 -> 103.2 | H33: =E33*F33*G33 -> 0
B34: Cộng: | H34: =SUM(H33:H33) -> 0
A36: 2. | B36: Bồi thường bằng đất ở hoặc nhà ở tái định cư (nếu có)
A37: TT | B37: Loại đất | D37: Đơn vị tính | E37: Khối lượng | F37: Đơn giá (đồng/m2) | G37: Tỷ lệ BT, HT (%) | H37: Thành tiền 2 (đồng) | I37: Ghi chú
A38: 1 | B38: 2 | D38: 3 | E38: 4 | F38: 5 | G38: 6 | H38: 7 | I38: 8
A39: 1 | I39: Không bố trí tái định cư.
B40: Cộng:
B42: Số tiền chênh lệch giữa tiền bồi thường đất thu hồi và tiền đất ở, nhà ở tái định cư được bố trí: | I42: Không
B43: * Người bị thu hồi đất được nhận (nếu thành tiền 1 lớn hơn thành tiền 2) | I43: Không
B44: * Người bị thu hồi đất phải nộp (nếu thành tiền 1 nhỏ hơn thành tiền 2) | I44: Không
A46: 3. | B46: Bồi thường, hỗ trợ về tài sản gắn liền với đất bị thu hồi:
A47: TT | B47: Tên tài sản | C47: Đơn vị tính | D47: Quy cách tài sản | E47: Khối lượng | F47: Đơn giá (đồng/m2) | G47: Tỷ lệ BT, HT (%) | H47: Thành tiền (đ) | I47: Ghi chú
A48: 1 | B48: 2 | C48: 3 | D48: 4 | E48: 5 | F48: 6 | G48: 7 | H48: 8 | I48: 9
A49: A. | B49: Nhà ở, công trình xây dựng | H49: =SUM(H52:H60) -> 0
A50: 1 | B50: Sân bê tông | C50: m2 | D50: (3,6+4,5)x8,8 | E50: =(3.6+4.5)*8.8 -> 71.28
A51: 2 | B51: Mái vẩy tôn | C51: m2 | D51: 4,5x8,8 | E51: =4.5*8.8 -> 39.6
A52: 3 | B52: Nhà 1 tầng mái lợp tôn, tường 110 bổ trụ, cao >3m, nền gạch Ceramic, không có phụ khu | C52: m2 | D52: 7,9 x 4,4 | E52: =7.9*4.4 -> 34.76 | I52: Không bồi thường theo Điều 105 Luật Đất đai 2024
B53: - Diện tích nhà trong chỉ giới | C53: m2 | D53: (6,18+6,10)/2 x 4,4 | E53: 27.01
B54: - Diện tích nhà ngoài chỉ giới | C54: m2 | E54: =E52-E53 -> 7.75
A55: * | B55: Trần nhựa trong chỉ giới | C55: m2 | D55: = S nhà trong chỉ giới | E55: =E53 -> 27.01
A56: 4 | B56: Nhà 1 tầng, mái tôn, tường 110 bổ trụ cao >3m mái lợp tôn, trần nhựa, nền lát gạch ceramic, không có khu phụ. | C56: m2 | D56: 7,9 x 4,4 | E56: =7.9*4.4 -> 34.76
B57: - Diện tích nhà trong chỉ giới | C57: m2 | D57: (6,10+6,02)/2 x 4,4 | E57: =(6.1+6.02)/2*4.4 -> 26.664
B58: - Diện tích nhà ngoài chỉ giới | C58: m2 | E58: =E56-E57 -> 8.096
A59: * | B59: Trần nhựa trong chỉ giới | C59: m2 | D59: = S nhà trong chỉ giới | E59: =E57 -> 26.664
A60: 5 | B60: Giếng khơi xây gạch | C60: m | D60: Sâu 9m | E60: 9
A61: B. | B61: Cây trồng, vật nuôi là thủy sản | H61: =SUM(H62:H62) -> 0
B63: Cộng (A+B) : | H63: =H49+H61 -> 0
A64: 4 | B64: Các khoản bồi thường, hỗ trợ khác:
A65: TT | B65: Khoản bồi thường, hỗ trợ | D65: Khối lượng | E65: Đơn vị tính | F65: Đơn giá | G65: Hệ số điều chỉnh | H65: Thành tiền (đ) | I65: Ghi chú
B67: Cộng: | H67: =SUM(H66) -> 0
A68: 5 | B68: Tổng cộng tiền bồi thường, hỗ trợ được nhận (1+2+3+4): | H68: =H67+H63+H40+H34 -> 0 | I68: đồng
B69: Bằng chữ: | C69: Không đồng ./.
F70: KT. CHỦ TỊCH
F71: PHÓ CHỦ TỊCH
F78: Trần Văn Sơn
A79: Ban Quản lý dự án đầu tư xây dựng công trình giao thông TP Hà Nội phối hợp với UBND Xã Phú Nghĩa tiến hành công khai phương án dự thảo chi tiết tới hộ gia đình trong vòng 10 ngày. Trong thời gian công khai nếu hộ gia đình có ý kiến thắc mắc về bản Dự thảo phương án chi tiết bồi thường, hỗ trợ & TĐC này thì gửi đơn về Phòng Kinh Tế - UBND Xã Phú Nghĩa.
A80: Ý kiến của hộ gia đình, cá nhân (Đánh dấu "x" vào ô S )
A81: Tôi đồng ý với phương án dự thảo chi tiết trên và đề nghị UBND xã Phú Nghĩa phê duyệt phương án bồi thường, hỗ trợ & tái định cư và ban hành Quyết định thu hồi đất * | E81: Tôi không đồng ý với phương án dự thảo chi tiết trên *
A84: (Hộ gia đình ký và ghi rõ họ tên)

Sheet Ng Văn Sang(7-26)
A1: BAN QLDA ĐẦU TƯ XÂY DỰNG | E1: CỘNG HÒA XÃ HỘI CHỦ NGHĨA VIỆT NAM
A2: CÔNG TRÌNH GIAO THÔNG TP HÀ NỘI | E2: Độc lập - Tự do - Hạnh phúc
A4: DỰ THẢO | E4: Hà Nội, ngày tháng 3 năm 2026
A5: PHƯƠNG ÁN CHI TIẾT BỒI THƯỜNG, HỖ TRỢ VÀ TÁI ĐỊNH CƯ
A6: Dự án thành phần 1.2: Bồi thường, hỗ trợ và tái định cư thực hiện giải phóng mặt bằng trên địa bàn huyện Chương Mỹ thuộc Dự án đầu tư cải tạo, nâng cấp Quốc Lộ 6 đoạn Ba La - Xuân Mai (Trên địa giới hành chính xã Phú Nghĩa)
A7: (Kèm theo Thông báo số: /TB-UBND ngày /03/2026 của Ủy ban nhân dân xã Phú Nghĩa)
A8: I. | B8: NGƯỜI SỬ DỤNG ĐẤT VÀ SỞ HỮU TÀI SẢN GẮN LIỀN VỚI ĐẤT THU HỒI:
A9: 1. | B9: Họ và tên người sử dụng đất thu hồi: | F9: Nguyễn Văn Sang - Cấn Thị Hồng
B10: Nơi ở hiện nay: | C10: Thôn Yên Kiện Đồi - Xã Phú Nghĩa - TP Hà Nội
B11: Nơi thường trú: | C11: Thôn Yên Kiện Đồi - Xã Phú Nghĩa - TP Hà Nội
B12: Số định danh cá nhân: | C12: 001080023112
A13: 2. | B13: Họ và tên người sở hữu tài sản gắn liền với đất thu hồi: | F13: =F9 -> Nguyễn Văn Sang - Cấn Thị Hồng
B14: Nơi ở hiện nay: | C14: =+C10 -> Thôn Yên Kiện Đồi - Xã Phú Nghĩa - TP Hà Nội
B15: Nơi thường trú: | C15: =C11 -> Thôn Yên Kiện Đồi - Xã Phú Nghĩa - TP Hà Nội
B16: Số định danh cá nhân: | C16: =+C12 -> 001080023112
A17: II | B17: HIỆN TRẠNG SỦ DỤNG ĐẤT VÀ TÀI SẢN GẮN LIỀN VỚI ĐẤT THU HỒI:
A18: 1. | B18: Hiện trạng sử dụng đất:
B19: Thửa đất số: | C19: 26 | D19: Tờ bản đồ số: | F19: 07
B20: Diện tích thửa đất: | C20: 239.1 | D20: m2
B21: Trong đó:
B22: Trong chỉ giới GPMB: | C22: 102.6 | D22: m2
B23: Ngoài chỉ giới GPMB: | C23: =C20-C22 -> 136.5 | D23: m2
B24: Vị trí, địa điểm thu hồi đất: | C24: Quốc lộ 6 - Thôn Yên Kiện Đồi - Xã Phú Nghĩa - TP Hà Nội
A25: 2 | B25: Nguồn gốc, thời gian sử dụng đất: | C25: - Thửa đất của hộ ông Nguyễn Văn Sang và bà Cấn Thị Hồng được UBND huyện Chương Mỹ cấp giấy chứng nhận QSD đất số phát hành BD 765822 ngày 09/02/2010, tại thửa đất số 270, tờ bản đồ số 39, diện tích 102,0 m2 Đất ở, thửa đất cách tim đường Quốc lộ 6 là 28,0 m. - Tổng diện tích hiện trạng sử dụng là 239,1 m2, tăng 137,1 m2 so với Giấy chứng nhận QSD đất đã cấp. Đối chiếu kích thước các cạnh thửa đất giữa Bản đồ GPMB và giấy chứng nhận QSD đất được cấp của hộ ông Nguyễn Văn Sang và bà Cấn Thị Hồng xác định diện tích tăng 137,1 m2 ,trong đó: tăng 4,9 m2 về phía Bắc, tăng 132,2 m2 về phía Nam giáp đường Quốc lộ 6. - Căn cứ Bản đồ phục vụ công tác giải phóng mặt bằng, Nghị định số 203-HĐBT ngày 21/12/1982 của Hội đồng Bộ trưởng và Giấy chứng nhận quyền sử dụng đất số BD 765822. Phòng Kinh tế xác định diện tích thu hồi là 102,6 m2 hộ ông Nguyễn Văn Sang và bà Cấn Thị Hồng sử dụng là đất giao thông đường Quốc lộ 6 (DGT).
A26: 3 | B26: Số hộ gia đình (số cặp vợ chồng): | H26: 01 | I26: hộ
A27: 4 | B27: Số nhân khẩu | H27: 04 | I27: khẩu
A28: III. | B28: PHƯƠNG ÁN BỒI THƯỜNG, HỖ TRỢ VÀ TÁI ĐỊNH CƯ:
A29: 1. | B29: Bồi thường về đất và tái định cư:
A30: TT | B30: Tiền Bồi thường (Giá trị quyền sử dụng đất của diện tích đất thu hồi)
B31: Loại đất | D31: Đơn vị tính | E31: Khối lượng | F31: Đơn giá (đồng/m2) | G31: Tỷ lệ BT, HT (%) | H31: Thành tiền 1 (đồng) | I31: Ghi chú
A32: 1 | B32: 2 | D32: 3 | E32: 4 | F32: 5 | G32: 6 | H32: 7 | I32: 8
A33: 1 | B33: Đất giao thông đường Quốc lộ 6 (DGT) | D33: m2 | E33: =C22 -> 102.6 | H33: =E33*F33*G33 -> 0
B34: Cộng: | H34: =SUM(H33:H33) -> 0
A36: 2. | B36: Bồi thường bằng đất ở hoặc nhà ở tái định cư (nếu có)
A37: TT | B37: Loại đất | D37: Đơn vị tính | E37: Khối lượng | F37: Đơn giá (đồng/m2) | G37: Tỷ lệ BT, HT (%) | H37: Thành tiền 2 (đồng) | I37: Ghi chú
A38: 1 | B38: 2 | D38: 3 | E38: 4 | F38: 5 | G38: 6 | H38: 7 | I38: 8
A39: 1 | I39: Không bố trí tái định cư.
B40: Cộng:
B42: Số tiền chênh lệch giữa tiền bồi thường đất thu hồi và tiền đất ở, nhà ở tái định cư được bố trí: | I42: Không
B43: * Người bị thu hồi đất được nhận (nếu thành tiền 1 lớn hơn thành tiền 2) | I43: Không
B44: * Người bị thu hồi đất phải nộp (nếu thành tiền 1 nhỏ hơn thành tiền 2) | I44: Không
A46: 3. | B46: Bồi thường, hỗ trợ về tài sản gắn liền với đất bị thu hồi:
A47: TT | B47: Tên tài sản | C47: Đơn vị tính | D47: Quy cách tài sản | E47: Khối lượng | F47: Đơn giá (đồng/m2) | G47: Tỷ lệ BT, HT (%) | H47: Thành tiền (đ) | I47: Ghi chú
A48: 1 | B48: 2 | C48: 3 | D48: 4 | E48: 5 | F48: 6 | G48: 7 | H48: 8 | I48: 9
A49: A. | B49: Nhà ở, công trình xây dựng | H49: =SUM(H50:H53) -> 0
A50: 1 | B50: Nhà 1 tầng mái lợp tôn, có trần nhựa, tường 110 bổ trụ, cao >3m, nền gạch Ceramic, không có phụ khu | C50: m2 | D50: 4 x 11,14 | E50: =4*11.14 -> 44.56 | I50: Không bồi thường theo Điều 105 Luật Đất đai 2024
A51: * | B51: Trần nhựa trong chỉ giới | C51: m2 | D51: = S nhà | E51: =E50 -> 44.56
A52: 2 | B52: Sân bê tông | C52: m2 | D52: = S đất trong chỉ giới- S nhà | E52: =C22-E50 -> 58.04
A53: 5 | B53: Giếng khơi xây gạch | C53: m | D53: Sâu 9m | E53: 9
A54: B. | B54: Cây trồng, vật nuôi là thủy sản | H54: =SUM(H55:H55) -> 0
A55: 1 | B55: Cây Xoài | C55: Cây | D55: ĐKT>60cm, cao>3m | I55: Không bồi thường theo Điều 105 Luật Đất đai 2024
B56: Cộng (A+B) : | H56: =H49+H54 -> 0
A57: 4 | B57: Các khoản bồi thường, hỗ trợ khác:
A58: TT | B58: Khoản bồi thường, hỗ trợ | D58: Khối lượng | E58: Đơn vị tính | F58: Đơn giá | G58: Hệ số điều chỉnh | H58: Thành tiền (đ) | I58: Ghi chú
B60: Cộng: | H60: =SUM(H59) -> 0
A61: 5 | B61: Tổng cộng tiền bồi thường, hỗ trợ được nhận (1+2+3+4): | H61: =H60+H56+H40+H34 -> 0 | I61: đồng
B62: Bằng chữ: | C62: Không đồng ./.
F63: KT. CHỦ TỊCH
F64: PHÓ CHỦ TỊCH
F71: Trần Văn Sơn
A72: Ban Quản lý dự án đầu tư xây dựng công trình giao thông TP Hà Nội phối hợp với UBND Xã Phú Nghĩa tiến hành công khai phương án dự thảo chi tiết tới hộ gia đình trong vòng 10 ngày. Trong thời gian công khai nếu hộ gia đình có ý kiến thắc mắc về bản Dự thảo phương án chi tiết bồi thường, hỗ trợ & TĐC này thì gửi đơn về Phòng Kinh Tế - UBND Xã Phú Nghĩa.
A73: Ý kiến của hộ gia đình, cá nhân (Đánh dấu "x" vào ô S )
A74: Tôi đồng ý với phương án dự thảo chi tiết trên và đề nghị UBND xã Phú Nghĩa phê duyệt phương án bồi thường, hỗ trợ & tái định cư và ban hành Quyết định thu hồi đất * | E74: Tôi không đồng ý với phương án dự thảo chi tiết trên *
A77: (Hộ gia đình ký và ghi rõ họ tên)

Sheet Trần Huy Chuyển(8-34)
A1: BAN QLDA ĐẦU TƯ XÂY DỰNG | E1: CỘNG HÒA XÃ HỘI CHỦ NGHĨA VIỆT NAM
A2: CÔNG TRÌNH GIAO THÔNG TP HÀ NỘI | E2: Độc lập - Tự do - Hạnh phúc
A4: DỰ THẢO | E4: Hà Nội, ngày tháng 3 năm 2026
A5: PHƯƠNG ÁN CHI TIẾT BỒI THƯỜNG, HỖ TRỢ VÀ TÁI ĐỊNH CƯ
A6: Dự án thành phần 1.2: Bồi thường, hỗ trợ và tái định cư thực hiện giải phóng mặt bằng trên địa bàn huyện Chương Mỹ thuộc Dự án đầu tư cải tạo, nâng cấp Quốc Lộ 6 đoạn Ba La - Xuân Mai (Trên địa giới hành chính xã Phú Nghĩa)
A7: (Kèm theo Thông báo số: /TB-UBND ngày /03/2026 của Ủy ban nhân dân xã Phú Nghĩa)
A8: I. | B8: NGƯỜI SỬ DỤNG ĐẤT VÀ SỞ HỮU TÀI SẢN GẮN LIỀN VỚI ĐẤT THU HỒI:
A9: 1. | B9: Họ và tên người sử dụng đất thu hồi: | F9: Trần Huy Chuyển - Trần Thị Vang
B10: Nơi ở hiện nay: | C10: Thôn Yên Kiện Đồi - xã Phú Nghĩa - TP Hà Nội
B11: Nơi thường trú: | C11: Thôn Lương Sơn - xã Phú Nghĩa - TP Hà Nội
B12: Số định danh cá nhân: | C12: 001058021024
A13: 2. | B13: Họ và tên người sở hữu tài sản gắn liền với đất thu hồi: | F13: =F9 -> Trần Huy Chuyển - Trần Thị Vang
B14: Nơi ở hiện nay: | C14: =+C10 -> Thôn Yên Kiện Đồi - xã Phú Nghĩa - TP Hà Nội
B15: Nơi thường trú: | C15: =C11 -> Thôn Lương Sơn - xã Phú Nghĩa - TP Hà Nội
B16: Số định danh cá nhân: | C16: =+C12 -> 001058021024
A17: II | B17: HIỆN TRẠNG SỦ DỤNG ĐẤT VÀ TÀI SẢN GẮN LIỀN VỚI ĐẤT THU HỒI:
A18: 1. | B18: Hiện trạng sử dụng đất:
B19: Thửa đất số: | C19: 34 | D19: Tờ bản đồ số: | F19: 08
B20: Diện tích thửa đất: | C20: 113.7 | D20: m2
B21: Trong đó:
B22: Trong chỉ giới GPMB: | C22: 54.9 | D22: m2
B23: Ngoài chỉ giới GPMB: | C23: =C20-C22 -> 58.8 | D23: m2
B24: Vị trí, địa điểm thu hồi đất: | C24: Quốc Lộ 6 - Thôn Yên Kiện Đồi - Xã Phú Nghĩa - TP Hà Nội
