Workbook
Name _Hlk218073730: 'Ng Thị Hòa(5-14)'!$K$25
Name _Hlk218762431: 'Ng Thị Hòa(5-14)'!$K$25
Name _Hlk218953081: 'Trần Cao Giới(5-43)'!$K$25
Name _Hlk219100896: 'Ng Thị Sinh(8-17)'!$K$25
Name _Hlk219100896: 'Trần Huy Chuyển(8-37)'!$K$25
Name _Hlk219104972: 'Nguyễn Thị Nguyên (5-45)'!$J$25

Sheet Kangatang

Sheet foxz

Sheet foxz_2

Sheet foxz_3

Sheet foxz_4

Sheet foxz_5

Sheet foxz_6

Sheet foxz_7

Sheet foxz_8

Sheet foxz_9

Sheet foxz_10

Sheet foxz_11

Sheet foxz_12

Sheet foxz_13

Sheet foxz_14

Sheet foxz_15

Sheet foxz_16

Sheet foxz_17

Sheet foxz_18

Sheet foxz_19

Sheet foxz_20

Sheet foxz_21

Sheet foxz_22

Sheet foxz_23

Sheet foxz_24

Sheet foxz_25

Sheet foxz_26

Sheet foxz_27

Sheet foxz_28

Sheet foxz_29

Sheet foxz_30

Sheet foxz_31

Sheet foxz_32

Sheet foxz_33

Sheet foxz_34

Sheet foxz_35

Sheet foxz_36

Sheet foxz_37

Sheet foxz_38

Sheet foxz_39

Sheet foxz_40

Sheet Ng Vũ Mạnh(5-23+86)
A1: BAN QLDA ĐẦU TƯ XÂY DỰNG | E1: CỘNG HÒA XÃ HỘI CHỦ NGHĨA VIỆT NAM
A2: CÔNG TRÌNH GIAO THÔNG TP HÀ NỘI | E2: Độc lập - Tự do - Hạnh phúc
A4: DỰ THẢO | E4: Hà Nội, ngày tháng 03 năm 2026
A5: PHƯƠNG ÁN CHI TIẾT BỒI THƯỜNG, HỖ TRỢ VÀ TÁI ĐỊNH CƯ
A6: Dự án thành phần 1.2: Bồi thường, hỗ trợ và tái định cư thực hiện giải phóng mặt bằng trên địa bàn huyện Chương Mỹ thuộc Dự án đầu tư cải tạo, nâng cấp Quốc Lộ 6 đoạn Ba La - Xuân Mai (Trên địa giới hành chính xã Phú Nghĩa)
A7: (Kèm theo Thông báo số: /TB-UBND ngày /3/2026 của Ủy ban nhân dân xã Phú Nghĩa)
A8: I. | B8: NGƯỜI SỬ DỤNG ĐẤT VÀ SỞ HỮU TÀI SẢN GẮN LIỀN VỚI ĐẤT THU HỒI:
A9: 1. | B9: Họ và tên người sử dụng đất thu hồi: | F9: Nguyễn Vũ Mạnh - Nguyễn Thị Luân
B10: Nơi ở hiện nay: | C10: Thôn Thanh Trì - Xã Phú Nghĩa - TP Hà Nội
B11: Nơi thường trú: | C11: Thôn Thanh Trì - Xã Phú Nghĩa - TP Hà Nội
B12: Số định danh cá nhân: | C12: 001090006511
A13: 2. | B13: Họ và tên người sở hữu tài sản gắn liền với đất thu hồi: | F13: =F9 -> Nguyễn Vũ Mạnh - Nguyễn Thị Luân
B14: Nơi ở hiện nay: | C14: =+C10 -> Thôn Thanh Trì - Xã Phú Nghĩa - TP Hà Nội
B15: Nơi thường trú: | C15: =C11 -> Thôn Thanh Trì - Xã Phú Nghĩa - TP Hà Nội
B16: Số định danh cá nhân: | C16: =+C12 -> 001090006511
A17: II | B17: HIỆN TRẠNG SỦ DỤNG ĐẤT VÀ TÀI SẢN GẮN LIỀN VỚI ĐẤT THU HỒI:
A18: 1. | B18: Hiện trạng sử dụng đất:
B19: Thửa đất số: | C19: 23+86 | D19: Tờ bản đồ số: | F19: 05
B20: Diện tích thửa đất: | C20: 491.8 | D20: m2
B21: Trong đó:
B22: Trong chỉ giới GPMB: | C22: 70.5 | D22: m2
B23: Ngoài chỉ giới GPMB: | C23: =C20-C22 -> 421.3 | D23: m2
B24: Vị trí, địa điểm thu hồi đất: | C24: Vị trí 1-Quốc Lộ 6 - Thôn Thanh Trì- xã Phú Nghĩa - TP Hà Nội
A25: 4. | B25: Nguồn gốc, thời gian sử dụng đất: | C25: - Tại thửa số 23 tờ bản đồ số 05: Ông Nguyễn Vũ Mạnh nhận tặng cho quyền sử dụng đất được UBND huyện Chương Mỹ cấp giấy chứng nhận quyền sử dụng đất tại thửa đất số 523, tờ bản đồ số 38, số phát hành BP865741, số vào sổ cấp GCN QSDĐ 00966, với diện tích 261,5m2 cấp ngày 19/05/2014. Địa chỉ thửa đất: Thôn Thanh Trì, xã Phú Nghĩa, thành phố Hà Nội. Mục đích sử dụng: 120m2 đất ở, 141,5m2 đất trồng cây lâu năm đến tháng 10/2043. - Tại thửa số 86 tờ bản đồ số 05: Hộ bà Nguyễn Thị Luân được UBND huyện Chương Mỹ cấp tại thửa đất số 68 tờ bản đồ số 38, số phát hành BP865742, số vào sổ cấp GCN QSDĐ 00965, với diện tích 133,2m2 cấp ngày 19/05/2014. Địa chỉ thửa đất: Thôn Thanh Trì, xã Phú Nghĩa, thành phố Hà Nội. Mục đích sử dụng: 60,0m2 đất ở, 73,2m2 đất trồng cây lâu năm đến tháng 10/2043. Tổng diện tích hiện trạng 491,8m2 tăng 97,1m2 so với giấy chứng nhận quyền sử dụng đất của ông Nguyễn Vũ Mạnh và giấy chứng nhận quyền sử dụng đất của hộ bà Nguyễn Thị Luân đã được cấp. - Đối chiếu với các cạnh thửa đất giữa Bản đồ GPMB; Giấy chứng nhận quyền sử dụng đất được cấp của hộ, xác định tăng 97,1m2 về phía Nam đường Quốc lộ 6. - Căn cứ Bản đồ phục vụ công tác GPMB; Nghị định số 203-HĐBT ngày 21/12/1982 của Hội đồng Bộ trưởng về việc ban hành điều lệ bảo vệ đường bộ, Giấy chứng nhận quyền sử dụng đất của ông Nguyễn Vũ Mạnh và giấy chứng nhận quyền sử dụng đất của hộ bà Nguyễn Thị Luân. Phòng Kinh tế xác định diện tích thu hồi 70,5m2 đất do ông Nguyễn Vũ Mạnh và hộ bà Nguyễn Thị Luân sử dụng là đất giao thông đường Quốc lộ 6 (DGT).
A26: 5. | B26: Số hộ gia đình (số cặp vợ chồng): | H26: 01 | I26: hộ
A27: 6. | B27: Số nhân khẩu | H27: 06 | I27: khẩu
A28: III. | B28: PHƯƠNG ÁN BỒI THƯỜNG, HỖ TRỢ VÀ TÁI ĐỊNH CƯ:
A29: 1. | B29: Bồi thường về đất và tái định cư:
A30: TT | B30: Tiền Bồi thường (Giá trị quyền sử dụng đất của diện tích đất thu hồi)
B31: Loại đất | D31: Đơn vị tính | E31: Khối lượng | F31: Đơn giá (đồng/m2) | G31: Tỷ lệ BT, HT (%) | H31: Thành tiền 1 (đồng) | I31: Ghi chú
A32: 1 | B32: 2 | D32: 3 | E32: 4 | F32: 5 | G32: 6 | H32: 7 | I32: 8
A33: 1 | B33: Đất giao thông đường Quốc lộ 6 (DGT) | D33: m2 | E33: =C22 -> 70.5 | H33: =E33*F33*G33 -> 0
B34: Cộng: | H34: =SUM(H33:H33) -> 0
A36: 2. | B36: Bồi thường bằng đất ở hoặc nhà ở tái định cư (nếu có)
A37: TT | B37: Loại đất | D37: Đơn vị tính | E37: Khối lượng | F37: Đơn giá (đồng/m2) | G37: Tỷ lệ BT, HT (%) | H37: Thành tiền 2 (đồng) | I37: Ghi chú
A38: 1 | B38: 2 | D38: 3 | E38: 4 | F38: 5 | G38: 6 | H38: 7 | I38: 8
A39: 1 | I39: Không bố trí tái định cư.
B40: Cộng:
B42: Số tiền chênh lệch giữa tiền bồi thường đất thu hồi và tiền đất ở, nhà ở tái định cư được bố trí: | I42: Không
B43: * Người bị thu hồi đất được nhận (nếu thành tiền 1 lớn hơn thành tiền 2) | I43: Không
...

Sheet Trần Cao Giới(5-43)
A1: BAN QLDA ĐẦU TƯ XÂY DỰNG | E1: CỘNG HÒA XÃ HỘI CHỦ NGHĨA VIỆT NAM
A2: CÔNG TRÌNH GIAO THÔNG TP HÀ NỘI | E2: Độc lập - Tự do - Hạnh phúc
A4: DỰ THẢO | E4: Hà Nội, ngày tháng 3 năm 2026
A5: PHƯƠNG ÁN CHI TIẾT BỒI THƯỜNG, HỖ TRỢ VÀ TÁI ĐỊNH CƯ
A6: Dự án thành phần 1.2: Bồi thường, hỗ trợ và tái định cư thực hiện giải phóng mặt bằng trên địa bàn huyện Chương Mỹ thuộc Dự án đầu tư cải tạo, nâng cấp Quốc Lộ 6 đoạn Ba La - Xuân Mai (Trên địa giới hành chính xã Phú Nghĩa)
A7: (Kèm theo Thông báo số: /TB-UBND ngày /3/2026 của Ủy ban nhân dân xã Phú Nghĩa)
A8: I. | B8: NGƯỜI SỬ DỤNG ĐẤT VÀ SỞ HỮU TÀI SẢN GẮN LIỀN VỚI ĐẤT THU HỒI:
A9: 1. | B9: Họ và tên người sử dụng đất thu hồi: | F9: Trần Cao Giới
B10: Nơi ở hiện nay: | C10: Thôn Phố Gốt- Xã Phú Nghĩa - TP Hà Nội
B11: Nơi thường trú: | C11: Thôn Phố Gốt - xã Phú Nghĩa - TP Hà Nội
B12: Số định danh cá nhân: | C12: 001062025102
A13: 2. | B13: Họ và tên người sở hữu tài sản gắn liền với đất thu hồi: | F13: =F9 -> Trần Cao Giới
B14: Nơi ở hiện nay: | C14: =+C10 -> Thôn Phố Gốt- Xã Phú Nghĩa - TP Hà Nội
B15: Nơi thường trú: | C15: =C11 -> Thôn Phố Gốt - xã Phú Nghĩa - TP Hà Nội
B16: Số định danh cá nhân: | C16: =+C12 -> 001062025102
A17: II | B17: HIỆN TRẠNG SỦ DỤNG ĐẤT VÀ TÀI SẢN GẮN LIỀN VỚI ĐẤT THU HỒI:
A18: 1. | B18: Hiện trạng sử dụng đất:
B19: Thửa đất số: | C19: 43 | D19: Tờ bản đồ số: | F19: 05
B20: Diện tích thửa đất: | C20: 55.5 | D20: m2
B21: Trong đó:
B22: Trong chỉ giới GPMB: | C22: 46.1 | D22: m2
B23: Ngoài chỉ giới GPMB: | C23: =C20-C22 -> 9.4 | D23: m2
B24: Vị trí, địa điểm thu hồi đất: | C24: Vị trí 1-Quốc Lộ 6 - Thôn Phố Gốt- xã Phú Nghĩa - TP Hà Nội
A25: 4. | B25: Nguồn gốc, thời gian sử dụng đất: | C25: - Ông Trần Cao Giới được UBND xã Đông Sơn (cũ) giao đất làm dịch vụ năm 1991, với tổng diện tích 32,0m2; Biên bản giao làm dịch vụ ngày 30/11/1991 mang tên ông Nguyễn Văn Giới ngoài ra không có giấy tờ gì khác, ông Giới sử dụng đến nay. - Tổng diện tích hiện trạng 55,5m2 tăng 23,5m2 so với diện tích được so với diện tích đất được giao.Đối chiếu với các cạnh thửa đất giữa Bản đồ GPMB; Biên bản giao đất dịch vụ của ông Trần Cao Giới, xác định tăng 23,5m2, trong đó: Tăng 7,5m2 về phía Bắc, tăng 16,0m2 về phía Nam đường Quốc lộ 6. - UBND xã Đông Sơn (cũ) giao đất dịch vụ vào đất hành lang giao thông quy định tại Nghị định số 203-HĐBT ngày 21/12/1982 của Hội đồng Bộ trưởng về việc ban hành điều lệ bảo vệ đường bộ có hiệu lực thi hành quy định hành lang là 28m (tính từ tim đường ra mỗi bên), do vậy diện tích thu hồi 46,1m2 là đất hành lang giao thông. (Trong đó: 30,1m2 đất dịch vụ nằm trong hành lang giao thông, 16,0m2 đất hành lang giao thông đường Quốc lộ 6). Không đủ điều kiện cấp giấy chứng nhận quyền sử dụng đất theo quy định của Luật Đất đai năm 2024. Phòng Kinh tế xác định diện tích thu hồi 46,1m2 đất Ông Trần Cao Giới sử dụng là đất giao thông đường Quốc lộ 6 (DGT).
A26: 5. | B26: Số hộ gia đình (số cặp vợ chồng): | H26: 01 | I26: hộ
A27: 6. | B27: Số nhân khẩu | H27: 04 | I27: khẩu
A28: III. | B28: PHƯƠNG ÁN BỒI THƯỜNG, HỖ TRỢ VÀ TÁI ĐỊNH CƯ:
A29: 1. | B29: Bồi thường về đất và tái định cư:
A30: TT | B30: Tiền Bồi thường (Giá trị quyền sử dụng đất của diện tích đất thu hồi)
B31: Loại đất | D31: Đơn vị tính | E31: Khối lượng | F31: Đơn giá (đồng/m2) | G31: Tỷ lệ BT, HT (%) | H31: Thành tiền 1 (đồng) | I31: Ghi chú
A32: 1 | B32: 2 | D32: 3 | E32: 4 | F32: 5 | G32: 6 | H32: 7 | I32: 8
A33: 1 | B33: Đất giao thông đường Quốc lộ 6 (DGT) | D33: m2 | E33: =C22 -> 46.1 | H33: =E33*F33*G33 -> 0
B34: Cộng: | H34: =SUM(H33:H33) -> 0
A36: 2. | B36: Bồi thường bằng đất ở hoặc nhà ở tái định cư (nếu có)
A37: TT | B37: Loại đất | D37: Đơn vị tính | E37: Khối lượng | F37: Đơn giá (đồng/m2) | G37: Tỷ lệ BT, HT (%) | H37: Thành tiền 2 (đồng) | I37: Ghi chú
A38: 1 | B38: 2 | D38: 3 | E38: 4 | F38: 5 | G38: 6 | H38: 7 | I38: 8
A39: 1 | I39: Không bố trí tái định cư.
B40: Cộng:
B42: Số tiền chênh lệch giữa tiền bồi thường đất thu hồi và tiền đất ở, nhà ở tái định cư được bố trí: | I42: Không
B43: * Người bị thu hồi đất được nhận (nếu thành tiền 1 lớn hơn thành tiền 2) | I43: Không
...

Sheet Ng Thị Hòa(5-14)
A1: BAN QLDA ĐẦU TƯ XÂY DỰNG | E1: CỘNG HÒA XÃ HỘI CHỦ NGHĨA VIỆT NAM
A2: CÔNG TRÌNH GIAO THÔNG TP HÀ NỘI | E2: Độc lập - Tự do - Hạnh phúc
A4: DỰ THẢO | E4: Hà Nội, ngày tháng 3 năm 2026
A5: PHƯƠNG ÁN CHI TIẾT BỒI THƯỜNG, HỖ TRỢ VÀ TÁI ĐỊNH CƯ
A6: Dự án thành phần 1.2: Bồi thường, hỗ trợ và tái định cư thực hiện giải phóng mặt bằng trên địa bàn huyện Chương Mỹ thuộc Dự án đầu tư cải tạo, nâng cấp Quốc Lộ 6 đoạn Ba La - Xuân Mai (Trên địa giới hành chính xã Phú Nghĩa)
A7: (Kèm theo Thông báo số: /TB-UBND ngày /03/2026 của Ủy ban nhân dân xã Phú Nghĩa)
A8: I. | B8: NGƯỜI SỬ DỤNG ĐẤT VÀ SỞ HỮU TÀI SẢN GẮN LIỀN VỚI ĐẤT THU HỒI:
A9: 1. | B9: Họ và tên người sử dụng đất thu hồi: | F9: Đại diện hộ bà Nguyễn Thị Hòa
B10: Nơi ở hiện nay: | C10: Thôn Phố Gốt- xã Phú Nghĩa - TP Hà Nội
B11: Nơi thường trú: | C11: =+C10 -> Thôn Phố Gốt- xã Phú Nghĩa - TP Hà Nội
B12: Số định danh cá nhân: | C12: 001166020878
A13: 2. | B13: Họ và tên người sở hữu tài sản gắn liền với đất thu hồi: | F13: =F9 -> Đại diện hộ bà Nguyễn Thị Hòa
B14: Nơi ở hiện nay: | C14: =+C10 -> Thôn Phố Gốt- xã Phú Nghĩa - TP Hà Nội
B15: Nơi thường trú: | C15: =+C14 -> Thôn Phố Gốt- xã Phú Nghĩa - TP Hà Nội
B16: Số định danh cá nhân: | C16: =+C12 -> 001166020878
A17: II | B17: HIỆN TRẠNG SỦ DỤNG ĐẤT VÀ TÀI SẢN GẮN LIỀN VỚI ĐẤT THU HỒI:
A18: 1. | B18: Hiện trạng sử dụng đất:
B19: Thửa đất số: | C19: 14 | D19: Tờ bản đồ số: | F19: 05
B20: Diện tích thửa đất: | C20: 265.7 | D20: m2
B21: Trong đó:
B22: Trong chỉ giới GPMB: | C22: 37.3 | D22: m2
B23: Ngoài chỉ giới GPMB: | C23: =C20-C22 -> 228.4 | D23: m2
B24: Vị trí, địa điểm thu hồi đất: | C24: Vị trí 1-Quốc Lộ 6 - Thôn Phố Gốt - xã Phú Nghĩa - TP Hà Nội
A25: 2. | B25: Nguồn gốc, thời gian sử dụng đất: | C25: - Hộ bà Nguyễn Thị Hòa được UBND huyện Chương Mỹ cấp giấy chứng nhận quyền sử dụng đất thửa đất số 61, tờ bản đồ số 38, số phát hành BD 765079, số vào sổ cấp GCN: 00228 với diện tích 217,0m2, cấp ngày 09/02/2010. Địa chỉ thửa đất: Thôn Phố Gốt, xã Phú Nghĩa, thành phố Hà Nội. Mục đích sử dụng; đất ở tại dân cư, thời hạn sử dụng lâu dài. - Tổng diện tích 265,7m2 tăng 48,7m2 so với diện tích được cấp giấy chứng nhận quyền sử dụng đất.Đối chiếu với các cạnh thửa đất giữa Bản đồ GPMB; Giấy chứng nhận quyền sử dụng đất được cấp của hộ, xác định tăng 48,7m2 về phía Nam đường Quốc lộ 6. - Căn cứ Bản đồ phục vụ công tác GPMB; Nghị định số 203-HĐBT ngày 21/12/1982 của Hội đồng Bộ trưởng về việc ban hành điều lệ bảo vệ đường bộ, Giấy chứng nhận quyền sử dụng đất của hộ bà Nguyễn Thị Hòa. Phòng Kinh tế xác định diện tích thu hồi 37,3 m2 do hộ bà Nguyễn Thị Hòa sử dụng là đất giao thông đường Quốc lộ 6 (DGT).
A26: 3. | B26: Số hộ gia đình (số cặp vợ chồng): | H26: 01 | I26: hộ
A27: 4. | B27: Số nhân khẩu | H27: 02 | I27: khẩu
A28: III. | B28: PHƯƠNG ÁN BỒI THƯỜNG, HỖ TRỢ VÀ TÁI ĐỊNH CƯ:
A29: 1. | B29: Bồi thường về đất và tái định cư:
A30: TT | B30: Tiền Bồi thường (Giá trị quyền sử dụng đất của diện tích đất thu hồi)
B31: Loại đất | D31: Đơn vị tính | E31: Khối lượng | F31: Đơn giá (đồng/m2) | G31: Tỷ lệ BT, HT (%) | H31: Thành tiền 1 (đồng) | I31: Ghi chú
A32: 1 | B32: 2 | D32: 3 | E32: 4 | F32: 5 | G32: 6 | H32: 7 | I32: 8
A33: 1 | B33: Đất giao thông đường Quốc lộ 6 (DGT) | D33: m2 | E33: =C22 -> 37.3 | H33: =E33*F33*G33 -> 0
B34: Cộng: | H34: =SUM(H33:H33) -> 0
A36: 2. | B36: Bồi thường bằng đất ở hoặc nhà ở tái định cư (nếu có)
A37: TT | B37: Loại đất | D37: Đơn vị tính | E37: Khối lượng | F37: Đơn giá (đồng/m2) | G37: Tỷ lệ BT, HT (%) | H37: Thành tiền 2 (đồng) | I37: Ghi chú
A38: 1 | B38: 2 | D38: 3 | E38: 4 | F38: 5 | G38: 6 | H38: 7 | I38: 8
A39: 1 | I39: Không bố trí tái định cư.
B40: Cộng:
B42: Số tiền chênh lệch giữa tiền bồi thường đất thu hồi và tiền đất ở, nhà ở tái định cư được bố trí: | I42: Không
B43: * Người bị thu hồi đất được nhận (nếu thành tiền 1 lớn hơn thành tiền 2) | I43: Không
...

Sheet Ng Thị Hòa(5-68)
A1: BAN QLDA ĐẦU TƯ XÂY DỰNG | E1: CỘNG HÒA XÃ HỘI CHỦ NGHĨA VIỆT NAM
A2: CÔNG TRÌNH GIAO THÔNG TP HÀ NỘI | E2: Độc lập - Tự do - Hạnh phúc
A4: DỰ THẢO | E4: Hà Nội, ngày tháng 03 năm 2026
A5: PHƯƠNG ÁN CHI TIẾT BỒI THƯỜNG, HỖ TRỢ VÀ TÁI ĐỊNH CƯ
A6: Dự án thành phần 1.2: Bồi thường, hỗ trợ và tái định cư thực hiện giải phóng mặt bằng trên địa bàn huyện Chương Mỹ thuộc Dự án đầu tư cải tạo, nâng cấp Quốc Lộ 6 đoạn Ba La - Xuân Mai (Trên địa giới hành chính xã Phú Nghĩa)
A7: (Kèm theo Thông báo số: /TB-UBND ngày /3/2026 của Ủy ban nhân dân xã Phú Nghĩa)
A8: I. | B8: NGƯỜI SỬ DỤNG ĐẤT VÀ SỞ HỮU TÀI SẢN GẮN LIỀN VỚI ĐẤT THU HỒI:
A9: 1. | B9: Họ và tên người sử dụng đất thu hồi: | F9: Đại diện hộ bà Nguyễn Thị Hòa
B10: Nơi ở hiện nay: | C10: Thôn Phố Gốt- xã Phú Nghĩa - TP Hà Nội
B11: Nơi thường trú: | C11: Thôn Phố Gốt - xã Phú Nghĩa - TP Hà Nội
B12: Số định danh cá nhân: | C12: 001166020878
A13: 2. | B13: Họ và tên người sở hữu tài sản gắn liền với đất thu hồi: | F13: =F9 -> Đại diện hộ bà Nguyễn Thị Hòa
B14: Nơi ở hiện nay: | C14: =+C10 -> Thôn Phố Gốt- xã Phú Nghĩa - TP Hà Nội
B15: Nơi thường trú: | C15: =C11 -> Thôn Phố Gốt - xã Phú Nghĩa - TP Hà Nội
B16: Số định danh cá nhân: | C16: =+C12 -> 001166020878
A17: II | B17: HIỆN TRẠNG SỦ DỤNG ĐẤT VÀ TÀI SẢN GẮN LIỀN VỚI ĐẤT THU HỒI:
A18: 1. | B18: Hiện trạng sử dụng đất:
B19: Thửa đất số: | C19: 68 | D19: Tờ bản đồ số: | F19: 05
B20: Diện tích thửa đất: | C20: 33.5 | D20: m2
B21: Trong đó:
B22: Trong chỉ giới GPMB: | C22: 33.5 | D22: m2
B23: Ngoài chỉ giới GPMB: | C23: =C20-C22 -> 0 | D23: m2
B24: Vị trí, địa điểm thu hồi đất: | C24: Vị trí 1-Quốc Lộ 6 - Thôn Phố Gốt - xã Phú Nghĩa - TP Hà Nội
A25: 4. | B25: Nguồn gốc, thời gian sử dụng đất: | C25: - Hộ bà Nguyễn Thị Hòa được UBND xã Đông Sơn (cũ) giao đất làm dịch vụ năm 1991, diện tích 16,0m2, UBND xã Đông Sơn (cũ) ký xác nhận, Biên bản giao làm dịch vụ ngày 30/11/1991, ngoài ra không có giấy tờ gì khác hộ bà Nguyễn Thị Hòa sử dụng đến nay. - Tổng diện tích hiện trạng 33,5m2 tăng 17,5m2 so với diện tích đất dịch vụ được giao.Đối chiếu với các cạnh thửa đất giữa Bản đồ GPMB; Biên bản giao đất dịch vụ của hộ, xác định tăng 17,5m2 về phía Bắc đường Quốc lộ 6. - Căn cứ Nghị định số 203-HĐBT ngày 21/12/1982 của Hội đồng Bộ trưởng về việc ban hành điều lệ bảo vệ đường bộ có hiệu lực thi hành quy định hành lang là 28m (tính từ tim đường ra mỗi bên), do vậy diện tích thu hồi 33,5m2 là đất hành lang giao thông đường Quốc lộ 6. (Trong đó: 16,0m2 cấp là đất dịch vụ, 17,5m2 đất hành lang giao thông đường Quốc lộ 6). Không đủ điều kiện cấp giấy chứng nhận quyền sử dụng đất theo quy định của Luật Đất đai năm 2024. Phòng Kinh tế xác định diện tích thu hồi 33,5m2 đất do hộ bà Nguyễn Thị Hòa sử dụng là đất giao thông đường Quốc lộ 6 (DGT).
A26: 5. | B26: Số hộ gia đình (số cặp vợ chồng): | H26: 01 | I26: hộ
A27: 6. | B27: Số nhân khẩu | H27: 02 | I27: khẩu
A28: III. | B28: PHƯƠNG ÁN BỒI THƯỜNG, HỖ TRỢ VÀ TÁI ĐỊNH CƯ:
A29: 1. | B29: Bồi thường về đất và tái định cư:
A30: TT | B30: Tiền Bồi thường (Giá trị quyền sử dụng đất của diện tích đất thu hồi)
B31: Loại đất | D31: Đơn vị tính | E31: Khối lượng | F31: Đơn giá (đồng/m2) | G31: Tỷ lệ BT, HT (%) | H31: Thành tiền 1 (đồng) | I31: Ghi chú
A32: 1 | B32: 2 | D32: 3 | E32: 4 | F32: 5 | G32: 6 | H32: 7 | I32: 8
A33: 1 | B33: Đất giao thông đường Quốc lộ 6 (DGT) | D33: m2 | E33: =C22 -> 33.5 | H33: =E33*F33*G33 -> 0
B34: Cộng: | H34: =SUM(H33:H33) -> 0
A36: 2. | B36: Bồi thường bằng đất ở hoặc nhà ở tái định cư (nếu có)
A37: TT | B37: Loại đất | D37: Đơn vị tính | E37: Khối lượng | F37: Đơn giá (đồng/m2) | G37: Tỷ lệ BT, HT (%) | H37: Thành tiền 2 (đồng) | I37: Ghi chú
A38: 1 | B38: 2 | D38: 3 | E38: 4 | F38: 5 | G38: 6 | H38: 7 | I38: 8
A39: 1 | I39: Không bố trí tái định cư.
B40: Cộng:
B42: Số tiền chênh lệch giữa tiền bồi thường đất thu hồi và tiền đất ở, nhà ở tái định cư được bố trí: | I42: Không
B43: * Người bị thu hồi đất được nhận (nếu thành tiền 1 lớn hơn thành tiền 2) | I43: Không
...

Sheet Trần Đăng Định (4-53)
A1: BAN QLDA ĐẦU TƯ XÂY DỰNG | E1: CỘNG HÒA XÃ HỘI CHỦ NGHĨA VIỆT NAM
A2: CÔNG TRÌNH GIAO THÔNG TP HÀ NỘI | E2: Độc lập - Tự do - Hạnh phúc
A4: DỰ THẢO | E4: Hà Nội, ngày tháng 02 năm 2026
A5: PHƯƠNG ÁN CHI TIẾT BỒI THƯỜNG, HỖ TRỢ VÀ TÁI ĐỊNH CƯ
A6: Dự án thành phần 1.2: Bồi thường, hỗ trợ và tái định cư thực hiện giải phóng mặt bằng trên địa bàn huyện Chương Mỹ thuộc Dự án đầu tư cải tạo, nâng cấp Quốc Lộ 6 đoạn Ba La - Xuân Mai (Trên địa giới hành chính xã Phú Nghĩa)
A7: (Kèm theo Thông báo số: /TB-UBND ngày /02/2026 của Ủy ban nhân dân xã Phú Nghĩa)
A8: I. | B8: NGƯỜI SỬ DỤNG ĐẤT VÀ SỞ HỮU TÀI SẢN GẮN LIỀN VỚI ĐẤT THU HỒI:
A9: 1. | B9: Họ và tên người sử dụng đất thu hồi: | F9: Trần Đăng Định - Đỗ Thị Hạnh
B10: Nơi ở hiện nay: | C10: Thôn Thanh Trì - xã Phú Nghĩa - TP Hà Nội
B11: Nơi thường trú: | C11: =+C10 -> Thôn Thanh Trì - xã Phú Nghĩa - TP Hà Nội
B12: Số định danh cá nhân: | C12: 001081009370
A13: 2. | B13: Họ và tên người sở hữu tài sản gắn liền với đất thu hồi: | F13: =F9 -> Trần Đăng Định - Đỗ Thị Hạnh
B14: Nơi ở hiện nay: | C14: =+C10 -> Thôn Thanh Trì - xã Phú Nghĩa - TP Hà Nội
B15: Nơi thường trú: | C15: =+C14 -> Thôn Thanh Trì - xã Phú Nghĩa - TP Hà Nội
B16: Số định danh cá nhân: | C16: =+C12 -> 001081009370
A17: II | B17: HIỆN TRẠNG SỦ DỤNG ĐẤT VÀ TÀI SẢN GẮN LIỀN VỚI ĐẤT THU HỒI:
A18: 1. | B18: Hiện trạng sử dụng đất:
B19: Thửa đất số: | C19: 53 | D19: Tờ bản đồ số: | F19: 04
B20: Diện tích thửa đất: | C20: 92.6 | D20: m2
B21: Trong đó:
B22: Trong chỉ giới GPMB: | C22: 92.6 | D22: m2
B23: Ngoài chỉ giới GPMB: | C23: =C20-C22 -> 0 | D23: m2
B24: Vị trí, địa điểm thu hồi đất: | C24: Thôn Phố Gót - xã Phú Nghĩa - TP Hà Nội
A25: 4. | B25: Nguồn gốc, thời gian sử dụng đất: | C25: - Bà Đỗ Thị Nga được UBND xã Đông Sơn (cũ) giao đất làm nhà ở năm 2007, với tổng diện tích 39,0m2, UBND xã Đông Sơn (cũ) ký xác nhận ngày 01/07/2007 tại thửa 105 tờ bản đồ số 38. Đến ngày 15/9/2009 bà Đỗ Thị Nga chuyển nhượng toàn bộ diện tích đất cho ông Trần Đăng Định và bà Đỗ Thị Hạnh (giấy viết tay) ngoài ra không có giấy tờ gì khác, ông Trần Đăng Định và bà Đỗ Thị Hạnh sử dụng đến nay. - Tổng diện tích 92,6m2 tăng 53,6m2 so với diện tích được so với biên bản xác nhận kích thớc thửa đất. Đối chiếu với các cạnh thửa đất giữa Bản đồ GPMB và biên bản xác nhận kích thước thửa đất được cấp của hộ, xác định tăng 53,6m2, Trong đó tăng 13,6m2 về phía Bắc giáp đường Quốc lộ 6, tăng 40,0m2 về phía Nam giáp hộ ông Nguyễn Mạnh Dũng. - UBND xã Đông Sơn (cũ) cấp đất ở vào đất hành lang giao thông quy định tại Nghị định số 203-HĐBT ngày 21/12/1982 của Hội đồng Bộ trưởng về việc ban hành điều lệ bảo vệ đường bộ có hiệu lực thi hành quy định hành lang là 28m (tính từ tim đường ra mỗi bên), do vậy diện tích thu hồi 92,6m2 (Trong đó: 39,0m2 được giao là đất ở nằm trong hành lang giao thông, 53,6m2 là đất hành lang giao thông đường Quốc lộ 6). Không đủ điều kiện cấp giấy chứng nhận quyền sử dụng đất theo quy định của Luật Đất đai năm 2024. Phòng Kinh tế xác định diện tích thu hồi 92,6m2 đất ông Trần Đăng Định và bà Đỗ Thị Hạnh sử dụng là đất giao thông đường Quốc lộ 6 (DGT).
A26: 5. | B26: Số hộ gia đình (số cặp vợ chồng): | H26: 01 | I26: hộ
A27: 6. | B27: Số nhân khẩu | H27: 04 | I27: khẩu
A28: III. | B28: PHƯƠNG ÁN BỒI THƯỜNG, HỖ TRỢ VÀ TÁI ĐỊNH CƯ:
A29: 1. | B29: Bồi thường về đất và tái định cư:
A30: TT | B30: Tiền Bồi thường (Giá trị quyền sử dụng đất của diện tích đất thu hồi)
B31: Loại đất | D31: Đơn vị tính | E31: Khối lượng | F31: Đơn giá (đồng/m2) | G31: Tỷ lệ BT, HT (%) | H31: Thành tiền 1(đồng) | I31: Ghi chú
A32: 1 | B32: 2 | D32: 3 | E32: 4 | F32: 5 | G32: 6 | H32: 7 | I32: 8
A33: 1 | B33: Đất giao thông đường Quốc lộ 6 (DGT) | D33: m2 | E33: =C22 -> 92.6 | H33: =E33*F33*G33 -> 0
B34: Cộng: | H34: =SUM(H33:H33) -> 0
A36: 2. | B36: Bồi thường bằng đất ở hoặc nhà ở tái định cư (nếu có)
A37: TT | B37: Loại đất | D37: Đơn vị tính | E37: Khối lượng | F37: Đơn giá (đồng/m2) | G37: Tỷ lệ BT, HT (%) | H37: Thành tiền 2 (đồng) | I37: Ghi chú
A38: 1 | B38: 2 | D38: 3 | E38: 4 | F38: 5 | G38: 6 | H38: 7 | I38: 8
A39: 1 | I39: Không bố trí tái định cư.
B40: Cộng:
B42: Số tiền chênh lệch giữa tiền bồi thường đất thu hồi và tiền đất ở, nhà ở tái định cư được bố trí: | I42: Không
B43: * Người bị thu hồi đất được nhận (nếu thành tiền 1 lớn hơn thành tiền 2) | I43: Không
...

Sheet Đỗ Thị Ngọc (5-7)
A1: BAN QLDA ĐẦU TƯ XÂY DỰNG | E1: CỘNG HÒA XÃ HỘI CHỦ NGHĨA VIỆT NAM
A2: CÔNG TRÌNH GIAO THÔNG TP HÀ NỘI | E2: Độc lập - Tự do - Hạnh phúc
A4: DỰ THẢO | E4: Hà Nội, ngày tháng 3 năm 2026
A5: PHƯƠNG ÁN CHI TIẾT BỒI THƯỜNG, HỖ TRỢ VÀ TÁI ĐỊNH CƯ
A6: Dự án thành phần 1.2: Bồi thường, hỗ trợ và tái định cư thực hiện giải phóng mặt bằng trên địa bàn huyện Chương Mỹ thuộc Dự án đầu tư cải tạo, nâng cấp Quốc Lộ 6 đoạn Ba La - Xuân Mai (Trên địa giới hành chính xã Phú Nghĩa)
A7: (Kèm theo Thông báo số: /TB-UBND ngày /3/2026 của Ủy ban nhân dân xã Phú Nghĩa)
A8: I. | B8: NGƯỜI SỬ DỤNG ĐẤT VÀ SỞ HỮU TÀI SẢN GẮN LIỀN VỚI ĐẤT THU HỒI:
A9: 1. | B9: Họ và tên người sử dụng đất thu hồi: | F9: Đỗ Thị Ngọc
B10: Nơi ở hiện nay: | C10: TDP Xuân Hà - xã Xuân Mai - TP Hà Nội
B11: Nơi thường trú: | C11: TDP Xuân Hà - xã Xuân Mai - TP Hà Nội
B12: Số định danh cá nhân: | C12: 001166010279
A13: 2. | B13: Họ và tên người sở hữu tài sản gắn liền với đất thu hồi: | F13: =F9 -> Đỗ Thị Ngọc
B14: Nơi ở hiện nay: | C14: =+C10 -> TDP Xuân Hà - xã Xuân Mai - TP Hà Nội
B15: Nơi thường trú: | C15: =C11 -> TDP Xuân Hà - xã Xuân Mai - TP Hà Nội
B16: Số định danh cá nhân: | C16: =+C12 -> 001166010279
A17: II | B17: HIỆN TRẠNG SỦ DỤNG ĐẤT VÀ TÀI SẢN GẮN LIỀN VỚI ĐẤT THU HỒI:
A18: 1. | B18: Hiện trạng sử dụng đất:
B19: Thửa đất số: | C19: 07 | D19: Tờ bản đồ số: | F19: 05
B20: Diện tích thửa đất: | C20: 161.2 | D20: m2
B21: Trong đó:
B22: Trong chỉ giới GPMB: | C22: 110.8 | D22: m2
B23: Ngoài chỉ giới GPMB: | C23: =C20-C22 -> 50.4 | D23: m2
B24: Vị trí, địa điểm thu hồi đất: | C24: Thôn Phố Gốt - xã Phú Nghĩa - TP Hà Nội
A25: 2. | B25: Nguồn gốc, thời gian sử dụng đất: | C25: - Bà Đỗ Thị Ngọc được UBND huyện Chương Mỹ cấp giấy chứng nhận quyền sử dụng đất tại thửa đất số 57A, tờ bản đồ số 38, số phát hành BB 337896, số vào sổ cấp GCN QSDĐ 00149, với diện tích 42,0m2 cấp ngày 08/09/2010. Địa chỉ thửa đất: Thôn Phố Gốt, xã Phú Nghĩa, thành phố Hà Nội. Mục đích sử dụng: 42,0m2 đất ở tại nông thôn. Tổng diện tích sử dụng 161,2m2 tăng 119,2m2 so với giấy chứng nhận quyền sử dụng đất của bà Đỗ Thị Ngọc đã được cấp. - Đối chiếu với các cạnh thửa đất giữa Bản đồ GPMB; Giấy chứng nhận quyền sử dụng đất được cấp của bà Đỗ Thị Ngọc, xác định tăng 119,2m2 về phía Nam đường Quốc lộ 6. - Căn cứ Bản đồ phục vụ công tác GPMB, Nghị định số 203-HĐBT ngày 21/12/1982 của Hội đồng Bộ trưởng về việc ban hành điều lệ bảo vệ đường bộ, Giấy chứng nhận quyền sử dụng đất của bà Đỗ Thị Ngọc. Phòng Kinh tế xác định diện tích thu hồi 110,8m2 do bà Đỗ Thị Ngọc sử dụng là đất giao thông đường Quốc lộ 6 (DGT).
A26: 3. | B26: Số hộ gia đình (số cặp vợ chồng): | H26: 0 | I26: hộ
A27: 4. | B27: Số nhân khẩu | H27: 0 | I27: khẩu
A28: III. | B28: PHƯƠNG ÁN BỒI THƯỜNG, HỖ TRỢ VÀ TÁI ĐỊNH CƯ:
A29: 1. | B29: Bồi thường về đất và tái định cư:
A30: TT | B30: Tiền Bồi thường (Giá trị quyền sử dụng đất của diện tích đất thu hồi)
B31: Loại đất | D31: Đơn vị tính | E31: Khối lượng | F31: Đơn giá (đồng/m2) | G31: Tỷ lệ BT, HT (%) | H31: Thành tiền 1 (đồng) | I31: Ghi chú
A32: 1 | B32: 2 | D32: 3 | E32: 4 | F32: 5 | G32: 6 | H32: 7 | I32: 8
A33: 1 | B33: Đất giao thông đường Quốc lộ 6 (DGT) | D33: m2 | E33: =C22 -> 110.8 | H33: =E33*F33*G33 -> 0
B34: Cộng: | H34: =SUM(H33:H33) -> 0
A36: 2. | B36: Bồi thường bằng đất ở hoặc nhà ở tái định cư (nếu có)
A37: TT | B37: Loại đất | D37: Đơn vị tính | E37: Khối lượng | F37: Đơn giá (đồng/m2) | G37: Tỷ lệ BT, HT (%) | H37: Thành tiền 2 (đồng) | I37: Ghi chú
A38: 1 | B38: 2 | D38: 3 | E38: 4 | F38: 5 | G38: 6 | H38: 7 | I38: 8
A39: 1 | I39: Không bố trí tái định cư.
B40: Cộng:
B42: Số tiền chênh lệch giữa tiền bồi thường đất thu hồi và tiền đất ở, nhà ở tái định cư được bố trí: | I42: Không
B43: * Người bị thu hồi đất được nhận (nếu thành tiền 1 lớn hơn thành tiền 2) | I43: Không
...

Sheet Nguyễn Thị Vân (5-8)
A1: BAN QLDA ĐẦU TƯ XÂY DỰNG | E1: CỘNG HÒA XÃ HỘI CHỦ NGHĨA VIỆT NAM
A2: CÔNG TRÌNH GIAO THÔNG TP HÀ NỘI | E2: Độc lập - Tự do - Hạnh phúc
A4: DỰ THẢO | E4: Hà Nội, ngày tháng 3 năm 2026
A5: PHƯƠNG ÁN CHI TIẾT BỒI THƯỜNG, HỖ TRỢ VÀ TÁI ĐỊNH CƯ
A6: Dự án thành phần 1.2: Bồi thường, hỗ trợ và tái định cư thực hiện giải phóng mặt bằng trên địa bàn huyện Chương Mỹ thuộc Dự án đầu tư cải tạo, nâng cấp Quốc Lộ 6 đoạn Ba La - Xuân Mai (Trên địa giới hành chính xã Phú Nghĩa)
A7: (Kèm theo Thông báo số: /TB-UBND ngày /3/2026 của Ủy ban nhân dân xã Phú Nghĩa)
A8: I. | B8: NGƯỜI SỬ DỤNG ĐẤT VÀ SỞ HỮU TÀI SẢN GẮN LIỀN VỚI ĐẤT THU HỒI:
A9: 1. | B9: Họ và tên người sử dụng đất thu hồi: | F9: Nguyễn Thị Vân
B10: Nơi ở hiện nay: | C10: Thôn Phố Gốt - xã Phú Nghĩa - TP Hà Nội
B11: Nơi thường trú: | C11: Thôn Phố Gốt- xã Phú Nghĩa - TP Hà Nội
B12: Số định danh cá nhân: | C12: 001152014624
A13: 2. | B13: Họ và tên người sở hữu tài sản gắn liền với đất thu hồi: | F13: =F9 -> Nguyễn Thị Vân
B14: Nơi ở hiện nay: | C14: =+C10 -> Thôn Phố Gốt - xã Phú Nghĩa - TP Hà Nội
B15: Nơi thường trú: | C15: =C11 -> Thôn Phố Gốt- xã Phú Nghĩa - TP Hà Nội
B16: Số định danh cá nhân: | C16: =+C12 -> 001152014624
A17: II | B17: HIỆN TRẠNG SỦ DỤNG ĐẤT VÀ TÀI SẢN GẮN LIỀN VỚI ĐẤT THU HỒI:
A18: 1. | B18: Hiện trạng sử dụng đất:
B19: Thửa đất số: | C19: 05 | D19: Tờ bản đồ số: | F19: 04
B20: Diện tích thửa đất: | C20: 25.2 | D20: m2
B21: Trong đó:
B22: Trong chỉ giới GPMB: | C22: 25.2 | D22: m2
B23: Ngoài chỉ giới GPMB: | C23: =C20-C22 -> 0 | D23: m2
B24: Vị trí, địa điểm thu hồi đất: | C24: Thôn Phố Gốt - Xã Phú Nghĩa - TP Hà Nội
A25: 2. | B25: Nguồn gốc, thời gian sử dụng đất: | C25: - UBND xã Đông Sơn (cũ) giao đất làm nhà ở cho hộ bà Nguyễn Thị Vân theo Biên bản giao đất ở của UBND xã Đông Sơn ngày 15/12/1999, diện tích được giao là 15,0m2 tại tờ bản đồ 38 ,cách tim đường Quốc lộ 6 là 28,0m. Tổng diện tích hiện trạng sử dụng là 25,2m2, tăng 10,2m2 so với diện tích đất được UBND xã giao. - Đối chiếu với các cạnh thửa đất giữa Bản đồ GPMB; Biên bản giao đất năm 1999, xác định tăng 10,2m2 về phía Nam giáp đường Quốc lộ 6. - UBND xã Đông Sơn (cũ) giao đất ở năm 1999 vào đất hành lang giao thông quy định tại Nghị định số 203-HĐBT ngày 21/12/1982 của Hội đồng Bộ trưởng về việc ban hành điều lệ bảo vệ đường bộ có hiệu lực thi hành quy định hành lang là 28m (tính từ tim đường ra mỗi bên), do vậy diện tích thu hồi 25,2m2 là đất hành lang giao thông Quốc lộ 6. Không đủ điều kiện cấp giấy chứng nhận quyền sử dụng đất theo quy định của Luật Đất đai năm 2024. Phòng Kinh tế xác định diện tích thu hồi 25,2m2 đất do hộ bà Nguyễn Thị Vân sử dụng là đất giao thông đường Quốc lộ 6 (DGT).
A26: 3. | B26: Số hộ gia đình (số cặp vợ chồng): | I26: hộ
A27: 4. | B27: Số nhân khẩu | H27: 06 | I27: khẩu
A28: III. | B28: PHƯƠNG ÁN BỒI THƯỜNG, HỖ TRỢ VÀ TÁI ĐỊNH CƯ:
A29: 1. | B29: Bồi thường về đất và tái định cư:
A30: TT | B30: Tiền Bồi thường (Giá trị quyền sử dụng đất của diện tích đất thu hồi)
B31: Loại đất | D31: Đơn vị tính | E31: Khối lượng | F31: Đơn giá (đồng/m2) | G31: Tỷ lệ BT, HT (%) | H31: Thành tiền 1 (đồng) | I31: Ghi chú
A32: 1 | B32: 2 | D32: 3 | E32: 4 | F32: 5 | G32: 6 | H32: 7 | I32: 8
A33: 1 | B33: Đất giao thông đường Quốc lộ 6 (DGT) | D33: m2 | E33: =C22 -> 25.2 | H33: =E33*F33*G33 -> 0
B34: Cộng: | H34: =SUM(H33:H33) -> 0
A36: 2. | B36: Bồi thường bằng đất ở hoặc nhà ở tái định cư (nếu có)
A37: TT | B37: Loại đất | D37: Đơn vị tính | E37: Khối lượng | F37: Đơn giá (đồng/m2) | G37: Tỷ lệ BT, HT (%) | H37: Thành tiền 2 (đồng) | I37: Ghi chú
A38: 1 | B38: 2 | D38: 3 | E38: 4 | F38: 5 | G38: 6 | H38: 7 | I38: 8
A39: 1 | I39: Không bố trí tái định cư.
B40: Cộng:
B42: Số tiền chênh lệch giữa tiền bồi thường đất thu hồi và tiền đất ở, nhà ở tái định cư được bố trí: | I42: Không
B43: * Người bị thu hồi đất được nhận (nếu thành tiền 1 lớn hơn thành tiền 2) | I43: Không
...

Sheet Nguyễn Văn Chiến (5-9)
A1: BAN QLDA ĐẦU TƯ XÂY DỰNG | E1: CỘNG HÒA XÃ HỘI CHỦ NGHĨA VIỆT NAM
A2: CÔNG TRÌNH GIAO THÔNG TP HÀ NỘI | E2: Độc lập - Tự do - Hạnh phúc
A4: DỰ THẢO | E4: Hà Nội, ngày tháng 3 năm 2026
A5: PHƯƠNG ÁN CHI TIẾT BỒI THƯỜNG, HỖ TRỢ VÀ TÁI ĐỊNH CƯ
A6: Dự án thành phần 1.2: Bồi thường, hỗ trợ và tái định cư thực hiện giải phóng mặt bằng trên địa bàn huyện Chương Mỹ thuộc Dự án đầu tư cải tạo, nâng cấp Quốc Lộ 6 đoạn Ba La - Xuân Mai (Trên địa giới hành chính xã Phú Nghĩa)
A7: (Kèm theo Thông báo số: /TB-UBND ngày /3/2026 của Ủy ban nhân dân xã Phú Nghĩa)
A8: I. | B8: NGƯỜI SỬ DỤNG ĐẤT VÀ SỞ HỮU TÀI SẢN GẮN LIỀN VỚI ĐẤT THU HỒI:
A9: 1. | B9: Họ và tên người sử dụng đất thu hồi: | F9: Nguyễn Văn Chiến
B10: Nơi ở hiện nay: | C10: Thôn Phố Gốt- xã Phú Nghĩa - TP Hà Nội
B11: Nơi thường trú: | C11: Thôn Phố Gốt- xã Phú Nghĩa - TP Hà Nội
B12: Số định danh cá nhân: | C12: 001050018475
A13: 2. | B13: Họ và tên người sở hữu tài sản gắn liền với đất thu hồi: | F13: =F9 -> Nguyễn Văn Chiến
B14: Nơi ở hiện nay: | C14: =+C10 -> Thôn Phố Gốt- xã Phú Nghĩa - TP Hà Nội
B15: Nơi thường trú: | C15: =C11 -> Thôn Phố Gốt- xã Phú Nghĩa - TP Hà Nội
B16: Số định danh cá nhân: | C16: =+C12 -> 001050018475
A17: II | B17: HIỆN TRẠNG SỦ DỤNG ĐẤT VÀ TÀI SẢN GẮN LIỀN VỚI ĐẤT THU HỒI:
A18: 1. | B18: Hiện trạng sử dụng đất:
B19: Thửa đất số: | C19: 09 | D19: Tờ bản đồ số: | F19: 05
B20: Diện tích thửa đất: | C20: 26.6 | D20: m2
B21: Trong đó:
B22: Trong chỉ giới GPMB: | C22: 26.6 | D22: m2
B23: Ngoài chỉ giới GPMB: | C23: =C20-C22 -> 0 | D23: m2
B24: Vị trí, địa điểm thu hồi đất: | C24: Thôn Phố Gốt - Xã Phú Nghĩa - TP Hà Nội
A25: 2. | B25: Nguồn gốc, thời gian sử dụng đất: | C25: - Đất UBND xã Đông Sơn (cũ) cho hộ ông Nguyễn Văn Chiến thuê đất làm dịch vụ năm 1999, kích thước cho thuê diện tích 13,7m2. Hộ ông Nguyễn Văn Chiến đã nộp số tiền 14.000.000 đồng (Mười bốn triệu đồng) khi được cho thuê làm đất dịch vụ năm 1999. Tổng diện tích hiện trạng sử dụng là 26,6m2, tăng 12,9m2 so với diện tích đất dịch vụ được UBND xã cho thuê đất. Đối chiếu với các cạnh thửa đất giữa Bản đồ GPMB; Biên bản xác định kích thước thửa đất tăng 12,9m2 về phía Nam giáp đường Quốc lộ 6. - UBND xã Đông Sơn (cũ) cho thuê đất dịch vụ vào đất hành lang giao thông quy định tại Nghị định số 203-HĐBT ngày 21/12/1982 của Hội đồng Bộ trưởng về việc ban hành điều lệ bảo vệ đường bộ có hiệu lực thi hành quy định hành lang là 28m (tính từ tim đường ra mỗi bên), do vậy diện tích thu hồi 26,6m2 thuộc đất hành lang giao thông. (Trong đó: 13,7m2 đất được thuê làm dịch vụ là đất hành lang giao thông, 12,9m2 đất hành lang giao thông đường Quốc lộ 6). Không đủ điều kiện cấp giấy chứng nhận quyền sử dụng đất theo quy định của Luật Đất đai năm 2024. Phòng Kinh tế xác định diện tích thu hồi 26,6m2 đất do hộ ông Nguyễn Văn Chiến sử dụng là giao thông đường Quốc lộ 6 (DGT).
A26: 3. | B26: Số hộ gia đình (số cặp vợ chồng): | H26: 01 | I26: hộ
A27: 4. | B27: Số nhân khẩu | H27: 05 | I27: khẩu
A28: III. | B28: PHƯƠNG ÁN BỒI THƯỜNG, HỖ TRỢ VÀ TÁI ĐỊNH CƯ:
A29: 1. | B29: Bồi thường về đất và tái định cư:
A30: TT | B30: Tiền Bồi thường (Giá trị quyền sử dụng đất của diện tích đất thu hồi)
B31: Loại đất | D31: Đơn vị tính | E31: Khối lượng | F31: Đơn giá (đồng/m2) | G31: Tỷ lệ BT, HT (%) | H31: Thành tiền 1 (đồng) | I31: Ghi chú
A32: 1 | B32: 2 | D32: 3 | E32: 4 | F32: 5 | G32: 6 | H32: 7 | I32: 8
A33: 1 | B33: Đất giao thông đường Quốc lộ 6 (DGT) | D33: m2 | E33: =C22 -> 26.6 | H33: =E33*F33*G33 -> 0
B34: Cộng: | H34: =SUM(H33:H33) -> 0
A36: 2. | B36: Bồi thường bằng đất ở hoặc nhà ở tái định cư (nếu có)
A37: TT | B37: Loại đất | D37: Đơn vị tính | E37: Khối lượng | F37: Đơn giá (đồng/m2) | G37: Tỷ lệ BT, HT (%) | H37: Thành tiền 2 (đồng) | I37: Ghi chú
A38: 1 | B38: 2 | D38: 3 | E38: 4 | F38: 5 | G38: 6 | H38: 7 | I38: 8
A39: 1 | I39: Không bố trí tái định cư.
B40: Cộng:
B42: Số tiền chênh lệch giữa tiền bồi thường đất thu hồi và tiền đất ở, nhà ở tái định cư được bố trí: | I42: Không
B43: * Người bị thu hồi đất được nhận (nếu thành tiền 1 lớn hơn thành tiền 2) | I43: Không
...

Sheet Bùi Văn Hồng
A1: BAN QLDA ĐẦU TƯ XÂY DỰNG | E1: CỘNG HÒA XÃ HỘI CHỦ NGHĨA VIỆT NAM
A2: CÔNG TRÌNH GIAO THÔNG TP HÀ NỘI | E2: Độc lập - Tự do - Hạnh phúc
A4: DỰ THẢO | E4: Hà Nội, ngày tháng 3 năm 2026
A5: PHƯƠNG ÁN CHI TIẾT BỒI THƯỜNG, HỖ TRỢ VÀ TÁI ĐỊNH CƯ
A6: Dự án thành phần 1.2: Bồi thường, hỗ trợ và tái định cư thực hiện giải phóng mặt bằng trên địa bàn huyện Chương Mỹ thuộc Dự án đầu tư cải tạo, nâng cấp Quốc Lộ 6 đoạn Ba La - Xuân Mai (Trên địa giới hành chính xã Phú Nghĩa)
A7: (Kèm theo Thông báo số: /TB-UBND ngày /3/2026 của Ủy ban nhân dân xã Phú Nghĩa)
A8: I. | B8: NGƯỜI SỬ DỤNG ĐẤT VÀ SỞ HỮU TÀI SẢN GẮN LIỀN VỚI ĐẤT THU HỒI:
A9: 1. | B9: Họ và tên người sử dụng đất thu hồi: | F9: Bùi Văn Hồng
B10: Nơi ở hiện nay: | C10: Tổ dân phố Đình Tổ - xã Quốc Oai - TP Hà Nội
B11: Nơi thường trú: | C11: Tổ dân phố Đình Tổ - xã Quốc Oai - TP Hà Nội
B12: Số định danh cá nhân: | C12: 001060010502
A13: 2. | B13: Họ và tên người sở hữu tài sản gắn liền với đất thu hồi: | F13: =F9 -> Bùi Văn Hồng
B14: Nơi ở hiện nay: | C14: =+C10 -> Tổ dân phố Đình Tổ - xã Quốc Oai - TP Hà Nội
B15: Nơi thường trú: | C15: =C11 -> Tổ dân phố Đình Tổ - xã Quốc Oai - TP Hà Nội
B16: Số định danh cá nhân: | C16: =+C12 -> 001060010502
A17: II | B17: HIỆN TRẠNG SỦ DỤNG ĐẤT VÀ TÀI SẢN GẮN LIỀN VỚI ĐẤT THU HỒI:
A18: 1. | B18: Hiện trạng sử dụng đất:
B19: Thửa đất số: | C19: 76 | D19: Tờ bản đồ số: | F19: 05
B20: Diện tích thửa đất: | C20: 82.4 | D20: m2
B21: Trong đó:
B22: Trong chỉ giới GPMB: | C22: 53.1 | D22: m2
B23: Ngoài chỉ giới GPMB: | C23: =C20-C22 -> 29.3 | D23: m2
B24: Vị trí, địa điểm thu hồi đất: | C24: Thôn Phố Gốt - xã Phú Nghĩa - TP Hà Nội
A25: 2 | B25: Nguồn gốc, thời gian sử dụng đất: | C25: - Theo đơn chuyển nhượng quyền sử dụng đất giữa bà Nguyễn Thị Út với ông Bùi Văn Hồng ngày 19/9/2009 được UBND xã Đông Sơn xác nhận ngày 19/9/1999 thể hiện bà Nguyễn Thị Út chuyển nhượng cho ông Bùi Văn Hồng 61,0 m2 trong lưu không là 41,2m2, ngoài lưu không là 19,8m2 có nguồn gốc: bà Nguyễn Thị Út được công ty thương mại huyện Chương Mỹ (cũ) thanh lý tài sản cho công nhân nghỉ theo chế độ Nghị định 176 năm 1991. Năm 1998 UBND xã Đông Sơn (cũ) giao đất dịch vụ cho bà Nguyễn Thị Út diện tích 61,0m2. Theo Bản đồ năm 1983 là đất hợp tác xã, đất kho muối, đất cơ quan H17, bản đồ dân cư năm 1996 là đất khu dân cư, ngoài ra không có giấy tờ gì khác, ông Hồng sử dụng đến nay. - Tổng diện tích 82,4m2 tăng 21,0m2 so với diện tích đất được giao là 61m2 (Trong đó: 42,1m2 trong lưu không, 19,8m2 ngoài lưu không). Đối chiếu các cạnh thửa đất giữa bản đồ GPMB và Giấy chứng nhận quyền sử dụng đất cấp của hộ, xác định tăng 21,0m2, trong đó tăng 16,6m2 về phía Bắc đường Quốc lộ 6, tăng 4,4m2 về phía Nam giáp hộ bà Nguyễn Thị Miến. - Căn cứ Nghị định số 203-HĐBT ngày 21/12/1982 của Hội đồng Bộ trưởng về việc ban hành điều lệ bảo vệ đường bộ có hiệu lực thi hành quy định hành lang là 28m (tính từ tim đường ra mỗi bên), do vậy diện tích thu hồi 53,1m2 là đất hành lang giao thông Quốc lộ 6. Không đủ điều kiện cấp giấy chứng nhận quyền sử dụng đất theo quy định của Luật Đất đai năm 2024. Phòng Kinh tế xác định diện tích thu hồi 53,1m2 đất do hộ ông Bùi Văn Hồng sử dụng là đất giao thông đường Quốc lộ 6 (DGT).
A26: 3 | B26: Số hộ gia đình (số cặp vợ chồng): | H26: 0 | I26: hộ
A27: 4 | B27: Số nhân khẩu | H27: 0 | I27: khẩu
A28: III. | B28: PHƯƠNG ÁN BỒI THƯỜNG, HỖ TRỢ VÀ TÁI ĐỊNH CƯ:
A29: 1. | B29: Bồi thường về đất và tái định cư:
A30: TT | B30: Tiền Bồi thường (Giá trị quyền sử dụng đất của diện tích đất thu hồi)
B31: Loại đất | D31: Đơn vị tính | E31: Khối lượng | F31: Đơn giá (đồng/m2) | G31: Tỷ lệ BT, HT (%) | H31: Thành tiền 1 (đồng) | I31: Ghi chú
A32: 1 | B32: 2 | D32: 3 | E32: 4 | F32: 5 | G32: 6 | H32: 7 | I32: 8
A33: 1 | B33: Đất giao thông đường Quốc lộ 6 (DGT) | D33: m2 | E33: =C22 -> 53.1 | H33: =E33*F33*G33 -> 0
B34: Cộng: | H34: =SUM(H33:H33) -> 0
A36: 2. | B36: Bồi thường bằng đất ở hoặc nhà ở tái định cư (nếu có)
A37: TT | B37: Loại đất | D37: Đơn vị tính | E37: Khối lượng | F37: Đơn giá (đồng/m2) | G37: Tỷ lệ BT, HT (%) | H37: Thành tiền 2 (đồng) | I37: Ghi chú
A38: 1 | B38: 2 | D38: 3 | E38: 4 | F38: 5 | G38: 6 | H38: 7 | I38: 8
A39: 1 | I39: Không bố trí tái định cư.
B40: Cộng:
B42: Số tiền chênh lệch giữa tiền bồi thường đất thu hồi và tiền đất ở, nhà ở tái định cư được bố trí: | I42: Không
B43: * Người bị thu hồi đất được nhận (nếu thành tiền 1 lớn hơn thành tiền 2) | I43: Không
...

Sheet Nguyễn Thị Nguyên (5-45)
A1: BAN QLDA ĐẦU TƯ XÂY DỰNG | E1: CỘNG HÒA XÃ HỘI CHỦ NGHĨA VIỆT NAM
A2: CÔNG TRÌNH GIAO THÔNG TP HÀ NỘI | E2: Độc lập - Tự do - Hạnh phúc
A4: DỰ THẢO | E4: Hà Nội, ngày tháng 3 năm 2026
A5: PHƯƠNG ÁN CHI TIẾT BỒI THƯỜNG, HỖ TRỢ VÀ TÁI ĐỊNH CƯ
A6: Dự án thành phần 1.2: Bồi thường, hỗ trợ và tái định cư thực hiện giải phóng mặt bằng trên địa bàn huyện Chương Mỹ thuộc Dự án đầu tư cải tạo, nâng cấp Quốc Lộ 6 đoạn Ba La - Xuân Mai (Trên địa giới hành chính xã Phú Nghĩa)
A7: (Kèm theo Thông báo số: /TB-UBND ngày /3/2026 của Ủy ban nhân dân xã Phú Nghĩa)
A8: I. | B8: NGƯỜI SỬ DỤNG ĐẤT VÀ SỞ HỮU TÀI SẢN GẮN LIỀN VỚI ĐẤT THU HỒI:
A9: 1. | B9: Họ và tên người sử dụng đất thu hồi: | F9: Nguyễn Thị Nguyên
B10: Nơi ở hiện nay: | C10: Thôn Đông Cựu Đồi - xã Phú Nghĩa - TP Hà Nội
B11: Nơi thường trú: | C11: Thôn Đông Cựu Đồi - xã Phú Nghĩa - TP Hà Nội
B12: Số định danh cá nhân: | C12: 001165004448
A13: 2. | B13: Họ và tên người sở hữu tài sản gắn liền với đất thu hồi: | F13: =F9 -> Nguyễn Thị Nguyên
B14: Nơi ở hiện nay: | C14: =+C10 -> Thôn Đông Cựu Đồi - xã Phú Nghĩa - TP Hà Nội
B15: Nơi thường trú: | C15: =C11 -> Thôn Đông Cựu Đồi - xã Phú Nghĩa - TP Hà Nội
B16: Số định danh cá nhân: | C16: =+C12 -> 001165004448
A17: II | B17: HIỆN TRẠNG SỦ DỤNG ĐẤT VÀ TÀI SẢN GẮN LIỀN VỚI ĐẤT THU HỒI:
A18: 1. | B18: Hiện trạng sử dụng đất:
B19: Thửa đất số: | C19: 45 | D19: Tờ bản đồ số: | F19: 05
B20: Diện tích thửa đất: | C20: 60.5 | D20: m2
B21: Trong đó:
B22: Trong chỉ giới GPMB: | C22: 43 | D22: m2
B23: Ngoài chỉ giới GPMB: | C23: =C20-C22 -> 17.5 | D23: m2
B24: Vị trí, địa điểm thu hồi đất: | C24: Thôn Phố Gốt - Xã Phú Nghĩa - TP Hà Nội
A25: 2. | B25: Nguồn gốc, thời gian sử dụng đất: | C25: - Bà Nguyễn Thị Nguyên được UBND xã Đông Sơn (cũ) giao đất làm dịch vụ năm 1991, với tổng diện tích 35,0m2, UBND xã Đông Sơn (cũ) ký xác nhận. (kèm theo gồm; Biên bản giao làm dịch vụ ngày 30/11/1991, Phiếu thu tiền đất dịch vụ năm 1991 là 1.750.000đ và năm 1999 là 2.970.000đ) ngoài ra không có giấy tờ gì khác, bà Nguyên sử dụng từ đó đến nay. - Tổng diện tích 60,5m2 tăng 25,5m2 so với diện tích được so với diện tích đất được giao. Đối chiếu với các cạnh thửa đất giữa Bản đồ GPMB và giấy chứng nhận quyền sử dụng đất được cấp của hộ, xác định tăng 25,5m2, Trong đó tăng 9,1m2 về phía Bắc giáp đường Quốc lộ 6, tăng 16,4m2 về phía Nam giáp đất chợ Gốt. - Căn cứ Nghị định số 203-HĐBT ngày 21/12/1982 của Hội đồng Bộ trưởng về việc ban hành điều lệ bảo vệ đường bộ có hiệu lực thi hành quy định hành lang là 28m (tính từ tim đường ra mỗi bên), do vậy diện tích thu hồi 43,0m2 là đất hành lang giao thông đường Quốc lộ 6 (Trong đó: 33,9m2 là đất dịch vụ, 9,1m2 là đất hành lang giao thông đường Quốc lộ 6). Không đủ điều kiện cấp giấy chứng nhận quyền sử dụng đất theo quy định của Luật Đất đai năm 2024. Phòng Kinh tế xác định diện tích thu hồi 43,0m2 đất Bà Nguyễn Thị Nguyên sử dụng là đất giao thông đường Quốc lộ 6 (DGT).
A26: 3. | B26: Số hộ gia đình (số cặp vợ chồng): | H26: 01 | I26: hộ
A27: 4. | B27: Số nhân khẩu | H27: 07 | I27: khẩu
A28: III. | B28: PHƯƠNG ÁN BỒI THƯỜNG, HỖ TRỢ VÀ TÁI ĐỊNH CƯ:
A29: 1. | B29: Bồi thường về đất và tái định cư:
A30: TT | B30: Tiền Bồi thường (Giá trị quyền sử dụng đất của diện tích đất thu hồi)
B31: Loại đất | D31: Đơn vị tính | E31: Khối lượng | F31: Đơn giá (đồng/m2) | G31: Tỷ lệ BT, HT (%) | H31: Thành tiền 1 (đồng) | I31: Ghi chú
A32: 1 | B32: 2 | D32: 3 | E32: 4 | F32: 5 | G32: 6 | H32: 7 | I32: 8
A33: 1 | B33: Đất giao thông đường Quốc lộ 6 (DGT) | D33: m2 | E33: =C22 -> 43 | H33: =E33*F33*G33 -> 0
B34: Cộng: | H34: =SUM(H33:H33) -> 0
A36: 2. | B36: Bồi thường bằng đất ở hoặc nhà ở tái định cư (nếu có)
A37: TT | B37: Loại đất | D37: Đơn vị tính | E37: Khối lượng | F37: Đơn giá (đồng/m2) | G37: Tỷ lệ BT, HT (%) | H37: Thành tiền 2 (đồng) | I37: Ghi chú
A38: 1 | B38: 2 | D38: 3 | E38: 4 | F38: 5 | G38: 6 | H38: 7 | I38: 8
A39: 1 | I39: Không bố trí tái định cư.
B40: Cộng:
B42: Số tiền chênh lệch giữa tiền bồi thường đất thu hồi và tiền đất ở, nhà ở tái định cư được bố trí: | I42: Không
B43: * Người bị thu hồi đất được nhận (nếu thành tiền 1 lớn hơn thành tiền 2) | I43: Không
...

Sheet Trịnh Quang Lê (5-56)
A1: BAN QLDA ĐẦU TƯ XÂY DỰNG | E1: CỘNG HÒA XÃ HỘI CHỦ NGHĨA VIỆT NAM
A2: CÔNG TRÌNH GIAO THÔNG TP HÀ NỘI | E2: Độc lập - Tự do - Hạnh phúc
A4: DỰ THẢO | E4: Hà Nội, ngày tháng 3 năm 2026
A5: PHƯƠNG ÁN CHI TIẾT BỒI THƯỜNG, HỖ TRỢ VÀ TÁI ĐỊNH CƯ
A6: Dự án thành phần 1.2: Bồi thường, hỗ trợ và tái định cư thực hiện giải phóng mặt bằng trên địa bàn huyện Chương Mỹ thuộc Dự án đầu tư cải tạo, nâng cấp Quốc Lộ 6 đoạn Ba La - Xuân Mai (Trên địa giới hành chính xã Phú Nghĩa)
A7: (Kèm theo Thông báo số: /TB-UBND ngày /3/2026 của Ủy ban nhân dân xã Phú Nghĩa)
A8: I. | B8: NGƯỜI SỬ DỤNG ĐẤT VÀ SỞ HỮU TÀI SẢN GẮN LIỀN VỚI ĐẤT THU HỒI:
A9: 1. | B9: Họ và tên người sử dụng đất thu hồi: | F9: Trịnh Quang Lê - Đỗ Thị Nguyệt
B10: Nơi ở hiện nay: | C10: Thôn Phố Gốt - xã Phú Nghĩa - TP Hà Nội
B11: Nơi thường trú: | C11: Thôn Phố Gốt - xã Phú Nghĩa - TP Hà Nội
B12: Số định danh cá nhân: | C12: 0380700144311 - 001175042864
A13: 2. | B13: Họ và tên người sở hữu tài sản gắn liền với đất thu hồi: | F13: =F9 -> Trịnh Quang Lê - Đỗ Thị Nguyệt
B14: Nơi ở hiện nay: | C14: =+C10 -> Thôn Phố Gốt - xã Phú Nghĩa - TP Hà Nội
B15: Nơi thường trú: | C15: =C11 -> Thôn Phố Gốt - xã Phú Nghĩa - TP Hà Nội
B16: Số định danh cá nhân: | C16: =+C12 -> 0380700144311 - 001175042864
A17: II | B17: HIỆN TRẠNG SỦ DỤNG ĐẤT VÀ TÀI SẢN GẮN LIỀN VỚI ĐẤT THU HỒI:
A18: 1. | B18: Hiện trạng sử dụng đất:
B19: Thửa đất số: | C19: 56 | D19: Tờ bản đồ số: | F19: 05
B20: Diện tích thửa đất: | C20: 50.1 | D20: m2
B21: Trong đó:
B22: Trong chỉ giới GPMB: | C22: 42.6 | D22: m2
B23: Ngoài chỉ giới GPMB: | C23: =C20-C22 -> 7.5 | D23: m2
B24: Vị trí, địa điểm thu hồi đất: | C24: Thôn Phố Gốt - Xã Phú Nghĩa - TP Hà Nội
A25: 2. | B25: Nguồn gốc, thời gian sử dụng đất: | C25: - Đất UBND xã giao đất làm dịch vụ cho hộ ông Lưu Công Tuấn theo Biên bản giao đất dịch vụ của UBND xã Đông Sơn ngày 30/11/1991, diện tích được giao là 35,2 m2 (kích thước 4,4 m x 8,0 m), cách tim đường quốc lộ 6 là 17,5 m. Hộ ông Lưu Công Tuấn sử dụng đến năm 2000, chuyển nhượng toàn bộ diện tích đất và tài sản trên đất cho ông Trịnh Quang Lê cùng vợ là Đỗ Thị Nguyệt (có xác nhận của UBND xã Đông Sơn ngày 20/10/2000).Tổng diện tích hiện trạng sử dụng 50,1 m2 tăng 14,9m2 so với diện tích theo biên bản giao đất ngày 30/11/1991. - Đối chiếu với các cạnh thửa đất giữa Bản đồ GPMB và kích thước mô tả iện tích thửa đất giao, xác định tăng 14,9m2 về phía Bắc giáp đường Quốc lộ 6. - UBND xã Đông Sơn (cũ) cấp đất dịch vụ vào đất hành lang giao thông quy định tại Nghị định số 203-HĐBT ngày 21/12/1982 của Hội đồng Bộ trưởng về việc ban hành điều lệ bảo vệ đường bộ có hiệu lực thi hành do vậy số diện tích thu hồi 42,6m2 đất hành lang giao thông (Trong đó: 27,7m2 đất dịch vụ thuộc đất hành lang giao thông, 14,9m2 đất hành lang giao thông đường Quốc lộ 6). Không đủ điều kiện cấp giấy chứng nhận quyền sử dụng đất theo quy định của Luật Đất đai năm 2024. Phòng Kinh tế xác định diện tích thu hồi 42,6m2 do ông Trịnh Quang Lê và bà Đỗ Thị Nguyệt sử dụng là đất giao thông đường Quốc lộ 6 (DGT).
A27: 3. | B27: Số hộ gia đình (số cặp vợ chồng): | H27: 01 | I27: hộ
A28: 4. | B28: Số nhân khẩu | H28: 04 | I28: khẩu
A29: III. | B29: PHƯƠNG ÁN BỒI THƯỜNG, HỖ TRỢ VÀ TÁI ĐỊNH CƯ:
A30: 1. | B30: Bồi thường về đất và tái định cư:
A31: TT | B31: Tiền Bồi thường (Giá trị quyền sử dụng đất của diện tích đất thu hồi)
B32: Loại đất | D32: Đơn vị tính | E32: Khối lượng | F32: Đơn giá (đồng/m2) | G32: Tỷ lệ BT, HT (%) | H32: Thành tiền 1 (đồng) | I32: Ghi chú
A33: 1 | B33: 2 | D33: 3 | E33: 4 | F33: 5 | G33: 6 | H33: 7 | I33: 8
A34: 1 | B34: Đất giao thông đường Quốc lộ 6 (DGT) | D34: m2 | E34: =C22 -> 42.6 | H34: =E34*F34*G34 -> 0
B35: Cộng: | H35: =SUM(H34:H34) -> 0
A37: 2. | B37: Bồi thường bằng đất ở hoặc nhà ở tái định cư (nếu có)
A38: TT | B38: Loại đất | D38: Đơn vị tính | E38: Khối lượng | F38: Đơn giá (đồng/m2) | G38: Tỷ lệ BT, HT (%) | H38: Thành tiền 2 (đồng) | I38: Ghi chú
A39: 1 | B39: 2 | D39: 3 | E39: 4 | F39: 5 | G39: 6 | H39: 7 | I39: 8
A40: 1 | I40: Không bố trí tái định cư.
B41: Cộng:
B43: Số tiền chênh lệch giữa tiền bồi thường đất thu hồi và tiền đất ở, nhà ở tái định cư được bố trí: | I43: Không
B44: * Người bị thu hồi đất được nhận (nếu thành tiền 1 lớn hơn thành tiền 2) | I44: Không
...

Sheet Nguyễn Đức Tú (6-62)
A1: BAN QLDA ĐẦU TƯ XÂY DỰNG | E1: CỘNG HÒA XÃ HỘI CHỦ NGHĨA VIỆT NAM
A2: CÔNG TRÌNH GIAO THÔNG TP HÀ NỘI | E2: Độc lập - Tự do - Hạnh phúc
A4: DỰ THẢO | E4: Hà Nội, ngày tháng 3 năm 2026
A5: PHƯƠNG ÁN CHI TIẾT BỒI THƯỜNG, HỖ TRỢ VÀ TÁI ĐỊNH CƯ
A6: Dự án thành phần 1.2: Bồi thường, hỗ trợ và tái định cư thực hiện giải phóng mặt bằng trên địa bàn huyện Chương Mỹ thuộc Dự án đầu tư cải tạo, nâng cấp Quốc Lộ 6 đoạn Ba La - Xuân Mai (Trên địa giới hành chính xã Phú Nghĩa)
A7: (Kèm theo Thông báo số: /TB-UBND ngày /3/2026 của Ủy ban nhân dân xã Phú Nghĩa)
A8: I. | B8: NGƯỜI SỬ DỤNG ĐẤT VÀ SỞ HỮU TÀI SẢN GẮN LIỀN VỚI ĐẤT THU HỒI:
A9: 1. | B9: Họ và tên người sử dụng đất thu hồi: | F9: Nguyễn Đức Tú
B10: Nơi ở hiện nay: | C10: Thôn Phố Gốt - xã Phú Nghĩa - TP Hà Nội
B11: Nơi thường trú: | C11: Thôn Phố Gốt - xã Phú Nghĩa - TP Hà Nội
B12: Số định danh cá nhân: | C12: 001095032801
A13: 2. | B13: Họ và tên người sở hữu tài sản gắn liền với đất thu hồi: | F13: =+F9 -> Nguyễn Đức Tú
B14: Nơi ở hiện nay: | C14: =C10 -> Thôn Phố Gốt - xã Phú Nghĩa - TP Hà Nội
B15: Nơi thường trú: | C15: =C11 -> Thôn Phố Gốt - xã Phú Nghĩa - TP Hà Nội
B16: Số định danh cá nhân: | C16: =+C12 -> 001095032801
A17: II | B17: HIỆN TRẠNG SỦ DỤNG ĐẤT VÀ TÀI SẢN GẮN LIỀN VỚI ĐẤT THU HỒI:
A18: 1. | B18: Hiện trạng sử dụng đất:
B19: Thửa đất số: | C19: 62 | D19: Tờ bản đồ số: | F19: 06
B20: Diện tích thửa đất: | C20: 111.5 | D20: m2
B21: Trong đó:
B22: Trong chỉ giới GPMB: | C22: 37.6 | D22: m2
B23: Ngoài chỉ giới GPMB: | C23: =C20-C22 -> 73.9 | D23: m2
B24: Vị trí, địa điểm thu hồi đất: | C24: Thôn Phố Gốt - xã Phú Nghĩa - TP Hà Nội
A25: 2. | B25: Nguồn gốc, thời gian sử dụng đất: | C25: - Ông Nguyễn Đức Tú được UBND huyện Chương Mỹ cấp giấy chứng nhận QSD đất thửa số 226, tờ bản đồ số 38, số BV 481193, số vào sổ 00791 với diện tích 51m2 cấp ngày 23/06/2014. Mục đích sử dụng là đất ở tại nông thôn. Tổng diện tích hiện trạng sử dụng là 111,5m2, tăng 60,5m2 so với diện tích đất được cấp giấy chứng nhận là do trong quá trình sử dụng hộ tự cơi nới sử dụng ra một phần diện tích đất hành lang giao thông đường Quốc lộ 6. - Đối chiếu với các cạnh thửa đất giữa Bản đồ GPMB; Giấy chứng nhận quyền sử dụng đất được cấp của ông Nguyễn Đức Tú, xác định tăng 60,5m2; Trong đó: Tăng 3,14m2 về phía Đông, tăng 57,36m2 về phía Bắc giáp đường Quốc lộ 6. - Căn cứ Bản đồ phục vụ công tác GPMB; Nghị định số 203-HĐBT ngày 21/12/1982 của Hội đồng Bộ trưởng về việc ban hành điều lệ bảo vệ đường bộ; Giấy chứng nhận quyền sử dụng đất của ông Nguyễn Đức Tú. Phòng Kinh tế xác định diện tích thu hồi 37,6m2 đất do ông Nguyễn Đức Tú sử dụng là đất giao thông đường Quốc lộ 6 (DGT).
A26: 3. | B26: Số hộ gia đình (số cặp vợ chồng): | H26: 01 | I26: hộ
A27: 4. | B27: Số nhân khẩu | H27: 04 | I27: khẩu
A28: III. | B28: PHƯƠNG ÁN BỒI THƯỜNG, HỖ TRỢ VÀ TÁI ĐỊNH CƯ:
A29: 1. | B29: Bồi thường về đất và tái định cư:
A30: TT | B30: Tiền Bồi thường (Giá trị quyền sử dụng đất của diện tích đất thu hồi)
B31: Loại đất | D31: Đơn vị tính | E31: Khối lượng | F31: Đơn giá (đồng/m2) | G31: Tỷ lệ BT, HT (%) | H31: Thành tiền 1 (đồng) | I31: Ghi chú
A32: 1 | B32: 2 | D32: 3 | E32: 4 | F32: 5 | G32: 6 | H32: 7 | I32: 8
A33: 1 | B33: Đất giao thông đường Quốc lộ 6 (DGT) | D33: m2 | E33: =C22 -> 37.6 | H33: =E33*F33*G33 -> 0
B34: Cộng: | H34: =SUM(H33:H33) -> 0
A36: 2. | B36: Bồi thường bằng đất ở hoặc nhà ở tái định cư (nếu có)
A37: TT | B37: Loại đất | D37: Đơn vị tính | E37: Khối lượng | F37: Đơn giá (đồng/m2) | G37: Tỷ lệ BT, HT (%) | H37: Thành tiền 2 (đồng) | I37: Ghi chú
A38: 1 | B38: 2 | D38: 3 | E38: 4 | F38: 5 | G38: 6 | H38: 7 | I38: 8
A39: 1 | I39: Không bố trí tái định cư.
B40: Cộng:
B42: Số tiền chênh lệch giữa tiền bồi thường đất thu hồi và tiền đất ở, nhà ở tái định cư được bố trí: | I42: Không
B43: * Người bị thu hồi đất được nhận (nếu thành tiền 1 lớn hơn thành tiền 2) | I43: Không
...

Sheet Lê Văn Tâm (6-64)
A1: BAN QLDA ĐẦU TƯ XÂY DỰNG | E1: CỘNG HÒA XÃ HỘI CHỦ NGHĨA VIỆT NAM
A2: CÔNG TRÌNH GIAO THÔNG TP HÀ NỘI | E2: Độc lập - Tự do - Hạnh phúc
A4: DỰ THẢO | E4: Hà Nội, ngày tháng 3 năm 2026
A5: PHƯƠNG ÁN CHI TIẾT BỒI THƯỜNG, HỖ TRỢ VÀ TÁI ĐỊNH CƯ
A6: Dự án thành phần 1.2: Bồi thường, hỗ trợ và tái định cư thực hiện giải phóng mặt bằng trên địa bàn huyện Chương Mỹ thuộc Dự án đầu tư cải tạo, nâng cấp Quốc Lộ 6 đoạn Ba La - Xuân Mai (Trên địa giới hành chính xã Phú Nghĩa)
A7: (Kèm theo Thông báo số: /TB-UBND ngày /3/2026 của Ủy ban nhân dân xã Phú Nghĩa)
A8: I. | B8: NGƯỜI SỬ DỤNG ĐẤT VÀ SỞ HỮU TÀI SẢN GẮN LIỀN VỚI ĐẤT THU HỒI:
A9: 1. | B9: Họ và tên người sử dụng đất thu hồi: | F9: Lê Văn Tâm - Bùi Thị Lan
B10: Nơi ở hiện nay: | C10: Thôn Phố Gốt - Xã Phú Nghĩa - TP Hà Nội
B11: Nơi thường trú: | C11: Thôn Đông - xã Phú Nghĩa - TP Hà Nội
B12: Số định danh cá nhân: | C12: 001059033000
A13: 2. | B13: Họ và tên người sở hữu tài sản gắn liền với đất thu hồi: | F13: =F9 -> Lê Văn Tâm - Bùi Thị Lan
B14: Nơi ở hiện nay: | C14: =+C10 -> Thôn Phố Gốt - Xã Phú Nghĩa - TP Hà Nội
B15: Nơi thường trú: | C15: =C11 -> Thôn Đông - xã Phú Nghĩa - TP Hà Nội
B16: Số định danh cá nhân: | C16: =+C12 -> 001059033000
A17: II | B17: HIỆN TRẠNG SỦ DỤNG ĐẤT VÀ TÀI SẢN GẮN LIỀN VỚI ĐẤT THU HỒI:
A18: 1. | B18: Hiện trạng sử dụng đất:
B19: Thửa đất số: | C19: 64 | D19: Tờ bản đồ số: | F19: 06
B20: Diện tích thửa đất: | C20: 110.5 | D20: m2
B21: Trong đó:
B22: Trong chỉ giới GPMB: | C22: 37.1 | D22: m2
B23: Ngoài chỉ giới GPMB: | C23: =C20-C22 -> 73.4 | D23: m2
B24: Vị trí, địa điểm thu hồi đất: | C24: Vị trị 1 - Thôn Phố Gốt- xã Phú Nghĩa - TP Hà Nội
A25: 2. | B25: Nguồn gốc, thời gian sử dụng đất: | C25: - Hộ ông Lê Văn Tâm và bà Bùi Thị Lan được UBND huyện Chương Mỹ cấp giấy chứng nhận quyền sử dụng đất thửa số 264, tờ bản đồ số 38, số BL 467787, số vào sổ 00112 với diện tích 59m2 cấp ngày 22/04/2013. Mục đích sử dụng là đất ở tại nông thôn. Tổng diện tích hiện trạng sử dụng là 110,5m2, tăng 51,5m2 so với diện tích đất được cấp giấy chứng nhận. ' - Đối chiếu với các cạnh thửa đất giữa Bản đồ GPMB và giấy chứng nhận quyền sử dụng đất được cấp của hộ, xác định tăng 51,5m2 về phía Bắc giáp đường Quốc lộ 6. - Căn cứ Bản đồ phục vụ công tác GPMB, Nghị định số 203-HĐBT ngày 21/12/1982 của Hội đồng Bộ trưởng về việc ban hành điều lệ bảo vệ đường bộ; Giấy chứng nhận quyền sử dụng đất hộ ông Lê Văn Tâm và bà Bùi Thị Lan. Phòng Kinh tế xác định diện tích thu hồi 37,1m2 đất do hộ ông Lê Văn Tâm và bà Bùi Thị Lan sử dụng là đất giao thông Quốc lộ 6 (DGT).
A26: 3. | B26: Số hộ gia đình (số cặp vợ chồng): | H26: 0 | I26: hộ
A27: 4. | B27: Số nhân khẩu | H27: 0 | I27: khẩu
A28: III. | B28: PHƯƠNG ÁN BỒI THƯỜNG, HỖ TRỢ VÀ TÁI ĐỊNH CƯ:
A29: 1. | B29: Bồi thường về đất và tái định cư:
A30: TT | B30: Tiền Bồi thường (Giá trị quyền sử dụng đất của diện tích đất thu hồi)
B31: Loại đất | D31: Đơn vị tính | E31: Khối lượng | F31: Đơn giá (đồng/m2) | G31: Tỷ lệ BT, HT (%) | H31: Thành tiền 1 (đồng) | I31: Ghi chú
A32: 1 | B32: 2 | D32: 3 | E32: 4 | F32: 5 | G32: 6 | H32: 7 | I32: 8
A33: 1 | B33: Đất giao thông đường Quốc lộ 6 (DGT) | D33: m2 | E33: =C22 -> 37.1 | H33: =E33*F33*G33 -> 0
B34: Cộng: | H34: =SUM(H33:H33) -> 0
A36: 2. | B36: Bồi thường bằng đất ở hoặc nhà ở tái định cư (nếu có)
A37: TT | B37: Loại đất | D37: Đơn vị tính | E37: Khối lượng | F37: Đơn giá (đồng/m2) | G37: Tỷ lệ BT, HT (%) | H37: Thành tiền 2 (đồng) | I37: Ghi chú
A38: 1 | B38: 2 | D38: 3 | E38: 4 | F38: 5 | G38: 6 | H38: 7 | I38: 8
A39: 1 | I39: Không bố trí tái định cư.
B40: Cộng:
B42: Số tiền chênh lệch giữa tiền bồi thường đất thu hồi và tiền đất ở, nhà ở tái định cư được bố trí: | I42: Không
B43: * Người bị thu hồi đất được nhận (nếu thành tiền 1 lớn hơn thành tiền 2) | I43: Không
...

Sheet Nguyễn Vũ Mạnh (6-4)
A1: BAN QLDA ĐẦU TƯ XÂY DỰNG | E1: CỘNG HÒA XÃ HỘI CHỦ NGHĨA VIỆT NAM
A2: CÔNG TRÌNH GIAO THÔNG TP HÀ NỘI | E2: Độc lập - Tự do - Hạnh phúc
A4: DỰ THẢO | E4: Hà Nội, ngày tháng 3 năm 2026
A5: PHƯƠNG ÁN CHI TIẾT BỒI THƯỜNG, HỖ TRỢ VÀ TÁI ĐỊNH CƯ
A6: Dự án thành phần 1.2: Bồi thường, hỗ trợ và tái định cư thực hiện giải phóng mặt bằng trên địa bàn huyện Chương Mỹ thuộc Dự án đầu tư cải tạo, nâng cấp Quốc Lộ 6 đoạn Ba La - Xuân Mai (Trên địa giới hành chính xã Phú Nghĩa)
A7: (Kèm theo Thông báo số: /TB-UBND ngày /3/2026 của Ủy ban nhân dân xã Phú Nghĩa)
A8: I. | B8: NGƯỜI SỬ DỤNG ĐẤT VÀ SỞ HỮU TÀI SẢN GẮN LIỀN VỚI ĐẤT THU HỒI:
A9: 1. | B9: Họ và tên người sử dụng đất thu hồi: | F9: Nguyễn Vũ Mạnh
B10: Nơi ở hiện nay: | C10: Thôn Thanh Trì - xã Phú Nghĩa - TP Hà Nội
B11: Nơi thường trú: | C11: =+C10 -> Thôn Thanh Trì - xã Phú Nghĩa - TP Hà Nội
B12: Số định danh cá nhân: | C12: 001065037043
A13: 2. | B13: Họ và tên người sở hữu tài sản gắn liền với đất thu hồi: | F13: =F9 -> Nguyễn Vũ Mạnh
B14: Nơi ở hiện nay: | C14: =+C10 -> Thôn Thanh Trì - xã Phú Nghĩa - TP Hà Nội
B15: Nơi thường trú: | C15: =+C14 -> Thôn Thanh Trì - xã Phú Nghĩa - TP Hà Nội
B16: Số định danh cá nhân: | C16: =+C12 -> 001065037043
A17: II | B17: HIỆN TRẠNG SỦ DỤNG ĐẤT VÀ TÀI SẢN GẮN LIỀN VỚI ĐẤT THU HỒI:
A18: 1. | B18: Hiện trạng sử dụng đất:
B19: Thửa đất số: | C19: 04 | D19: Tờ bản đồ số: | F19: 06
B20: Diện tích thửa đất: | C20: 660.5 | D20: m2
B21: Trong đó:
B22: Trong chỉ giới GPMB: | C22: 256.6 | D22: m2
B23: Ngoài chỉ giới GPMB: | C23: =C20-C22 -> 403.9 | D23: m2
B24: Vị trí, địa điểm thu hồi đất: | C24: Quốc lộ 6 - Thôn Thanh Trì - xã Phú Nghĩa - TP Hà Nội
A25: 2. | B25: Nguồn gốc, thời gian sử dụng đất: | C25: - Ông Nguyễn Vũ Mạnh được UBND huyện Chương Mỹ cấp giấy chứng nhận QSD đất thửa số 103, tờ bản đồ số 38, số BL 008164, số vào sổ cấp giấy chứng nhận quyền sử dụng đất: 00518 với diện tích 300m2 cấp ngày 28/05/2012. Mục đích sử dụng là đất ở (180m2), đất trồng cây lâu năm (120m2). Tổng diện tích hiện trạng sử dụng là 660,5m2, tăng 360,5m2 so với diện tích đất được cấp giấy chứng nhận. '- Đối chiếu với các cạnh thửa đất giữa Bản đồ GPMB và giấy chứng nhận quyền sử dụng đất được cấp của hộ, xác định tăng 360,5m2 trong đó: Tăng 82,2m2 về phía Đông, tăng 278,3m2 về phía Nam giáp đường Quốc lộ 6. - Căn cứ Bản đồ phục vụ công tác GPMB; Nghị định số 203-HĐBT ngày 21/12/1982 của Hội đồng Bộ trưởng về việc ban hành điều lệ bảo vệ đường bộ, Giấy chứng nhận quyền sử dụng đất của ông Nguyễn Vũ Mạnh; Phòng Kinh tế xác định diện tích thu hồi 256,6m2 đất do ông Nguyễn Vũ Mạnh sử dụng là giao thông Quốc lộ 6 (DGT).
A26: 3. | B26: Số hộ gia đình (số cặp vợ chồng): | H26: 02 | I26: hộ
A27: 4. | B27: Số nhân khẩu | H27: 07 | I27: khẩu
A28: III. | B28: PHƯƠNG ÁN BỒI THƯỜNG, HỖ TRỢ VÀ TÁI ĐỊNH CƯ:
A29: 1. | B29: Bồi thường về đất và tái định cư:
A30: TT | B30: Tiền Bồi thường (Giá trị quyền sử dụng đất của diện tích đất thu hồi)
B31: Loại đất | D31: Đơn vị tính | E31: Khối lượng | F31: Đơn giá (đồng/m2) | G31: Tỷ lệ BT, HT (%) | H31: Thành tiền 1 (đồng) | I31: Ghi chú
A32: 1 | B32: 2 | D32: 3 | E32: 4 | F32: 5 | G32: 6 | H32: 7 | I32: 8
A33: 1 | B33: Đất giao thông đường Quốc lộ 6 (DGT) | D33: m2 | E33: =C22 -> 256.6 | H33: =E33*F33*G33 -> 0
B34: Cộng: | H34: =SUM(H33:H33) -> 0
A36: 2. | B36: Bồi thường bằng đất ở hoặc nhà ở tái định cư (nếu có)
A37: TT | B37: Loại đất | D37: Đơn vị tính | E37: Khối lượng | F37: Đơn giá (đồng/m2) | G37: Tỷ lệ BT, HT (%) | H37: Thành tiền 2 (đồng) | I37: Ghi chú
A38: 1 | B38: 2 | D38: 3 | E38: 4 | F38: 5 | G38: 6 | H38: 7 | I38: 8
A39: 1 | I39: Không bố trí tái định cư.
B40: Cộng:
B42: Số tiền chênh lệch giữa tiền bồi thường đất thu hồi và tiền đất ở, nhà ở tái định cư được bố trí: | I42: Không
B43: * Người bị thu hồi đất được nhận (nếu thành tiền 1 lớn hơn thành tiền 2) | I43: Không
...

Sheet Nguyễn Bá Ước (6-3)
A1: BAN QLDA ĐẦU TƯ XÂY DỰNG | E1: CỘNG HÒA XÃ HỘI CHỦ NGHĨA VIỆT NAM
A2: CÔNG TRÌNH GIAO THÔNG TP HÀ NỘI | E2: Độc lập - Tự do - Hạnh phúc
A4: DỰ THẢO | E4: Hà Nội, ngày tháng 3 năm 2026
A5: PHƯƠNG ÁN CHI TIẾT BỒI THƯỜNG, HỖ TRỢ VÀ TÁI ĐỊNH CƯ
A6: Dự án thành phần 1.2: Bồi thường, hỗ trợ và tái định cư thực hiện giải phóng mặt bằng trên địa bàn huyện Chương Mỹ thuộc Dự án đầu tư cải tạo, nâng cấp Quốc Lộ 6 đoạn Ba La - Xuân Mai (Trên địa giới hành chính xã Phú Nghĩa)
A7: (Kèm theo Thông báo số: /TB-UBND ngày /3/2026 của Ủy ban nhân dân xã Phú Nghĩa)
A8: I. | B8: NGƯỜI SỬ DỤNG ĐẤT VÀ SỞ HỮU TÀI SẢN GẮN LIỀN VỚI ĐẤT THU HỒI:
A9: 1. | B9: Họ và tên người sử dụng đất thu hồi: | F9: Nguyễn Bá Ước - Nguyễn Thị Xuân
B10: Nơi ở hiện nay: | C10: Thôn Thanh Trì - xã Phú Nghĩa - TP Hà Nội
B11: Nơi thường trú: | C11: =+C10 -> Thôn Thanh Trì - xã Phú Nghĩa - TP Hà Nội
B12: Số định danh cá nhân: | C12: 001065023600
A13: 2. | B13: Họ và tên người sở hữu tài sản gắn liền với đất thu hồi: | F13: =F9 -> Nguyễn Bá Ước - Nguyễn Thị Xuân
B14: Nơi ở hiện nay: | C14: =+C10 -> Thôn Thanh Trì - xã Phú Nghĩa - TP Hà Nội
B15: Nơi thường trú: | C15: =+C14 -> Thôn Thanh Trì - xã Phú Nghĩa - TP Hà Nội
B16: Số định danh cá nhân: | C16: =+C12 -> 001065023600
A17: II | B17: HIỆN TRẠNG SỦ DỤNG ĐẤT VÀ TÀI SẢN GẮN LIỀN VỚI ĐẤT THU HỒI:
A18: 1. | B18: Hiện trạng sử dụng đất:
B19: Thửa đất số: | C19: 06 | D19: Tờ bản đồ số: | F19: 03
B20: Diện tích thửa đất: | C20: 1087,7 | D20: m2
B21: Trong đó:
B22: Trong chỉ giới GPMB: | C22: 91 | D22: m2
B23: Ngoài chỉ giới GPMB: | C23: =C20-C22 -> 996.7 | D23: m2
